BEGIN:VCALENDAR
VERSION:2.0
PRODID:-//New Hope Christian Ministries - ECPv6.15.20//NONSGML v1.0//EN
CALSCALE:GREGORIAN
METHOD:PUBLISH
X-WR-CALNAME:New Hope Christian Ministries
X-ORIGINAL-URL:https://nhcministries.org
X-WR-CALDESC:Events for New Hope Christian Ministries
REFRESH-INTERVAL;VALUE=DURATION:PT1H
X-Robots-Tag:noindex
X-PUBLISHED-TTL:PT1H
BEGIN:VTIMEZONE
TZID:UTC
BEGIN:STANDARD
TZOFFSETFROM:+0000
TZOFFSETTO:+0000
TZNAME:UTC
DTSTART:20220101T000000
END:STANDARD
END:VTIMEZONE
BEGIN:VEVENT
DTSTART;TZID=UTC:20231031T190000
DTEND;TZID=UTC:20231031T193000
DTSTAMP:20260421T012320
CREATED:20231012T204908Z
LAST-MODIFIED:20231012T204908Z
UID:4581-1698778800-1698780600@nhcministries.org
SUMMARY:Intercessory Prayer 7:00 PM   Dial In Number : 605-313-4822; Access Code: 603429
DESCRIPTION:
URL:https://nhcministries.org/event/intercessory-prayer-700-pm-dial-in-number-605-313-4822-access-code-603429-138/
END:VEVENT
BEGIN:VEVENT
DTSTART;TZID=UTC:20231029T100000
DTEND;TZID=UTC:20231029T120000
DTSTAMP:20260421T012320
CREATED:20231012T205338Z
LAST-MODIFIED:20231012T205338Z
UID:4593-1698573600-1698580800@nhcministries.org
SUMMARY:Service 10:00 AM - In Person & Facebook
DESCRIPTION:
URL:https://nhcministries.org/event/service-1000-am-in-person-facebook-9/
END:VEVENT
BEGIN:VEVENT
DTSTART;TZID=UTC:20231029T093000
DTEND;TZID=UTC:20231029T100000
DTSTAMP:20260421T012320
CREATED:20231012T205815Z
LAST-MODIFIED:20231012T205815Z
UID:4605-1698571800-1698573600@nhcministries.org
SUMMARY:Sunday Morning Prayer 9:30 AM - In Person
DESCRIPTION:
URL:https://nhcministries.org/event/sunday-morning-prayer-930-am-in-person-136/
END:VEVENT
BEGIN:VEVENT
DTSTART;TZID=UTC:20231028T150000
DTEND;TZID=UTC:20231028T170000
DTSTAMP:20260421T012320
CREATED:20231012T210717Z
LAST-MODIFIED:20231012T210717Z
UID:4615-1698505200-1698512400@nhcministries.org
SUMMARY:Harvest Fest    3:00 - 5:00 PM
DESCRIPTION:
URL:https://nhcministries.org/event/harvest-fest-300-500-pm/
END:VEVENT
BEGIN:VEVENT
DTSTART;TZID=UTC:20231026T183000
DTEND;TZID=UTC:20231026T203000
DTSTAMP:20260421T012320
CREATED:20231012T195546Z
LAST-MODIFIED:20231012T195546Z
UID:4552-1698345000-1698352200@nhcministries.org
SUMMARY:Praise Team Rehearsal 6:30 PM
DESCRIPTION:
URL:https://nhcministries.org/event/praise-team-rehearsal-630-pm-134/
END:VEVENT
BEGIN:VEVENT
DTSTART;TZID=UTC:20231026T160000
DTEND;TZID=UTC:20231026T180000
DTSTAMP:20260421T012320
CREATED:20231012T204039Z
LAST-MODIFIED:20231012T204039Z
UID:4560-1698336000-1698343200@nhcministries.org
SUMMARY:Project Hope Food Pantry    4:00 PM - 6:00 PM
DESCRIPTION:
URL:https://nhcministries.org/event/project-hope-food-pantry-400-pm-600-pm-66/
END:VEVENT
BEGIN:VEVENT
DTSTART;TZID=UTC:20231025T193000
DTEND;TZID=UTC:20231025T203000
DTSTAMP:20260421T012320
CREATED:20231012T204521Z
LAST-MODIFIED:20231012T204521Z
UID:4570-1698262200-1698265800@nhcministries.org
SUMMARY:Bible Study - In-Person & Google Meet 7:30 PM
DESCRIPTION:
URL:https://nhcministries.org/event/bible-study-in-person-google-meet-730-pm-8/
END:VEVENT
BEGIN:VEVENT
DTSTART;TZID=UTC:20231024T190000
DTEND;TZID=UTC:20231024T193000
DTSTAMP:20260421T012320
CREATED:20231012T204836Z
LAST-MODIFIED:20231012T204836Z
UID:4579-1698174000-1698175800@nhcministries.org
SUMMARY:Intercessory Prayer 7:00 PM   Dial In Number : 605-313-4822; Access Code: 603429
DESCRIPTION:
URL:https://nhcministries.org/event/intercessory-prayer-700-pm-dial-in-number-605-313-4822-access-code-603429-137/
END:VEVENT
BEGIN:VEVENT
DTSTART;TZID=UTC:20231022T120000
DTEND;TZID=UTC:20231022T130000
DTSTAMP:20260421T012320
CREATED:20231012T210516Z
LAST-MODIFIED:20231012T210516Z
UID:4610-1697976000-1697979600@nhcministries.org
SUMMARY:Board of Directors Meeting
DESCRIPTION:
URL:https://nhcministries.org/event/board-of-directors-meeting-9/
END:VEVENT
BEGIN:VEVENT
DTSTART;TZID=UTC:20231022T100000
DTEND;TZID=UTC:20231022T120000
DTSTAMP:20260421T012320
CREATED:20231012T205301Z
LAST-MODIFIED:20231012T205301Z
UID:4591-1697968800-1697976000@nhcministries.org
SUMMARY:Service 10:00 AM - In Person & Facebook
DESCRIPTION:
URL:https://nhcministries.org/event/service-1000-am-in-person-facebook-8/
END:VEVENT
BEGIN:VEVENT
DTSTART;TZID=UTC:20231022T093000
DTEND;TZID=UTC:20231022T100000
DTSTAMP:20260421T012320
CREATED:20231012T205734Z
LAST-MODIFIED:20231012T205734Z
UID:4603-1697967000-1697968800@nhcministries.org
SUMMARY:Sunday Morning Prayer 9:30 AM - In Person
DESCRIPTION:
URL:https://nhcministries.org/event/sunday-morning-prayer-930-am-in-person-135/
END:VEVENT
BEGIN:VEVENT
DTSTART;TZID=UTC:20231021T090000
DTEND;TZID=UTC:20231021T100000
DTSTAMP:20260421T012320
CREATED:20231012T210238Z
LAST-MODIFIED:20231012T210238Z
UID:4607-1697878800-1697882400@nhcministries.org
SUMMARY:Women's Department Meeting - W.I.S.D.O.M. 9:00 AM  (605) 313-4822 Access Code 603429#
DESCRIPTION:
URL:https://nhcministries.org/event/womens-department-meeting-w-i-s-d-o-m-900-am-605-313-4822-access-code-603429-21/
END:VEVENT
BEGIN:VEVENT
DTSTART;TZID=UTC:20231020T190000
DTEND;TZID=UTC:20231020T203000
DTSTAMP:20260421T012320
CREATED:20231012T210933Z
LAST-MODIFIED:20231012T210933Z
UID:4618-1697828400-1697833800@nhcministries.org
SUMMARY:Fruit of the Spirit Service   Part 1  7:00 PM
DESCRIPTION:
URL:https://nhcministries.org/event/fruit-of-the-spirit-service-part-1-700-pm/
END:VEVENT
BEGIN:VEVENT
DTSTART;TZID=UTC:20231019T183000
DTEND;TZID=UTC:20231019T203000
DTSTAMP:20260421T012320
CREATED:20231012T195514Z
LAST-MODIFIED:20231012T195514Z
UID:4550-1697740200-1697747400@nhcministries.org
SUMMARY:Praise Team Rehearsal 6:30 PM
DESCRIPTION:
URL:https://nhcministries.org/event/praise-team-rehearsal-630-pm-133/
END:VEVENT
BEGIN:VEVENT
DTSTART;TZID=UTC:20231019T160000
DTEND;TZID=UTC:20231019T180000
DTSTAMP:20260421T012320
CREATED:20231012T204001Z
LAST-MODIFIED:20231012T204001Z
UID:4558-1697731200-1697738400@nhcministries.org
SUMMARY:Project Hope Food Pantry    4:00 PM - 6:00 PM
DESCRIPTION:
URL:https://nhcministries.org/event/project-hope-food-pantry-400-pm-600-pm-65/
END:VEVENT
BEGIN:VEVENT
DTSTART;TZID=UTC:20231018T193000
DTEND;TZID=UTC:20231018T203000
DTSTAMP:20260421T012320
CREATED:20231012T204438Z
LAST-MODIFIED:20231012T204438Z
UID:4567-1697657400-1697661000@nhcministries.org
SUMMARY:Bible Study - In-Person & Google Meet 7:30 PM
DESCRIPTION:
URL:https://nhcministries.org/event/bible-study-in-person-google-meet-730-pm-7/
END:VEVENT
BEGIN:VEVENT
DTSTART;TZID=UTC:20231017T190000
DTEND;TZID=UTC:20231017T193000
DTSTAMP:20260421T012320
CREATED:20231012T204801Z
LAST-MODIFIED:20231012T204801Z
UID:4576-1697569200-1697571000@nhcministries.org
SUMMARY:Intercessory Prayer 7:00 PM   Dial In Number : 605-313-4822; Access Code: 603429
DESCRIPTION:
URL:https://nhcministries.org/event/intercessory-prayer-700-pm-dial-in-number-605-313-4822-access-code-603429-136/
END:VEVENT
BEGIN:VEVENT
DTSTART;TZID=UTC:20231015T100000
DTEND;TZID=UTC:20231015T120000
DTSTAMP:20260421T012320
CREATED:20231012T205226Z
LAST-MODIFIED:20231012T205226Z
UID:4589-1697364000-1697371200@nhcministries.org
SUMMARY:Service 10:00 AM - In Person & Facebook
DESCRIPTION:
URL:https://nhcministries.org/event/service-1000-am-in-person-facebook-7/
END:VEVENT
BEGIN:VEVENT
DTSTART;TZID=UTC:20231015T093000
DTEND;TZID=UTC:20231015T100000
DTSTAMP:20260421T012320
CREATED:20231012T205706Z
LAST-MODIFIED:20231012T205706Z
UID:4601-1697362200-1697364000@nhcministries.org
SUMMARY:Sunday Morning Prayer 9:30 AM - In Person
DESCRIPTION:
URL:https://nhcministries.org/event/sunday-morning-prayer-930-am-in-person-134/
END:VEVENT
BEGIN:VEVENT
DTSTART;TZID=UTC:20231012T183000
DTEND;TZID=UTC:20231012T203000
DTSTAMP:20260421T012320
CREATED:20231012T195435Z
LAST-MODIFIED:20231012T195435Z
UID:4548-1697135400-1697142600@nhcministries.org
SUMMARY:Praise Team Rehearsal 6:30 PM
DESCRIPTION:
URL:https://nhcministries.org/event/praise-team-rehearsal-630-pm-132/
END:VEVENT
BEGIN:VEVENT
DTSTART;TZID=UTC:20231012T160000
DTEND;TZID=UTC:20231012T180000
DTSTAMP:20260421T012320
CREATED:20231012T203929Z
LAST-MODIFIED:20231012T203929Z
UID:4556-1697126400-1697133600@nhcministries.org
SUMMARY:Project Hope Food Pantry    4:00 PM - 6:00 PM
DESCRIPTION:
URL:https://nhcministries.org/event/project-hope-food-pantry-400-pm-600-pm-64/
END:VEVENT
BEGIN:VEVENT
DTSTART;TZID=UTC:20231011T193000
DTEND;TZID=UTC:20231011T203000
DTSTAMP:20260421T012320
CREATED:20231012T204403Z
LAST-MODIFIED:20231012T204403Z
UID:4564-1697052600-1697056200@nhcministries.org
SUMMARY:Bible Study - In-Person & Google Meet 7:30 PM
DESCRIPTION:
URL:https://nhcministries.org/event/bible-study-in-person-google-meet-730-pm-6/
END:VEVENT
BEGIN:VEVENT
DTSTART;TZID=UTC:20231010T190000
DTEND;TZID=UTC:20231010T193000
DTSTAMP:20260421T012320
CREATED:20231012T204722Z
LAST-MODIFIED:20231012T204722Z
UID:4574-1696964400-1696966200@nhcministries.org
SUMMARY:Intercessory Prayer 7:00 PM   Dial In Number : 605-313-4822; Access Code: 603429
DESCRIPTION:
URL:https://nhcministries.org/event/intercessory-prayer-700-pm-dial-in-number-605-313-4822-access-code-603429-135/
END:VEVENT
BEGIN:VEVENT
DTSTART;TZID=UTC:20231008T150000
DTEND;TZID=UTC:20231008T170000
DTSTAMP:20260421T012320
CREATED:20231012T211033Z
LAST-MODIFIED:20231012T211033Z
UID:4620-1696777200-1696784400@nhcministries.org
SUMMARY:Evening Service 3:00 - 5:00 PM
DESCRIPTION:
URL:https://nhcministries.org/event/evening-service-300-500-pm/
END:VEVENT
BEGIN:VEVENT
DTSTART;TZID=UTC:20231008T100000
DTEND;TZID=UTC:20231008T120000
DTSTAMP:20260421T012320
CREATED:20231012T205148Z
LAST-MODIFIED:20231012T205148Z
UID:4586-1696759200-1696766400@nhcministries.org
SUMMARY:Service 10:00 AM - In Person & Facebook
DESCRIPTION:
URL:https://nhcministries.org/event/service-1000-am-in-person-facebook-6/
END:VEVENT
BEGIN:VEVENT
DTSTART;TZID=UTC:20231008T093000
DTEND;TZID=UTC:20231008T100000
DTSTAMP:20260421T012320
CREATED:20231012T205630Z
LAST-MODIFIED:20231012T205630Z
UID:4598-1696757400-1696759200@nhcministries.org
SUMMARY:Sunday Morning Prayer 9:30 AM - In Person
DESCRIPTION:
URL:https://nhcministries.org/event/sunday-morning-prayer-930-am-in-person-133/
END:VEVENT
BEGIN:VEVENT
DTSTART;TZID=UTC:20231007T090000
DTEND;TZID=UTC:20231007T100000
DTSTAMP:20260421T012320
CREATED:20231012T210611Z
LAST-MODIFIED:20231012T210611Z
UID:4613-1696669200-1696672800@nhcministries.org
SUMMARY:Men's Ministry Meeting    9:00 AM
DESCRIPTION:
URL:https://nhcministries.org/event/mens-ministry-meeting-900-am-6/
END:VEVENT
BEGIN:VEVENT
DTSTART;TZID=UTC:20231005T183000
DTEND;TZID=UTC:20231005T203000
DTSTAMP:20260421T012320
CREATED:20231012T195355Z
LAST-MODIFIED:20231012T195355Z
UID:4546-1696530600-1696537800@nhcministries.org
SUMMARY:Praise Team Rehearsal 6:30 PM
DESCRIPTION:
URL:https://nhcministries.org/event/praise-team-rehearsal-630-pm-131/
END:VEVENT
BEGIN:VEVENT
DTSTART;TZID=UTC:20231005T160000
DTEND;TZID=UTC:20231005T180000
DTSTAMP:20260421T012320
CREATED:20231012T203855Z
LAST-MODIFIED:20231012T203855Z
UID:4554-1696521600-1696528800@nhcministries.org
SUMMARY:Project Hope Food Pantry    4:00 PM - 6:00 PM
DESCRIPTION:
URL:https://nhcministries.org/event/project-hope-food-pantry-400-pm-600-pm-63/
END:VEVENT
BEGIN:VEVENT
DTSTART;TZID=UTC:20231004T193000
DTEND;TZID=UTC:20231004T203000
DTSTAMP:20260421T012320
CREATED:20231012T204318Z
LAST-MODIFIED:20231012T204318Z
UID:4562-1696447800-1696451400@nhcministries.org
SUMMARY:Bible Study - In-Person & Google Meet 7:30 PM
DESCRIPTION:
URL:https://nhcministries.org/event/bible-study-in-person-google-meet-730-pm-5/
END:VEVENT
END:VCALENDAR