BEGIN:VCALENDAR
VERSION:2.0
PRODID:-//New Hope Christian Ministries - ECPv6.15.20//NONSGML v1.0//EN
CALSCALE:GREGORIAN
METHOD:PUBLISH
X-WR-CALNAME:New Hope Christian Ministries
X-ORIGINAL-URL:https://nhcministries.org
X-WR-CALDESC:Events for New Hope Christian Ministries
REFRESH-INTERVAL;VALUE=DURATION:PT1H
X-Robots-Tag:noindex
X-PUBLISHED-TTL:PT1H
BEGIN:VTIMEZONE
TZID:America/New_York
BEGIN:DAYLIGHT
TZOFFSETFROM:-0500
TZOFFSETTO:-0400
TZNAME:EDT
DTSTART:20250309T070000
END:DAYLIGHT
BEGIN:STANDARD
TZOFFSETFROM:-0400
TZOFFSETTO:-0500
TZNAME:EST
DTSTART:20251102T060000
END:STANDARD
BEGIN:DAYLIGHT
TZOFFSETFROM:-0500
TZOFFSETTO:-0400
TZNAME:EDT
DTSTART:20260308T070000
END:DAYLIGHT
BEGIN:STANDARD
TZOFFSETFROM:-0400
TZOFFSETTO:-0500
TZNAME:EST
DTSTART:20261101T060000
END:STANDARD
BEGIN:DAYLIGHT
TZOFFSETFROM:-0500
TZOFFSETTO:-0400
TZNAME:EDT
DTSTART:20270314T070000
END:DAYLIGHT
BEGIN:STANDARD
TZOFFSETFROM:-0400
TZOFFSETTO:-0500
TZNAME:EST
DTSTART:20271107T060000
END:STANDARD
END:VTIMEZONE
BEGIN:VEVENT
DTSTART;TZID=America/New_York:20260412T140000
DTEND;TZID=America/New_York:20260412T150000
DTSTAMP:20260421T075850
CREATED:20260324T141652Z
LAST-MODIFIED:20260324T141652Z
UID:6365-1776002400-1776006000@nhcministries.org
SUMMARY:Visit to H.H. Riverhouse
DESCRIPTION:
URL:https://nhcministries.org/event/visit-to-h-h-riverhouse/
END:VEVENT
BEGIN:VEVENT
DTSTART;TZID=America/New_York:20260412T100000
DTEND;TZID=America/New_York:20260412T120000
DTSTAMP:20260421T075850
CREATED:20260324T132942Z
LAST-MODIFIED:20260324T132942Z
UID:6288-1775988000-1775995200@nhcministries.org
SUMMARY:Worship Service - In Person & Facebook
DESCRIPTION:
URL:https://nhcministries.org/event/worship-service-in-person-facebook-36/
END:VEVENT
BEGIN:VEVENT
DTSTART;TZID=America/New_York:20260412T093000
DTEND;TZID=America/New_York:20260412T100000
DTSTAMP:20260421T075850
CREATED:20260324T133318Z
LAST-MODIFIED:20260324T133318Z
UID:6296-1775986200-1775988000@nhcministries.org
SUMMARY:Morning Prayer - In Person
DESCRIPTION:
URL:https://nhcministries.org/event/morning-prayer-in-person-36/
END:VEVENT
BEGIN:VEVENT
DTSTART;VALUE=DATE:20260412
DTEND;VALUE=DATE:20260413
DTSTAMP:20260421T075850
CREATED:20260324T141900Z
LAST-MODIFIED:20260324T141900Z
UID:6367-1775952000-1776038399@nhcministries.org
SUMMARY:Crochet Ministry Table
DESCRIPTION:
URL:https://nhcministries.org/event/crochet-ministry-table-2/
END:VEVENT
BEGIN:VEVENT
DTSTART;TZID=America/New_York:20260409T183000
DTEND;TZID=America/New_York:20260409T200000
DTSTAMP:20260421T075850
CREATED:20260324T134236Z
LAST-MODIFIED:20260324T134236Z
UID:6311-1775759400-1775764800@nhcministries.org
SUMMARY:Praise Team Rehearsal
DESCRIPTION:
URL:https://nhcministries.org/event/praise-team-rehearsal-35/
END:VEVENT
BEGIN:VEVENT
DTSTART;TZID=America/New_York:20260409T160000
DTEND;TZID=America/New_York:20260409T180000
DTSTAMP:20260421T075850
CREATED:20260324T134627Z
LAST-MODIFIED:20260324T134627Z
UID:6321-1775750400-1775757600@nhcministries.org
SUMMARY:Project Hope Food Pantry
DESCRIPTION:
URL:https://nhcministries.org/event/project-hope-food-pantry-34/
END:VEVENT
BEGIN:VEVENT
DTSTART;TZID=America/New_York:20260408T190000
DTEND;TZID=America/New_York:20260408T200000
DTSTAMP:20260421T075850
CREATED:20260324T140208Z
LAST-MODIFIED:20260324T140208Z
UID:6349-1775674800-1775678400@nhcministries.org
SUMMARY:Bible Study - Google Meet
DESCRIPTION:
URL:https://nhcministries.org/event/bible-study-google-meet-30/
END:VEVENT
BEGIN:VEVENT
DTSTART;TZID=America/New_York:20260408T183000
DTEND;TZID=America/New_York:20260408T190000
DTSTAMP:20260421T075850
CREATED:20260324T135633Z
LAST-MODIFIED:20260324T135633Z
UID:6337-1775673000-1775674800@nhcministries.org
SUMMARY:Auxiliary Meeting
DESCRIPTION:
URL:https://nhcministries.org/event/auxiliary-meeting-38/
END:VEVENT
BEGIN:VEVENT
DTSTART;TZID=America/New_York:20260407T190000
DTEND;TZID=America/New_York:20260407T200000
DTSTAMP:20260421T075850
CREATED:20260324T132329Z
LAST-MODIFIED:20260324T132329Z
UID:6276-1775588400-1775592000@nhcministries.org
SUMMARY:Intercessory Prayer   Dial In Number : 605-313-4822; Access Code: 603429
DESCRIPTION:
URL:https://nhcministries.org/event/intercessory-prayer-dial-in-number-605-313-4822-access-code-603429-37/
END:VEVENT
BEGIN:VEVENT
DTSTART;TZID=America/New_York:20260405T100000
DTEND;TZID=America/New_York:20260405T120000
DTSTAMP:20260421T075850
CREATED:20260324T132911Z
LAST-MODIFIED:20260324T132911Z
UID:6286-1775383200-1775390400@nhcministries.org
SUMMARY:Worship Service - In Person & Facebook
DESCRIPTION:
URL:https://nhcministries.org/event/worship-service-in-person-facebook-35/
END:VEVENT
BEGIN:VEVENT
DTSTART;TZID=America/New_York:20260405T093000
DTEND;TZID=America/New_York:20260405T100000
DTSTAMP:20260421T075850
CREATED:20260324T133241Z
LAST-MODIFIED:20260324T133241Z
UID:6294-1775381400-1775383200@nhcministries.org
SUMMARY:Morning Prayer - In Person
DESCRIPTION:
URL:https://nhcministries.org/event/morning-prayer-in-person-35/
END:VEVENT
BEGIN:VEVENT
DTSTART;TZID=America/New_York:20260404T090000
DTEND;TZID=America/New_York:20260404T100000
DTSTAMP:20260421T075850
CREATED:20260324T135043Z
LAST-MODIFIED:20260324T135043Z
UID:6329-1775293200-1775296800@nhcministries.org
SUMMARY:Men's Ministry Meeting
DESCRIPTION:
URL:https://nhcministries.org/event/mens-ministry-meeting-7/
END:VEVENT
BEGIN:VEVENT
DTSTART;TZID=America/New_York:20260403T190000
DTEND;TZID=America/New_York:20260403T210000
DTSTAMP:20260421T075850
CREATED:20260324T135311Z
LAST-MODIFIED:20260324T135311Z
UID:6333-1775242800-1775250000@nhcministries.org
SUMMARY:7 Last Sayings 7:00 PM
DESCRIPTION:
URL:https://nhcministries.org/event/7-last-sayings-700-pm/
END:VEVENT
BEGIN:VEVENT
DTSTART;TZID=America/New_York:20260403T070000
DTEND;TZID=America/New_York:20260403T073000
DTSTAMP:20260421T075850
CREATED:20260324T135210Z
LAST-MODIFIED:20260324T135210Z
UID:6331-1775199600-1775201400@nhcministries.org
SUMMARY:Corporate Prayer
DESCRIPTION:
URL:https://nhcministries.org/event/corporate-prayer-10/
END:VEVENT
BEGIN:VEVENT
DTSTART;TZID=America/New_York:20260402T183000
DTEND;TZID=America/New_York:20260402T200000
DTSTAMP:20260421T075850
CREATED:20260324T134158Z
LAST-MODIFIED:20260324T134158Z
UID:6309-1775154600-1775160000@nhcministries.org
SUMMARY:Praise Team Rehearsal
DESCRIPTION:
URL:https://nhcministries.org/event/praise-team-rehearsal-34/
END:VEVENT
BEGIN:VEVENT
DTSTART;TZID=America/New_York:20260402T160000
DTEND;TZID=America/New_York:20260402T180000
DTSTAMP:20260421T075850
CREATED:20260324T134557Z
LAST-MODIFIED:20260324T134557Z
UID:6319-1775145600-1775152800@nhcministries.org
SUMMARY:Project Hope Food Pantry
DESCRIPTION:
URL:https://nhcministries.org/event/project-hope-food-pantry-33/
END:VEVENT
BEGIN:VEVENT
DTSTART;TZID=America/New_York:20260401T190000
DTEND;TZID=America/New_York:20260401T200000
DTSTAMP:20260421T075850
CREATED:20260324T140020Z
LAST-MODIFIED:20260324T140020Z
UID:6345-1775070000-1775073600@nhcministries.org
SUMMARY:Bible Study - Google Meet
DESCRIPTION:
URL:https://nhcministries.org/event/bible-study-google-meet-28/
END:VEVENT
BEGIN:VEVENT
DTSTART;TZID=America/New_York:20260401T183000
DTEND;TZID=America/New_York:20260401T190000
DTSTAMP:20260421T075850
CREATED:20260324T135559Z
LAST-MODIFIED:20260324T135559Z
UID:6335-1775068200-1775070000@nhcministries.org
SUMMARY:Auxiliary Meeting
DESCRIPTION:
URL:https://nhcministries.org/event/auxiliary-meeting-37/
END:VEVENT
BEGIN:VEVENT
DTSTART;TZID=America/New_York:20260401T060000
DTEND;TZID=America/New_York:20260404T180000
DTSTAMP:20260421T075850
CREATED:20260324T132217Z
LAST-MODIFIED:20260324T132217Z
UID:6274-1775023200-1775325600@nhcministries.org
SUMMARY:Corporate Fast
DESCRIPTION:
URL:https://nhcministries.org/event/corporate-fast-2/
END:VEVENT
BEGIN:VEVENT
DTSTART;TZID=America/New_York:20260331T190000
DTEND;TZID=America/New_York:20260331T193000
DTSTAMP:20260421T075850
CREATED:20260205T141921Z
LAST-MODIFIED:20260205T141921Z
UID:6237-1774983600-1774985400@nhcministries.org
SUMMARY:Intercessory Prayer   Dial In Number : 605-313-4822; Access Code: 603429
DESCRIPTION:
URL:https://nhcministries.org/event/intercessory-prayer-dial-in-number-605-313-4822-access-code-603429-36/
END:VEVENT
BEGIN:VEVENT
DTSTART;TZID=America/New_York:20260329T100000
DTEND;TZID=America/New_York:20260329T120000
DTSTAMP:20260421T075850
CREATED:20260205T142357Z
LAST-MODIFIED:20260205T142357Z
UID:6248-1774778400-1774785600@nhcministries.org
SUMMARY:Worship Service - In Person & Facebook
DESCRIPTION:
URL:https://nhcministries.org/event/worship-service-in-person-facebook-34/
END:VEVENT
BEGIN:VEVENT
DTSTART;TZID=America/New_York:20260329T093000
DTEND;TZID=America/New_York:20260329T100000
DTSTAMP:20260421T075850
CREATED:20260205T142748Z
LAST-MODIFIED:20260205T142748Z
UID:6258-1774776600-1774778400@nhcministries.org
SUMMARY:Morning Prayer - In Person
DESCRIPTION:
URL:https://nhcministries.org/event/morning-prayer-in-person-34/
END:VEVENT
BEGIN:VEVENT
DTSTART;VALUE=DATE:20260329
DTEND;VALUE=DATE:20260330
DTSTAMP:20260421T075850
CREATED:20260205T143815Z
LAST-MODIFIED:20260205T143815Z
UID:6270-1774742400-1774828799@nhcministries.org
SUMMARY:Back-to-School Supply Drive
DESCRIPTION:
URL:https://nhcministries.org/event/back-to-school-supply-drive-3/
END:VEVENT
BEGIN:VEVENT
DTSTART;VALUE=DATE:20260329
DTEND;VALUE=DATE:20260330
DTSTAMP:20260421T075850
CREATED:20260205T143035Z
LAST-MODIFIED:20260205T143035Z
UID:6262-1774742400-1774828799@nhcministries.org
SUMMARY:5th Sunday Fellowship
DESCRIPTION:
URL:https://nhcministries.org/event/5th-sunday-fellowship-11/
END:VEVENT
BEGIN:VEVENT
DTSTART;VALUE=DATE:20260329
DTEND;VALUE=DATE:20260330
DTSTAMP:20260421T075850
CREATED:20260205T142952Z
LAST-MODIFIED:20260205T142952Z
UID:6260-1774742400-1774828799@nhcministries.org
SUMMARY:Back-to-School Supply Drive
DESCRIPTION:
URL:https://nhcministries.org/event/back-to-school-supply-drive-2/
END:VEVENT
BEGIN:VEVENT
DTSTART;TZID=America/New_York:20260328T120000
DTEND;TZID=America/New_York:20260328T170000
DTSTAMP:20260421T075850
CREATED:20260205T134725Z
LAST-MODIFIED:20260205T134725Z
UID:6188-1774699200-1774717200@nhcministries.org
SUMMARY:Prayer Stations
DESCRIPTION:
URL:https://nhcministries.org/event/prayer-stations/
END:VEVENT
BEGIN:VEVENT
DTSTART;TZID=America/New_York:20260328T110000
DTEND;TZID=America/New_York:20260328T120000
DTSTAMP:20260421T075850
CREATED:20260205T134214Z
LAST-MODIFIED:20260205T134214Z
UID:6183-1774695600-1774699200@nhcministries.org
SUMMARY:S.A.L.T. Meeting
DESCRIPTION:
URL:https://nhcministries.org/event/s-a-l-t-meeting-7/
END:VEVENT
BEGIN:VEVENT
DTSTART;TZID=America/New_York:20260328T093000
DTEND;TZID=America/New_York:20260328T110000
DTSTAMP:20260421T075850
CREATED:20260205T134453Z
LAST-MODIFIED:20260205T134642Z
UID:6185-1774690200-1774695600@nhcministries.org
SUMMARY:Ministry Team Meeting
DESCRIPTION:
URL:https://nhcministries.org/event/ministry-team/
END:VEVENT
BEGIN:VEVENT
DTSTART;TZID=America/New_York:20260326T183000
DTEND;TZID=America/New_York:20260326T200000
DTSTAMP:20260421T075850
CREATED:20260205T135220Z
LAST-MODIFIED:20260205T135630Z
UID:6199-1774549800-1774555200@nhcministries.org
SUMMARY:Praise Team Rehearsal
DESCRIPTION:
URL:https://nhcministries.org/event/praise-team-rehearsal-33/
END:VEVENT
BEGIN:VEVENT
DTSTART;TZID=America/New_York:20260326T160000
DTEND;TZID=America/New_York:20260326T180000
DTSTAMP:20260421T075850
CREATED:20260205T135445Z
LAST-MODIFIED:20260205T135843Z
UID:6209-1774540800-1774548000@nhcministries.org
SUMMARY:Project Hope Food Pantry
DESCRIPTION:
URL:https://nhcministries.org/event/project-hope-food-pantry-32/
END:VEVENT
END:VCALENDAR