BEGIN:VCALENDAR
VERSION:2.0
PRODID:-//New Hope Christian Ministries - ECPv6.15.20//NONSGML v1.0//EN
CALSCALE:GREGORIAN
METHOD:PUBLISH
X-WR-CALNAME:New Hope Christian Ministries
X-ORIGINAL-URL:https://nhcministries.org
X-WR-CALDESC:Events for New Hope Christian Ministries
REFRESH-INTERVAL;VALUE=DURATION:PT1H
X-Robots-Tag:noindex
X-PUBLISHED-TTL:PT1H
BEGIN:VTIMEZONE
TZID:UTC
BEGIN:STANDARD
TZOFFSETFROM:+0000
TZOFFSETTO:+0000
TZNAME:UTC
DTSTART:20220101T000000
END:STANDARD
END:VTIMEZONE
BEGIN:VEVENT
DTSTART;TZID=UTC:20230803T183000
DTEND;TZID=UTC:20230803T203000
DTSTAMP:20260420T200213
CREATED:20230731T224444Z
LAST-MODIFIED:20230731T224444Z
UID:4446-1691087400-1691094600@nhcministries.org
SUMMARY:Praise Team Rehearsal 6:30 PM
DESCRIPTION:
URL:https://nhcministries.org/event/praise-team-rehearsal-630-pm-122/
END:VEVENT
BEGIN:VEVENT
DTSTART;TZID=UTC:20230803T160000
DTEND;TZID=UTC:20230803T180000
DTSTAMP:20260420T200213
CREATED:20230629T202331Z
LAST-MODIFIED:20230731T222512Z
UID:4347-1691078400-1691085600@nhcministries.org
SUMMARY:Project Hope Food Pantry    4:00 PM - 6:00 PM
DESCRIPTION:
URL:https://nhcministries.org/event/project-hope-food-pantry-400-pm-600-pm-53/
END:VEVENT
BEGIN:VEVENT
DTSTART;TZID=UTC:20230802T193000
DTEND;TZID=UTC:20230802T203000
DTSTAMP:20260420T200213
CREATED:20230731T223108Z
LAST-MODIFIED:20230731T223108Z
UID:4436-1691004600-1691008200@nhcministries.org
SUMMARY:Bible Study - Google Meet 7:30 PM
DESCRIPTION:
URL:https://nhcministries.org/event/bible-study-google-meet-730-pm-21/
END:VEVENT
BEGIN:VEVENT
DTSTART;TZID=UTC:20230801T190000
DTEND;TZID=UTC:20230801T193000
DTSTAMP:20260420T200213
CREATED:20230629T202946Z
LAST-MODIFIED:20230731T221542Z
UID:4361-1690916400-1690918200@nhcministries.org
SUMMARY:Intercessory Prayer 7:00 PM   Dial In Number : 605-313-4822; Access Code: 603429
DESCRIPTION:
URL:https://nhcministries.org/event/intercessory-prayer-700-pm-dial-in-number-605-313-4822-access-code-603429-125/
END:VEVENT
BEGIN:VEVENT
DTSTART;TZID=UTC:20230730T100000
DTEND;TZID=UTC:20230730T120000
DTSTAMP:20260420T200213
CREATED:20230629T203454Z
LAST-MODIFIED:20230629T203454Z
UID:4371-1690711200-1690718400@nhcministries.org
SUMMARY:Worship Service 10:00 AM - In Person & Facebook
DESCRIPTION:
URL:https://nhcministries.org/event/worship-service-1000-am-in-person-facebook-88/
END:VEVENT
BEGIN:VEVENT
DTSTART;TZID=UTC:20230730T093000
DTEND;TZID=UTC:20230730T100000
DTSTAMP:20260420T200213
CREATED:20230629T203916Z
LAST-MODIFIED:20230629T203916Z
UID:4381-1690709400-1690711200@nhcministries.org
SUMMARY:Sunday Morning Prayer 9:30 AM - In Person
DESCRIPTION:
URL:https://nhcministries.org/event/sunday-morning-prayer-930-am-in-person-124/
END:VEVENT
BEGIN:VEVENT
DTSTART;VALUE=DATE:20230730
DTEND;VALUE=DATE:20230731
DTSTAMP:20260420T200213
CREATED:20230629T210224Z
LAST-MODIFIED:20230629T210224Z
UID:4387-1690675200-1690761599@nhcministries.org
SUMMARY:5th Sunday Fellowship
DESCRIPTION:
URL:https://nhcministries.org/event/5th-sunday-fellowship-10/
END:VEVENT
BEGIN:VEVENT
DTSTART;TZID=UTC:20230727T160000
DTEND;TZID=UTC:20230727T180000
DTSTAMP:20260420T200213
CREATED:20230629T202436Z
LAST-MODIFIED:20230629T202436Z
UID:4349-1690473600-1690480800@nhcministries.org
SUMMARY:Project Hope Food Pantry    4:00 PM - 6:00 PM
DESCRIPTION:
URL:https://nhcministries.org/event/project-hope-food-pantry-400-pm-600-pm-54/
END:VEVENT
BEGIN:VEVENT
DTSTART;TZID=UTC:20230726T180000
DTEND;TZID=UTC:20230728T200000
DTSTAMP:20260420T200213
CREATED:20230629T211705Z
LAST-MODIFIED:20230629T214130Z
UID:4391-1690394400-1690574400@nhcministries.org
SUMMARY:Vacation Bible School   July 26th - July 28th    6:00 PM - 8:00 PM Nightly
DESCRIPTION:
URL:https://nhcministries.org/event/vacation-bible-school-600-pm-800-pm/
END:VEVENT
BEGIN:VEVENT
DTSTART;TZID=UTC:20230723T120000
DTEND;TZID=UTC:20230723T130000
DTSTAMP:20260420T200213
CREATED:20230629T211456Z
LAST-MODIFIED:20230629T211456Z
UID:4389-1690113600-1690117200@nhcministries.org
SUMMARY:Board of Directors Meeting
DESCRIPTION:
URL:https://nhcministries.org/event/board-of-directors-meeting-8/
END:VEVENT
BEGIN:VEVENT
DTSTART;TZID=UTC:20230723T100000
DTEND;TZID=UTC:20230723T120000
DTSTAMP:20260420T200213
CREATED:20230629T203420Z
LAST-MODIFIED:20230629T203420Z
UID:4369-1690106400-1690113600@nhcministries.org
SUMMARY:Worship Service 10:00 AM - In Person & Facebook
DESCRIPTION:
URL:https://nhcministries.org/event/worship-service-1000-am-in-person-facebook-87/
END:VEVENT
BEGIN:VEVENT
DTSTART;TZID=UTC:20230723T093000
DTEND;TZID=UTC:20230723T100000
DTSTAMP:20260420T200213
CREATED:20230629T203842Z
LAST-MODIFIED:20230629T203842Z
UID:4379-1690104600-1690106400@nhcministries.org
SUMMARY:Sunday Morning Prayer 9:30 AM - In Person
DESCRIPTION:
URL:https://nhcministries.org/event/sunday-morning-prayer-930-am-in-person-123/
END:VEVENT
BEGIN:VEVENT
DTSTART;TZID=UTC:20230720T183000
DTEND;TZID=UTC:20230720T203000
DTSTAMP:20260420T200213
CREATED:20230629T201734Z
LAST-MODIFIED:20230629T201734Z
UID:4341-1689877800-1689885000@nhcministries.org
SUMMARY:Praise Team Rehearsal 6:30 PM
DESCRIPTION:
URL:https://nhcministries.org/event/praise-team-rehearsal-630-pm-121/
END:VEVENT
BEGIN:VEVENT
DTSTART;TZID=UTC:20230719T193000
DTEND;TZID=UTC:20230719T203000
DTSTAMP:20260420T200213
CREATED:20230629T202723Z
LAST-MODIFIED:20230629T202723Z
UID:4355-1689795000-1689798600@nhcministries.org
SUMMARY:Bible Study - Google Meet 7:30 PM
DESCRIPTION:
URL:https://nhcministries.org/event/bible-study-google-meet-730-pm-20/
END:VEVENT
BEGIN:VEVENT
DTSTART;TZID=UTC:20230718T190000
DTEND;TZID=UTC:20230718T193000
DTSTAMP:20260420T200213
CREATED:20230629T202912Z
LAST-MODIFIED:20230629T202912Z
UID:4359-1689706800-1689708600@nhcministries.org
SUMMARY:Intercessory Prayer 7:00 PM   Dial In Number : 605-313-4822; Access Code: 603429
DESCRIPTION:
URL:https://nhcministries.org/event/intercessory-prayer-700-pm-dial-in-number-605-313-4822-access-code-603429-124/
END:VEVENT
BEGIN:VEVENT
DTSTART;TZID=UTC:20230716T100000
DTEND;TZID=UTC:20230716T120000
DTSTAMP:20260420T200213
CREATED:20230629T203346Z
LAST-MODIFIED:20230629T203346Z
UID:4367-1689501600-1689508800@nhcministries.org
SUMMARY:Worship Service 10:00 AM - In Person & Facebook
DESCRIPTION:
URL:https://nhcministries.org/event/worship-service-1000-am-in-person-facebook-86/
END:VEVENT
BEGIN:VEVENT
DTSTART;TZID=UTC:20230716T093000
DTEND;TZID=UTC:20230716T100000
DTSTAMP:20260420T200213
CREATED:20230629T203810Z
LAST-MODIFIED:20230629T203810Z
UID:4377-1689499800-1689501600@nhcministries.org
SUMMARY:Sunday Morning Prayer 9:30 AM - In Person
DESCRIPTION:
URL:https://nhcministries.org/event/sunday-morning-prayer-930-am-in-person-122/
END:VEVENT
BEGIN:VEVENT
DTSTART;TZID=UTC:20230715T113000
DTEND;TZID=UTC:20230715T140000
DTSTAMP:20260420T200213
CREATED:20230629T214339Z
LAST-MODIFIED:20230629T214339Z
UID:4398-1689420600-1689429600@nhcministries.org
SUMMARY:The Women That Jesus Healed Portrayal    Light Lunch 11:30 AM    Portrayal 1:00 PM
DESCRIPTION:
URL:https://nhcministries.org/event/the-women-that-jesus-healed-portrayal-light-lunch-1130-am-portrayal-100-pm/
END:VEVENT
BEGIN:VEVENT
DTSTART;TZID=UTC:20230713T183000
DTEND;TZID=UTC:20230713T203000
DTSTAMP:20260420T200213
CREATED:20230629T201644Z
LAST-MODIFIED:20230629T201644Z
UID:4339-1689273000-1689280200@nhcministries.org
SUMMARY:Praise Team Rehearsal 6:30 PM
DESCRIPTION:
URL:https://nhcministries.org/event/praise-team-rehearsal-630-pm-120/
END:VEVENT
BEGIN:VEVENT
DTSTART;TZID=UTC:20230713T160000
DTEND;TZID=UTC:20230713T180000
DTSTAMP:20260420T200213
CREATED:20230629T202258Z
LAST-MODIFIED:20230629T202258Z
UID:4345-1689264000-1689271200@nhcministries.org
SUMMARY:Project Hope Food Pantry    4:00 PM - 6:00 PM
DESCRIPTION:
URL:https://nhcministries.org/event/project-hope-food-pantry-400-pm-600-pm-52/
END:VEVENT
BEGIN:VEVENT
DTSTART;TZID=UTC:20230712T193000
DTEND;TZID=UTC:20230712T203000
DTSTAMP:20260420T200213
CREATED:20230629T202645Z
LAST-MODIFIED:20230629T202645Z
UID:4353-1689190200-1689193800@nhcministries.org
SUMMARY:Bible Study - Google Meet 7:30 PM
DESCRIPTION:
URL:https://nhcministries.org/event/bible-study-google-meet-730-pm-19/
END:VEVENT
BEGIN:VEVENT
DTSTART;TZID=UTC:20230711T190000
DTEND;TZID=UTC:20230711T193000
DTSTAMP:20260420T200213
CREATED:20230629T202836Z
LAST-MODIFIED:20230629T202836Z
UID:4357-1689102000-1689103800@nhcministries.org
SUMMARY:Intercessory Prayer 7:00 PM   Dial In Number : 605-313-4822; Access Code: 603429
DESCRIPTION:
URL:https://nhcministries.org/event/intercessory-prayer-700-pm-dial-in-number-605-313-4822-access-code-603429-123/
END:VEVENT
BEGIN:VEVENT
DTSTART;TZID=UTC:20230709T100000
DTEND;TZID=UTC:20230709T120000
DTSTAMP:20260420T200213
CREATED:20230629T203301Z
LAST-MODIFIED:20230629T203301Z
UID:4365-1688896800-1688904000@nhcministries.org
SUMMARY:Worship Service 10:00 AM - In Person & Facebook
DESCRIPTION:
URL:https://nhcministries.org/event/worship-service-1000-am-in-person-facebook-85/
END:VEVENT
BEGIN:VEVENT
DTSTART;TZID=UTC:20230709T093000
DTEND;TZID=UTC:20230709T100000
DTSTAMP:20260420T200213
CREATED:20230629T203735Z
LAST-MODIFIED:20230629T203735Z
UID:4375-1688895000-1688896800@nhcministries.org
SUMMARY:Sunday Morning Prayer 9:30 AM - In Person
DESCRIPTION:
URL:https://nhcministries.org/event/sunday-morning-prayer-930-am-in-person-121/
END:VEVENT
BEGIN:VEVENT
DTSTART;TZID=UTC:20230706T183000
DTEND;TZID=UTC:20230706T203000
DTSTAMP:20260420T200213
CREATED:20230629T201601Z
LAST-MODIFIED:20230629T201601Z
UID:4337-1688668200-1688675400@nhcministries.org
SUMMARY:Praise Team Rehearsal 6:30 PM
DESCRIPTION:
URL:https://nhcministries.org/event/praise-team-rehearsal-630-pm-119/
END:VEVENT
BEGIN:VEVENT
DTSTART;TZID=UTC:20230706T160000
DTEND;TZID=UTC:20230706T180000
DTSTAMP:20260420T200213
CREATED:20230629T202219Z
LAST-MODIFIED:20230629T202219Z
UID:4343-1688659200-1688666400@nhcministries.org
SUMMARY:Project Hope Food Pantry    4:00 PM - 6:00 PM
DESCRIPTION:
URL:https://nhcministries.org/event/project-hope-food-pantry-400-pm-600-pm-51/
END:VEVENT
BEGIN:VEVENT
DTSTART;TZID=UTC:20230705T193000
DTEND;TZID=UTC:20230705T203000
DTSTAMP:20260420T200213
CREATED:20230629T202613Z
LAST-MODIFIED:20230629T202613Z
UID:4351-1688585400-1688589000@nhcministries.org
SUMMARY:Bible Study - Google Meet 7:30 PM
DESCRIPTION:
URL:https://nhcministries.org/event/bible-study-google-meet-730-pm-18/
END:VEVENT
BEGIN:VEVENT
DTSTART;VALUE=DATE:20230703
DTEND;VALUE=DATE:20230708
DTSTAMP:20260420T200213
CREATED:20230629T213801Z
LAST-MODIFIED:20230629T214029Z
UID:4394-1688342400-1688774399@nhcministries.org
SUMMARY:Popcorn Fundraiser July 3rd - July 7th
DESCRIPTION:
URL:https://nhcministries.org/event/popcorn-fundraiser/
END:VEVENT
BEGIN:VEVENT
DTSTART;TZID=UTC:20230702T100000
DTEND;TZID=UTC:20230702T120000
DTSTAMP:20260420T200213
CREATED:20230629T203217Z
LAST-MODIFIED:20230629T203217Z
UID:4363-1688292000-1688299200@nhcministries.org
SUMMARY:Worship Service 10:00 AM - In Person & Facebook
DESCRIPTION:
URL:https://nhcministries.org/event/worship-service-1000-am-in-person-facebook-84/
END:VEVENT
BEGIN:VEVENT
DTSTART;TZID=UTC:20230702T093000
DTEND;TZID=UTC:20230702T100000
DTSTAMP:20260420T200213
CREATED:20230629T203647Z
LAST-MODIFIED:20230629T203647Z
UID:4373-1688290200-1688292000@nhcministries.org
SUMMARY:Sunday Morning Prayer 9:30 AM - In Person
DESCRIPTION:
URL:https://nhcministries.org/event/sunday-morning-prayer-930-am-in-person-120/
END:VEVENT
END:VCALENDAR