BEGIN:VCALENDAR
VERSION:2.0
PRODID:-//New Hope Christian Ministries - ECPv6.15.20//NONSGML v1.0//EN
CALSCALE:GREGORIAN
METHOD:PUBLISH
X-ORIGINAL-URL:https://nhcministries.org
X-WR-CALDESC:Events for New Hope Christian Ministries
REFRESH-INTERVAL;VALUE=DURATION:PT1H
X-Robots-Tag:noindex
X-PUBLISHED-TTL:PT1H
BEGIN:VTIMEZONE
TZID:America/New_York
BEGIN:DAYLIGHT
TZOFFSETFROM:-0500
TZOFFSETTO:-0400
TZNAME:EDT
DTSTART:20240310T070000
END:DAYLIGHT
BEGIN:STANDARD
TZOFFSETFROM:-0400
TZOFFSETTO:-0500
TZNAME:EST
DTSTART:20241103T060000
END:STANDARD
BEGIN:DAYLIGHT
TZOFFSETFROM:-0500
TZOFFSETTO:-0400
TZNAME:EDT
DTSTART:20250309T070000
END:DAYLIGHT
BEGIN:STANDARD
TZOFFSETFROM:-0400
TZOFFSETTO:-0500
TZNAME:EST
DTSTART:20251102T060000
END:STANDARD
BEGIN:DAYLIGHT
TZOFFSETFROM:-0500
TZOFFSETTO:-0400
TZNAME:EDT
DTSTART:20260308T070000
END:DAYLIGHT
BEGIN:STANDARD
TZOFFSETFROM:-0400
TZOFFSETTO:-0500
TZNAME:EST
DTSTART:20261101T060000
END:STANDARD
END:VTIMEZONE
BEGIN:VEVENT
DTSTART;TZID=America/New_York:20251105T190000
DTEND;TZID=America/New_York:20251105T200000
DTSTAMP:20260420T200231
CREATED:20251028T121227Z
LAST-MODIFIED:20251028T124422Z
UID:5829-1762369200-1762372800@nhcministries.org
SUMMARY:Bible Study - Google Meet
DESCRIPTION:
URL:https://nhcministries.org/event/bible-study-google-meet-10/
END:VEVENT
BEGIN:VEVENT
DTSTART;TZID=America/New_York:20251106T160000
DTEND;TZID=America/New_York:20251106T180000
DTSTAMP:20260420T200231
CREATED:20251028T120934Z
LAST-MODIFIED:20251028T120934Z
UID:5820-1762444800-1762452000@nhcministries.org
SUMMARY:Project Hope Food Pantry
DESCRIPTION:
URL:https://nhcministries.org/event/project-hope-food-pantry-15/
END:VEVENT
BEGIN:VEVENT
DTSTART;TZID=America/New_York:20251106T183000
DTEND;TZID=America/New_York:20251106T200000
DTSTAMP:20260420T200231
CREATED:20251028T115330Z
LAST-MODIFIED:20251028T115330Z
UID:5814-1762453800-1762459200@nhcministries.org
SUMMARY:Praise Team Rehearsal
DESCRIPTION:
URL:https://nhcministries.org/event/praise-team-rehearsal-16/
END:VEVENT
BEGIN:VEVENT
DTSTART;TZID=America/New_York:20251107T070000
DTEND;TZID=America/New_York:20251107T073000
DTSTAMP:20260420T200231
CREATED:20251028T125943Z
LAST-MODIFIED:20251028T125943Z
UID:5898-1762498800-1762500600@nhcministries.org
SUMMARY:Corporate Prayer
DESCRIPTION:
URL:https://nhcministries.org/event/corporate-prayer-5/
END:VEVENT
BEGIN:VEVENT
DTSTART;TZID=America/New_York:20251109T093000
DTEND;TZID=America/New_York:20251109T100000
DTSTAMP:20260420T200231
CREATED:20251028T124017Z
LAST-MODIFIED:20251028T124017Z
UID:5873-1762680600-1762682400@nhcministries.org
SUMMARY:Morning Prayer - In Person
DESCRIPTION:
URL:https://nhcministries.org/event/morning-prayer-in-person-14/
END:VEVENT
BEGIN:VEVENT
DTSTART;TZID=America/New_York:20251109T100000
DTEND;TZID=America/New_York:20251109T120000
DTSTAMP:20260420T200231
CREATED:20251028T123442Z
LAST-MODIFIED:20251028T123442Z
UID:5860-1762682400-1762689600@nhcministries.org
SUMMARY:Worship Service - In Person & Facebook
DESCRIPTION:
URL:https://nhcministries.org/event/worship-service-in-person-facebook-14/
END:VEVENT
BEGIN:VEVENT
DTSTART;TZID=America/New_York:20251109T160000
DTEND;TZID=America/New_York:20251109T180000
DTSTAMP:20260420T200231
CREATED:20251028T125339Z
LAST-MODIFIED:20251028T125339Z
UID:5893-1762704000-1762711200@nhcministries.org
SUMMARY:Pastor's Pre-Anniversary Service
DESCRIPTION:
URL:https://nhcministries.org/event/pastors-pre-anniversary-service-2/
END:VEVENT
BEGIN:VEVENT
DTSTART;TZID=America/New_York:20251111T190000
DTEND;TZID=America/New_York:20251111T193000
DTSTAMP:20260420T200231
CREATED:20251028T122605Z
LAST-MODIFIED:20251028T122605Z
UID:5849-1762887600-1762889400@nhcministries.org
SUMMARY:Intercessory Prayer   Dial In Number : 605-313-4822; Access Code: 603429
DESCRIPTION:
URL:https://nhcministries.org/event/intercessory-prayer-dial-in-number-605-313-4822-access-code-603429-16/
END:VEVENT
BEGIN:VEVENT
DTSTART;TZID=America/New_York:20251112T183000
DTEND;TZID=America/New_York:20251112T190000
DTSTAMP:20260420T200231
CREATED:20251028T122103Z
LAST-MODIFIED:20251028T122103Z
UID:5841-1762972200-1762974000@nhcministries.org
SUMMARY:Auxiliary Meeting
DESCRIPTION:
URL:https://nhcministries.org/event/auxiliary-meeting-20/
END:VEVENT
BEGIN:VEVENT
DTSTART;TZID=America/New_York:20251112T190000
DTEND;TZID=America/New_York:20251112T200000
DTSTAMP:20260420T200231
CREATED:20251028T121327Z
LAST-MODIFIED:20251028T121719Z
UID:5831-1762974000-1762977600@nhcministries.org
SUMMARY:Bible Study - Google Meet
DESCRIPTION:
URL:https://nhcministries.org/event/bible-study-google-meet-11/
END:VEVENT
BEGIN:VEVENT
DTSTART;TZID=America/New_York:20251113T160000
DTEND;TZID=America/New_York:20251113T180000
DTSTAMP:20260420T200231
CREATED:20251028T121048Z
LAST-MODIFIED:20251028T121048Z
UID:5823-1763049600-1763056800@nhcministries.org
SUMMARY:Project Hope Food Pantry
DESCRIPTION:
URL:https://nhcministries.org/event/project-hope-food-pantry-16/
END:VEVENT
BEGIN:VEVENT
DTSTART;TZID=America/New_York:20251113T183000
DTEND;TZID=America/New_York:20251113T200000
DTSTAMP:20260420T200231
CREATED:20251028T115417Z
LAST-MODIFIED:20251028T115417Z
UID:5816-1763058600-1763064000@nhcministries.org
SUMMARY:Praise Team Rehearsal
DESCRIPTION:
URL:https://nhcministries.org/event/praise-team-rehearsal-17/
END:VEVENT
BEGIN:VEVENT
DTSTART;TZID=America/New_York:20251114T103000
DTEND;TZID=America/New_York:20251114T113000
DTSTAMP:20260420T200231
CREATED:20251028T125627Z
LAST-MODIFIED:20251028T125627Z
UID:5896-1763116200-1763119800@nhcministries.org
SUMMARY:Nursing Home Visit to H.H. Riverhouse
DESCRIPTION:
URL:https://nhcministries.org/event/nursing-home-visit-to-h-h-riverhouse-2/
END:VEVENT
BEGIN:VEVENT
DTSTART;TZID=America/New_York:20251115T090000
DTEND;TZID=America/New_York:20251115T100000
DTSTAMP:20260420T200231
CREATED:20251028T125100Z
LAST-MODIFIED:20251028T125100Z
UID:5889-1763197200-1763200800@nhcministries.org
SUMMARY:Women's Department Meeting - W.I.S.D.O.M.   (605) 313-4822 Access Code 603429#
DESCRIPTION:
URL:https://nhcministries.org/event/womens-department-meeting-w-i-s-d-o-m-605-313-4822-access-code-603429-4/
END:VEVENT
BEGIN:VEVENT
DTSTART;TZID=America/New_York:20251116T093000
DTEND;TZID=America/New_York:20251116T100000
DTSTAMP:20260420T200231
CREATED:20251028T124103Z
LAST-MODIFIED:20251028T124103Z
UID:5876-1763285400-1763287200@nhcministries.org
SUMMARY:Morning Prayer - In Person
DESCRIPTION:
URL:https://nhcministries.org/event/morning-prayer-in-person-15/
END:VEVENT
BEGIN:VEVENT
DTSTART;TZID=America/New_York:20251116T100000
DTEND;TZID=America/New_York:20251116T120000
DTSTAMP:20260420T200231
CREATED:20251028T123522Z
LAST-MODIFIED:20251028T123522Z
UID:5863-1763287200-1763294400@nhcministries.org
SUMMARY:Worship Service - In Person & Facebook
DESCRIPTION:
URL:https://nhcministries.org/event/worship-service-in-person-facebook-15/
END:VEVENT
BEGIN:VEVENT
DTSTART;TZID=America/New_York:20251118T190000
DTEND;TZID=America/New_York:20251118T193000
DTSTAMP:20260420T200231
CREATED:20251028T122717Z
LAST-MODIFIED:20251028T122717Z
UID:5852-1763492400-1763494200@nhcministries.org
SUMMARY:Intercessory Prayer   Dial In Number : 605-313-4822; Access Code: 603429
DESCRIPTION:
URL:https://nhcministries.org/event/intercessory-prayer-dial-in-number-605-313-4822-access-code-603429-17/
END:VEVENT
BEGIN:VEVENT
DTSTART;TZID=America/New_York:20251119T183000
DTEND;TZID=America/New_York:20251119T190000
DTSTAMP:20260420T200231
CREATED:20251028T122149Z
LAST-MODIFIED:20251028T122149Z
UID:5844-1763577000-1763578800@nhcministries.org
SUMMARY:Auxiliary Meeting
DESCRIPTION:
URL:https://nhcministries.org/event/auxiliary-meeting-21/
END:VEVENT
BEGIN:VEVENT
DTSTART;TZID=America/New_York:20251119T190000
DTEND;TZID=America/New_York:20251119T200000
DTSTAMP:20260420T200231
CREATED:20251028T121425Z
LAST-MODIFIED:20251028T121425Z
UID:5834-1763578800-1763582400@nhcministries.org
SUMMARY:Bible Study - Google Meet
DESCRIPTION:
URL:https://nhcministries.org/event/bible-study-google-meet-12/
END:VEVENT
BEGIN:VEVENT
DTSTART;TZID=America/New_York:20251120T160000
DTEND;TZID=America/New_York:20251120T180000
DTSTAMP:20260420T200231
CREATED:20251028T121118Z
LAST-MODIFIED:20251028T121118Z
UID:5825-1763654400-1763661600@nhcministries.org
SUMMARY:Project Hope Food Pantry
DESCRIPTION:
URL:https://nhcministries.org/event/project-hope-food-pantry-17/
END:VEVENT
BEGIN:VEVENT
DTSTART;TZID=America/New_York:20251120T183000
DTEND;TZID=America/New_York:20251120T200000
DTSTAMP:20260420T200231
CREATED:20251028T115451Z
LAST-MODIFIED:20251028T115451Z
UID:5818-1763663400-1763668800@nhcministries.org
SUMMARY:Praise Team Rehearsal
DESCRIPTION:
URL:https://nhcministries.org/event/praise-team-rehearsal-18/
END:VEVENT
BEGIN:VEVENT
DTSTART;TZID=America/New_York:20251122T093000
DTEND;TZID=America/New_York:20251122T110000
DTSTAMP:20260420T200231
CREATED:20251028T124802Z
LAST-MODIFIED:20251028T124802Z
UID:5887-1763803800-1763809200@nhcministries.org
SUMMARY:S.A.L.T. Meeting
DESCRIPTION:
URL:https://nhcministries.org/event/s-a-l-t-meeting-4/
END:VEVENT
BEGIN:VEVENT
DTSTART;TZID=America/New_York:20251122T110000
DTEND;TZID=America/New_York:20251122T120000
DTSTAMP:20260420T200231
CREATED:20251028T124636Z
LAST-MODIFIED:20251028T124636Z
UID:5884-1763809200-1763812800@nhcministries.org
SUMMARY:Ministry Team Meeting
DESCRIPTION:
URL:https://nhcministries.org/event/ministry-team-meeting-6/
END:VEVENT
BEGIN:VEVENT
DTSTART;TZID=America/New_York:20251123T093000
DTEND;TZID=America/New_York:20251123T100000
DTSTAMP:20260420T200231
CREATED:20251028T124155Z
LAST-MODIFIED:20251028T124155Z
UID:5878-1763890200-1763892000@nhcministries.org
SUMMARY:Morning Prayer - In Person
DESCRIPTION:
URL:https://nhcministries.org/event/morning-prayer-in-person-16/
END:VEVENT
BEGIN:VEVENT
DTSTART;TZID=America/New_York:20251123T100000
DTEND;TZID=America/New_York:20251123T120000
DTSTAMP:20260420T200231
CREATED:20251028T123559Z
LAST-MODIFIED:20251028T123559Z
UID:5866-1763892000-1763899200@nhcministries.org
SUMMARY:Worship Service - In Person & Facebook
DESCRIPTION:
URL:https://nhcministries.org/event/worship-service-in-person-facebook-16/
END:VEVENT
BEGIN:VEVENT
DTSTART;TZID=America/New_York:20251125T190000
DTEND;TZID=America/New_York:20251125T193000
DTSTAMP:20260420T200231
CREATED:20251028T122803Z
LAST-MODIFIED:20251028T122803Z
UID:5854-1764097200-1764099000@nhcministries.org
SUMMARY:Intercessory Prayer   Dial In Number : 605-313-4822; Access Code: 603429
DESCRIPTION:
URL:https://nhcministries.org/event/intercessory-prayer-dial-in-number-605-313-4822-access-code-603429-18/
END:VEVENT
BEGIN:VEVENT
DTSTART;TZID=America/New_York:20251130T093000
DTEND;TZID=America/New_York:20251130T100000
DTSTAMP:20260420T200231
CREATED:20251028T124238Z
LAST-MODIFIED:20251028T124238Z
UID:5880-1764495000-1764496800@nhcministries.org
SUMMARY:Morning Prayer - In Person
DESCRIPTION:
URL:https://nhcministries.org/event/morning-prayer-in-person-17/
END:VEVENT
BEGIN:VEVENT
DTSTART;TZID=America/New_York:20251130T100000
DTEND;TZID=America/New_York:20251130T120000
DTSTAMP:20260420T200231
CREATED:20251028T123638Z
LAST-MODIFIED:20251028T123638Z
UID:5868-1764496800-1764504000@nhcministries.org
SUMMARY:Worship Service - In Person & Facebook
DESCRIPTION:
URL:https://nhcministries.org/event/worship-service-in-person-facebook-17/
END:VEVENT
BEGIN:VEVENT
DTSTART;TZID=America/New_York:20251202T190000
DTEND;TZID=America/New_York:20251202T193000
DTSTAMP:20260420T200231
CREATED:20251028T132056Z
LAST-MODIFIED:20251028T132056Z
UID:5932-1764702000-1764703800@nhcministries.org
SUMMARY:Intercessory Prayer   Dial In Number : 605-313-4822; Access Code: 603429
DESCRIPTION:
URL:https://nhcministries.org/event/intercessory-prayer-dial-in-number-605-313-4822-access-code-603429-19/
END:VEVENT
BEGIN:VEVENT
DTSTART;TZID=America/New_York:20251203T183000
DTEND;TZID=America/New_York:20251203T190000
DTSTAMP:20260420T200231
CREATED:20251028T135400Z
LAST-MODIFIED:20251028T135400Z
UID:5960-1764786600-1764788400@nhcministries.org
SUMMARY:Auxiliary Meeting
DESCRIPTION:
URL:https://nhcministries.org/event/auxiliary-meeting-22/
END:VEVENT
END:VCALENDAR