BEGIN:VCALENDAR
VERSION:2.0
PRODID:-//New Hope Christian Ministries - ECPv6.15.20//NONSGML v1.0//EN
CALSCALE:GREGORIAN
METHOD:PUBLISH
X-WR-CALNAME:New Hope Christian Ministries
X-ORIGINAL-URL:https://nhcministries.org
X-WR-CALDESC:Events for New Hope Christian Ministries
REFRESH-INTERVAL;VALUE=DURATION:PT1H
X-Robots-Tag:noindex
X-PUBLISHED-TTL:PT1H
BEGIN:VTIMEZONE
TZID:UTC
BEGIN:STANDARD
TZOFFSETFROM:+0000
TZOFFSETTO:+0000
TZNAME:UTC
DTSTART:20220101T000000
END:STANDARD
END:VTIMEZONE
BEGIN:VEVENT
DTSTART;TZID=UTC:20230701T090000
DTEND;TZID=UTC:20230701T100000
DTSTAMP:20260421T005620
CREATED:20230530T171327Z
LAST-MODIFIED:20230629T212730Z
UID:4329-1688202000-1688205600@nhcministries.org
SUMMARY:Men's Ministry Meeting   9:00 AM
DESCRIPTION:
URL:https://nhcministries.org/event/mens-ministry-meeting-900-am-5/
END:VEVENT
BEGIN:VEVENT
DTSTART;TZID=UTC:20230629T183000
DTEND;TZID=UTC:20230629T203000
DTSTAMP:20260421T005620
CREATED:20230530T170633Z
LAST-MODIFIED:20230530T170706Z
UID:4315-1688063400-1688070600@nhcministries.org
SUMMARY:Praise Team Rehearsal 6:30 PM
DESCRIPTION:
URL:https://nhcministries.org/event/praise-team-rehearsal-630-pm-118/
END:VEVENT
BEGIN:VEVENT
DTSTART;TZID=UTC:20230629T160000
DTEND;TZID=UTC:20230629T180000
DTSTAMP:20260421T005620
CREATED:20230530T171124Z
LAST-MODIFIED:20230530T171149Z
UID:4327-1688054400-1688061600@nhcministries.org
SUMMARY:Project Hope Food Pantry    4:00 PM - 6:00 PM
DESCRIPTION:
URL:https://nhcministries.org/event/project-hope-food-pantry-400-pm-600-pm-50/
END:VEVENT
BEGIN:VEVENT
DTSTART;TZID=UTC:20230628T193000
DTEND;TZID=UTC:20230628T203000
DTSTAMP:20260421T005620
CREATED:20230530T164219Z
LAST-MODIFIED:20230530T164246Z
UID:4269-1687980600-1687984200@nhcministries.org
SUMMARY:Bible Study - Google Meet 7:30 PM
DESCRIPTION:
URL:https://nhcministries.org/event/bible-study-google-meet-730-pm-17/
END:VEVENT
BEGIN:VEVENT
DTSTART;TZID=UTC:20230627T190000
DTEND;TZID=UTC:20230627T193000
DTSTAMP:20260421T005620
CREATED:20230530T164634Z
LAST-MODIFIED:20230530T164657Z
UID:4277-1687892400-1687894200@nhcministries.org
SUMMARY:Intercessory Prayer 7:00 PM   Dial In Number : 605-313-4822; Access Code: 603429
DESCRIPTION:
URL:https://nhcministries.org/event/intercessory-prayer-700-pm-dial-in-number-605-313-4822-access-code-603429-122/
END:VEVENT
BEGIN:VEVENT
DTSTART;TZID=UTC:20230625T100000
DTEND;TZID=UTC:20230625T120000
DTSTAMP:20260421T005620
CREATED:20230530T165049Z
LAST-MODIFIED:20230530T165115Z
UID:4285-1687687200-1687694400@nhcministries.org
SUMMARY:Worship Service 10:00 AM - In Person & Facebook
DESCRIPTION:
URL:https://nhcministries.org/event/worship-service-1000-am-in-person-facebook-83/
END:VEVENT
BEGIN:VEVENT
DTSTART;TZID=UTC:20230625T093000
DTEND;TZID=UTC:20230625T100000
DTSTAMP:20260421T005620
CREATED:20230530T165753Z
LAST-MODIFIED:20230530T165822Z
UID:4299-1687685400-1687687200@nhcministries.org
SUMMARY:Sunday Morning Prayer 9:30 AM - In Person
DESCRIPTION:
URL:https://nhcministries.org/event/sunday-morning-prayer-930-am-in-person-118/
END:VEVENT
BEGIN:VEVENT
DTSTART;VALUE=DATE:20230625
DTEND;VALUE=DATE:20230626
DTSTAMP:20260421T005620
CREATED:20230530T165304Z
LAST-MODIFIED:20230530T165337Z
UID:4289-1687651200-1687737599@nhcministries.org
SUMMARY:Shepherds Care Bake Sale
DESCRIPTION:
URL:https://nhcministries.org/event/shepherds-care-bake-sale/
END:VEVENT
BEGIN:VEVENT
DTSTART;TZID=UTC:20230624T140000
DTEND;TZID=UTC:20230624T143000
DTSTAMP:20260421T005620
CREATED:20230530T170148Z
LAST-MODIFIED:20230530T170222Z
UID:4303-1687615200-1687617000@nhcministries.org
SUMMARY:Farmers Market Fresh Produce  2:00 PM - 2:30 PM
DESCRIPTION:
URL:https://nhcministries.org/event/farmers-market-fresh-produce-200-pm-230-pm-3/
END:VEVENT
BEGIN:VEVENT
DTSTART;TZID=UTC:20230622T183000
DTEND;TZID=UTC:20230622T203000
DTSTAMP:20260421T005620
CREATED:20230530T170521Z
LAST-MODIFIED:20230530T170620Z
UID:4313-1687458600-1687465800@nhcministries.org
SUMMARY:Praise Team Rehearsal 6:30 PM
DESCRIPTION:
URL:https://nhcministries.org/event/praise-team-rehearsal-630-pm-117/
END:VEVENT
BEGIN:VEVENT
DTSTART;TZID=UTC:20230622T160000
DTEND;TZID=UTC:20230622T180000
DTSTAMP:20260421T005620
CREATED:20230530T171039Z
LAST-MODIFIED:20230530T171113Z
UID:4324-1687449600-1687456800@nhcministries.org
SUMMARY:Project Hope Food Pantry    4:00 PM - 6:00 PM
DESCRIPTION:
URL:https://nhcministries.org/event/project-hope-food-pantry-400-pm-600-pm-49/
END:VEVENT
BEGIN:VEVENT
DTSTART;TZID=UTC:20230621T193000
DTEND;TZID=UTC:20230621T203000
DTSTAMP:20260421T005620
CREATED:20230530T164148Z
LAST-MODIFIED:20230530T164211Z
UID:4267-1687375800-1687379400@nhcministries.org
SUMMARY:Bible Study - Google Meet 7:30 PM
DESCRIPTION:
URL:https://nhcministries.org/event/bible-study-google-meet-730-pm-16/
END:VEVENT
BEGIN:VEVENT
DTSTART;TZID=UTC:20230620T190000
DTEND;TZID=UTC:20230620T193000
DTSTAMP:20260421T005620
CREATED:20230530T164556Z
LAST-MODIFIED:20230530T164627Z
UID:4275-1687287600-1687289400@nhcministries.org
SUMMARY:Intercessory Prayer 7:00 PM   Dial In Number : 605-313-4822; Access Code: 603429
DESCRIPTION:
URL:https://nhcministries.org/event/intercessory-prayer-700-pm-dial-in-number-605-313-4822-access-code-603429-121/
END:VEVENT
BEGIN:VEVENT
DTSTART;TZID=UTC:20230618T100000
DTEND;TZID=UTC:20230618T120000
DTSTAMP:20260421T005620
CREATED:20230530T165014Z
LAST-MODIFIED:20230530T165036Z
UID:4283-1687082400-1687089600@nhcministries.org
SUMMARY:Worship Service 10:00 AM - In Person & Facebook
DESCRIPTION:
URL:https://nhcministries.org/event/worship-service-1000-am-in-person-facebook-82/
END:VEVENT
BEGIN:VEVENT
DTSTART;TZID=UTC:20230618T093000
DTEND;TZID=UTC:20230618T103000
DTSTAMP:20260421T005620
CREATED:20230530T165650Z
LAST-MODIFIED:20230530T165719Z
UID:4297-1687080600-1687084200@nhcministries.org
SUMMARY:Sunday Morning Prayer 9:30 AM - In Person
DESCRIPTION:
URL:https://nhcministries.org/event/sunday-morning-prayer-930-am-in-person-117/
END:VEVENT
BEGIN:VEVENT
DTSTART;VALUE=DATE:20230618
DTEND;VALUE=DATE:20230619
DTSTAMP:20260421T005620
CREATED:20230530T165215Z
LAST-MODIFIED:20230530T165257Z
UID:4287-1687046400-1687132799@nhcministries.org
SUMMARY:Father's Day
DESCRIPTION:
URL:https://nhcministries.org/event/fathers-day-2/
END:VEVENT
BEGIN:VEVENT
DTSTART;VALUE=DATE:20230617
DTEND;VALUE=DATE:20230618
DTSTAMP:20260421T005620
CREATED:20230530T172635Z
LAST-MODIFIED:20230530T172800Z
UID:4332-1686960000-1687046399@nhcministries.org
SUMMARY:LIVINGANGELS4U & PROJECT HOPE - DAY OF CARING
DESCRIPTION:
URL:https://nhcministries.org/event/livingangels4u-project-hope-day-of-caring/
END:VEVENT
BEGIN:VEVENT
DTSTART;TZID=UTC:20230615T183000
DTEND;TZID=UTC:20230615T203000
DTSTAMP:20260421T005620
CREATED:20230530T170445Z
LAST-MODIFIED:20230530T170513Z
UID:4310-1686853800-1686861000@nhcministries.org
SUMMARY:Praise Team Rehearsal 6:30 PM
DESCRIPTION:
URL:https://nhcministries.org/event/praise-team-rehearsal-630-pm-116/
END:VEVENT
BEGIN:VEVENT
DTSTART;TZID=UTC:20230615T160000
DTEND;TZID=UTC:20230615T180000
DTSTAMP:20260421T005620
CREATED:20230530T171002Z
LAST-MODIFIED:20230530T171031Z
UID:4322-1686844800-1686852000@nhcministries.org
SUMMARY:Project Hope Food Pantry    4:00 PM - 6:00 PM
DESCRIPTION:
URL:https://nhcministries.org/event/project-hope-food-pantry-400-pm-600-pm-48/
END:VEVENT
BEGIN:VEVENT
DTSTART;TZID=UTC:20230614T193000
DTEND;TZID=UTC:20230614T203000
DTSTAMP:20260421T005620
CREATED:20230530T164102Z
LAST-MODIFIED:20230530T164136Z
UID:4265-1686771000-1686774600@nhcministries.org
SUMMARY:Bible Study - Google Meet 7:30 PM
DESCRIPTION:
URL:https://nhcministries.org/event/bible-study-google-meet-730-pm-15/
END:VEVENT
BEGIN:VEVENT
DTSTART;TZID=UTC:20230613T190000
DTEND;TZID=UTC:20230613T193000
DTSTAMP:20260421T005620
CREATED:20230530T164529Z
LAST-MODIFIED:20230530T164549Z
UID:4273-1686682800-1686684600@nhcministries.org
SUMMARY:Intercessory Prayer 7:00 PM   Dial In Number : 605-313-4822; Access Code: 603429
DESCRIPTION:
URL:https://nhcministries.org/event/intercessory-prayer-700-pm-dial-in-number-605-313-4822-access-code-603429-120/
END:VEVENT
BEGIN:VEVENT
DTSTART;TZID=UTC:20230611T100000
DTEND;TZID=UTC:20230611T120000
DTSTAMP:20260421T005620
CREATED:20230530T164927Z
LAST-MODIFIED:20230530T164953Z
UID:4281-1686477600-1686484800@nhcministries.org
SUMMARY:Worship Service 10:00 AM - In Person & Facebook
DESCRIPTION:
URL:https://nhcministries.org/event/worship-service-1000-am-in-person-facebook-81/
END:VEVENT
BEGIN:VEVENT
DTSTART;TZID=UTC:20230611T093000
DTEND;TZID=UTC:20230611T100000
DTSTAMP:20260421T005620
CREATED:20230530T170023Z
LAST-MODIFIED:20230530T170048Z
UID:4301-1686475800-1686477600@nhcministries.org
SUMMARY:Sunday Morning Prayer 9:30 AM - In Person
DESCRIPTION:
URL:https://nhcministries.org/event/sunday-morning-prayer-930-am-in-person-119/
END:VEVENT
BEGIN:VEVENT
DTSTART;TZID=UTC:20230608T183000
DTEND;TZID=UTC:20230608T203000
DTSTAMP:20260421T005620
CREATED:20230530T170408Z
LAST-MODIFIED:20230530T170438Z
UID:4308-1686249000-1686256200@nhcministries.org
SUMMARY:Praise Team Rehearsal 6:30 PM
DESCRIPTION:
URL:https://nhcministries.org/event/praise-team-rehearsal-630-pm-115/
END:VEVENT
BEGIN:VEVENT
DTSTART;TZID=UTC:20230608T160000
DTEND;TZID=UTC:20230608T180000
DTSTAMP:20260421T005620
CREATED:20230530T170924Z
LAST-MODIFIED:20230530T170955Z
UID:4320-1686240000-1686247200@nhcministries.org
SUMMARY:Project Hope Food Pantry    4:00 PM - 6:00 PM
DESCRIPTION:
URL:https://nhcministries.org/event/project-hope-food-pantry-400-pm-600-pm-47/
END:VEVENT
BEGIN:VEVENT
DTSTART;TZID=UTC:20230607T193000
DTEND;TZID=UTC:20230607T203000
DTSTAMP:20260421T005620
CREATED:20230530T164027Z
LAST-MODIFIED:20230530T164051Z
UID:4263-1686166200-1686169800@nhcministries.org
SUMMARY:Bible Study - Google Meet 7:30 PM
DESCRIPTION:
URL:https://nhcministries.org/event/bible-study-google-meet-730-pm-14/
END:VEVENT
BEGIN:VEVENT
DTSTART;TZID=UTC:20230606T190000
DTEND;TZID=UTC:20230606T193000
DTSTAMP:20260421T005620
CREATED:20230530T164451Z
LAST-MODIFIED:20230530T164521Z
UID:4271-1686078000-1686079800@nhcministries.org
SUMMARY:Intercessory Prayer 7:00 PM   Dial In Number : 605-313-4822; Access Code: 603429
DESCRIPTION:
URL:https://nhcministries.org/event/intercessory-prayer-700-pm-dial-in-number-605-313-4822-access-code-603429-119/
END:VEVENT
BEGIN:VEVENT
DTSTART;TZID=UTC:20230604T100000
DTEND;TZID=UTC:20230604T120000
DTSTAMP:20260421T005620
CREATED:20230530T164851Z
LAST-MODIFIED:20230530T164919Z
UID:4279-1685872800-1685880000@nhcministries.org
SUMMARY:Worship Service 10:00 AM - In Person & Facebook
DESCRIPTION:
URL:https://nhcministries.org/event/worship-service-1000-am-in-person-facebook-80/
END:VEVENT
BEGIN:VEVENT
DTSTART;TZID=UTC:20230604T093000
DTEND;TZID=UTC:20230604T100000
DTSTAMP:20260421T005620
CREATED:20230530T165535Z
LAST-MODIFIED:20230530T165600Z
UID:4291-1685871000-1685872800@nhcministries.org
SUMMARY:Sunday Morning Prayer 9:30 AM - In Person
DESCRIPTION:
URL:https://nhcministries.org/event/sunday-morning-prayer-930-am-in-person-115/
END:VEVENT
BEGIN:VEVENT
DTSTART;TZID=UTC:20230601T183000
DTEND;TZID=UTC:20230601T203000
DTSTAMP:20260421T005620
CREATED:20230530T170324Z
LAST-MODIFIED:20230530T170400Z
UID:4305-1685644200-1685651400@nhcministries.org
SUMMARY:Praise Team Rehearsal 6:30 PM
DESCRIPTION:
URL:https://nhcministries.org/event/praise-team-rehearsal-630-pm-114/
END:VEVENT
END:VCALENDAR