BEGIN:VCALENDAR
VERSION:2.0
PRODID:-//New Hope Christian Ministries - ECPv6.15.20//NONSGML v1.0//EN
CALSCALE:GREGORIAN
METHOD:PUBLISH
X-ORIGINAL-URL:https://nhcministries.org
X-WR-CALDESC:Events for New Hope Christian Ministries
REFRESH-INTERVAL;VALUE=DURATION:PT1H
X-Robots-Tag:noindex
X-PUBLISHED-TTL:PT1H
BEGIN:VTIMEZONE
TZID:America/New_York
BEGIN:DAYLIGHT
TZOFFSETFROM:-0500
TZOFFSETTO:-0400
TZNAME:EDT
DTSTART:20240310T070000
END:DAYLIGHT
BEGIN:STANDARD
TZOFFSETFROM:-0400
TZOFFSETTO:-0500
TZNAME:EST
DTSTART:20241103T060000
END:STANDARD
BEGIN:DAYLIGHT
TZOFFSETFROM:-0500
TZOFFSETTO:-0400
TZNAME:EDT
DTSTART:20250309T070000
END:DAYLIGHT
BEGIN:STANDARD
TZOFFSETFROM:-0400
TZOFFSETTO:-0500
TZNAME:EST
DTSTART:20251102T060000
END:STANDARD
BEGIN:DAYLIGHT
TZOFFSETFROM:-0500
TZOFFSETTO:-0400
TZNAME:EDT
DTSTART:20260308T070000
END:DAYLIGHT
BEGIN:STANDARD
TZOFFSETFROM:-0400
TZOFFSETTO:-0500
TZNAME:EST
DTSTART:20261101T060000
END:STANDARD
BEGIN:DAYLIGHT
TZOFFSETFROM:-0500
TZOFFSETTO:-0400
TZNAME:EDT
DTSTART:20270314T070000
END:DAYLIGHT
BEGIN:STANDARD
TZOFFSETFROM:-0400
TZOFFSETTO:-0500
TZNAME:EST
DTSTART:20271107T060000
END:STANDARD
END:VTIMEZONE
BEGIN:VEVENT
DTSTART;TZID=America/New_York:20251209T190000
DTEND;TZID=America/New_York:20251209T193000
DTSTAMP:20260421T020924
CREATED:20251028T132149Z
LAST-MODIFIED:20251028T132149Z
UID:5934-1765306800-1765308600@nhcministries.org
SUMMARY:Intercessory Prayer   Dial In Number : 605-313-4822; Access Code: 603429
DESCRIPTION:
URL:https://nhcministries.org/event/intercessory-prayer-dial-in-number-605-313-4822-access-code-603429-20/
END:VEVENT
BEGIN:VEVENT
DTSTART;TZID=America/New_York:20251210T183000
DTEND;TZID=America/New_York:20251210T190000
DTSTAMP:20260421T020924
CREATED:20251028T135442Z
LAST-MODIFIED:20251028T135442Z
UID:5963-1765391400-1765393200@nhcministries.org
SUMMARY:Auxiliary Meeting
DESCRIPTION:
URL:https://nhcministries.org/event/auxiliary-meeting-23/
END:VEVENT
BEGIN:VEVENT
DTSTART;TZID=America/New_York:20251210T190000
DTEND;TZID=America/New_York:20251210T200000
DTSTAMP:20260421T020924
CREATED:20251028T135727Z
LAST-MODIFIED:20251028T135727Z
UID:5972-1765393200-1765396800@nhcministries.org
SUMMARY:Bible Study - Google Meet
DESCRIPTION:
URL:https://nhcministries.org/event/bible-study-google-meet-14/
END:VEVENT
BEGIN:VEVENT
DTSTART;TZID=America/New_York:20251211T160000
DTEND;TZID=America/New_York:20251211T180000
DTSTAMP:20260421T020924
CREATED:20251028T133236Z
LAST-MODIFIED:20251028T133236Z
UID:5954-1765468800-1765476000@nhcministries.org
SUMMARY:Project Hope Food Pantry
DESCRIPTION:
URL:https://nhcministries.org/event/project-hope-food-pantry-19/
END:VEVENT
BEGIN:VEVENT
DTSTART;TZID=America/New_York:20251211T183000
DTEND;TZID=America/New_York:20251211T200000
DTSTAMP:20260421T020924
CREATED:20251028T132913Z
LAST-MODIFIED:20251028T132913Z
UID:5945-1765477800-1765483200@nhcministries.org
SUMMARY:Praise Team Rehearsal
DESCRIPTION:
URL:https://nhcministries.org/event/praise-team-rehearsal-20/
END:VEVENT
BEGIN:VEVENT
DTSTART;TZID=America/New_York:20251212T103000
DTEND;TZID=America/New_York:20251212T113000
DTSTAMP:20260421T020924
CREATED:20251028T140220Z
LAST-MODIFIED:20251028T140220Z
UID:5977-1765535400-1765539000@nhcministries.org
SUMMARY:Nursing Home Visit to H.H. Riverhouse
DESCRIPTION:
URL:https://nhcministries.org/event/nursing-home-visit-to-h-h-riverhouse-3/
END:VEVENT
BEGIN:VEVENT
DTSTART;TZID=America/New_York:20251213T110000
DTEND;TZID=America/New_York:20251213T123000
DTSTAMP:20260421T020924
CREATED:20251028T141905Z
LAST-MODIFIED:20251028T141905Z
UID:5994-1765623600-1765629000@nhcministries.org
SUMMARY:Baptism Service
DESCRIPTION:
URL:https://nhcministries.org/event/baptism-service/
END:VEVENT
BEGIN:VEVENT
DTSTART;TZID=America/New_York:20251214T093000
DTEND;TZID=America/New_York:20251214T100000
DTSTAMP:20260421T020924
CREATED:20251028T131022Z
LAST-MODIFIED:20251028T131022Z
UID:5920-1765704600-1765706400@nhcministries.org
SUMMARY:Morning Prayer - In Person
DESCRIPTION:
URL:https://nhcministries.org/event/morning-prayer-in-person-19/
END:VEVENT
BEGIN:VEVENT
DTSTART;TZID=America/New_York:20251214T100000
DTEND;TZID=America/New_York:20251214T120000
DTSTAMP:20260421T020924
CREATED:20251028T130649Z
LAST-MODIFIED:20251028T130649Z
UID:5910-1765706400-1765713600@nhcministries.org
SUMMARY:Worship Service - In Person & Facebook
DESCRIPTION:
URL:https://nhcministries.org/event/worship-service-in-person-facebook-19/
END:VEVENT
BEGIN:VEVENT
DTSTART;TZID=America/New_York:20251214T100000
DTEND;TZID=America/New_York:20251214T120000
DTSTAMP:20260421T020924
CREATED:20251028T131408Z
LAST-MODIFIED:20251028T131408Z
UID:5928-1765706400-1765713600@nhcministries.org
SUMMARY:Crochet Ministry Table
DESCRIPTION:
URL:https://nhcministries.org/event/crochet-ministry-table/
END:VEVENT
BEGIN:VEVENT
DTSTART;TZID=America/New_York:20251216T190000
DTEND;TZID=America/New_York:20251216T193000
DTSTAMP:20260421T020924
CREATED:20251028T132226Z
LAST-MODIFIED:20251028T132226Z
UID:5936-1765911600-1765913400@nhcministries.org
SUMMARY:Intercessory Prayer   Dial In Number : 605-313-4822; Access Code: 603429
DESCRIPTION:
URL:https://nhcministries.org/event/intercessory-prayer-dial-in-number-605-313-4822-access-code-603429-21/
END:VEVENT
BEGIN:VEVENT
DTSTART;TZID=America/New_York:20251217T183000
DTEND;TZID=America/New_York:20251217T190000
DTSTAMP:20260421T020924
CREATED:20251028T135522Z
LAST-MODIFIED:20251028T135522Z
UID:5966-1765996200-1765998000@nhcministries.org
SUMMARY:Auxiliary Meeting
DESCRIPTION:
URL:https://nhcministries.org/event/auxiliary-meeting-24/
END:VEVENT
BEGIN:VEVENT
DTSTART;TZID=America/New_York:20251217T190000
DTEND;TZID=America/New_York:20251217T200000
DTSTAMP:20260421T020924
CREATED:20251028T135810Z
LAST-MODIFIED:20251028T135810Z
UID:5975-1765998000-1766001600@nhcministries.org
SUMMARY:Bible Study - Google Meet
DESCRIPTION:
URL:https://nhcministries.org/event/bible-study-google-meet-15/
END:VEVENT
BEGIN:VEVENT
DTSTART;TZID=America/New_York:20251218T160000
DTEND;TZID=America/New_York:20251218T180000
DTSTAMP:20260421T020924
CREATED:20251028T133315Z
LAST-MODIFIED:20251028T133315Z
UID:5956-1766073600-1766080800@nhcministries.org
SUMMARY:Project Hope Food Pantry
DESCRIPTION:
URL:https://nhcministries.org/event/project-hope-food-pantry-20/
END:VEVENT
BEGIN:VEVENT
DTSTART;TZID=America/New_York:20251218T170000
DTEND;TZID=America/New_York:20251218T190000
DTSTAMP:20260421T020924
CREATED:20251028T142117Z
LAST-MODIFIED:20251028T142117Z
UID:5999-1766077200-1766084400@nhcministries.org
SUMMARY:Toys for Tots
DESCRIPTION:
URL:https://nhcministries.org/event/toys-for-tots-2/
END:VEVENT
BEGIN:VEVENT
DTSTART;TZID=America/New_York:20251218T183000
DTEND;TZID=America/New_York:20251218T200000
DTSTAMP:20260421T020924
CREATED:20251028T133018Z
LAST-MODIFIED:20251028T133018Z
UID:5948-1766082600-1766088000@nhcministries.org
SUMMARY:Praise Team Rehearsal
DESCRIPTION:
URL:https://nhcministries.org/event/praise-team-rehearsal-21/
END:VEVENT
BEGIN:VEVENT
DTSTART;TZID=America/New_York:20251219T170000
DTEND;TZID=America/New_York:20251219T180000
DTSTAMP:20260421T020924
CREATED:20251028T141146Z
LAST-MODIFIED:20251028T141146Z
UID:5986-1766163600-1766167200@nhcministries.org
SUMMARY:MIT/Elder Training
DESCRIPTION:
URL:https://nhcministries.org/event/mit-elder-training-2/
END:VEVENT
BEGIN:VEVENT
DTSTART;TZID=America/New_York:20251220T120000
DTEND;TZID=America/New_York:20251220T140000
DTSTAMP:20260421T020924
CREATED:20251028T142012Z
LAST-MODIFIED:20251028T142012Z
UID:5996-1766232000-1766239200@nhcministries.org
SUMMARY:Women's Ministry Luncheon
DESCRIPTION:
URL:https://nhcministries.org/event/womens-ministry-luncheon/
END:VEVENT
BEGIN:VEVENT
DTSTART;TZID=America/New_York:20251221T093000
DTEND;TZID=America/New_York:20251221T100000
DTSTAMP:20260421T020924
CREATED:20251028T131113Z
LAST-MODIFIED:20251028T131113Z
UID:5922-1766309400-1766311200@nhcministries.org
SUMMARY:Morning Prayer - In Person
DESCRIPTION:
URL:https://nhcministries.org/event/morning-prayer-in-person-20/
END:VEVENT
BEGIN:VEVENT
DTSTART;TZID=America/New_York:20251221T100000
DTEND;TZID=America/New_York:20251221T120000
DTSTAMP:20260421T020924
CREATED:20251028T130733Z
LAST-MODIFIED:20251028T130733Z
UID:5912-1766311200-1766318400@nhcministries.org
SUMMARY:Worship Service - In Person & Facebook
DESCRIPTION:
URL:https://nhcministries.org/event/worship-service-in-person-facebook-20/
END:VEVENT
BEGIN:VEVENT
DTSTART;TZID=America/New_York:20251223T190000
DTEND;TZID=America/New_York:20251223T193000
DTSTAMP:20260421T020924
CREATED:20251028T132316Z
LAST-MODIFIED:20251028T132316Z
UID:5938-1766516400-1766518200@nhcministries.org
SUMMARY:Intercessory Prayer   Dial In Number : 605-313-4822; Access Code: 603429
DESCRIPTION:
URL:https://nhcministries.org/event/intercessory-prayer-dial-in-number-605-313-4822-access-code-603429-22/
END:VEVENT
BEGIN:VEVENT
DTSTART;TZID=America/New_York:20251228T060000
DTEND;TZID=America/New_York:20251231T180000
DTSTAMP:20260421T020924
CREATED:20251028T131533Z
LAST-MODIFIED:20251028T131533Z
UID:5930-1766901600-1767204000@nhcministries.org
SUMMARY:Corporate Fast
DESCRIPTION:
URL:https://nhcministries.org/event/corporate-fast/
END:VEVENT
BEGIN:VEVENT
DTSTART;TZID=America/New_York:20251228T093000
DTEND;TZID=America/New_York:20251228T100000
DTSTAMP:20260421T020924
CREATED:20251028T131156Z
LAST-MODIFIED:20251028T131156Z
UID:5924-1766914200-1766916000@nhcministries.org
SUMMARY:Morning Prayer - In Person
DESCRIPTION:
URL:https://nhcministries.org/event/morning-prayer-in-person-21/
END:VEVENT
BEGIN:VEVENT
DTSTART;TZID=America/New_York:20251228T100000
DTEND;TZID=America/New_York:20251228T120000
DTSTAMP:20260421T020924
CREATED:20251028T130820Z
LAST-MODIFIED:20251028T130820Z
UID:5914-1766916000-1766923200@nhcministries.org
SUMMARY:Worship Service - In Person & Facebook
DESCRIPTION:
URL:https://nhcministries.org/event/worship-service-in-person-facebook-21/
END:VEVENT
BEGIN:VEVENT
DTSTART;TZID=America/New_York:20251230T190000
DTEND;TZID=America/New_York:20251230T193000
DTSTAMP:20260421T020924
CREATED:20251028T132406Z
LAST-MODIFIED:20251028T132406Z
UID:5940-1767121200-1767123000@nhcministries.org
SUMMARY:Intercessory Prayer   Dial In Number : 605-313-4822; Access Code: 603429
DESCRIPTION:
URL:https://nhcministries.org/event/intercessory-prayer-dial-in-number-605-313-4822-access-code-603429-23/
END:VEVENT
BEGIN:VEVENT
DTSTART;TZID=America/New_York:20251231T220000
DTEND;TZID=America/New_York:20260101T000000
DTSTAMP:20260421T020924
CREATED:20251028T142543Z
LAST-MODIFIED:20251028T142543Z
UID:6001-1767218400-1767225600@nhcministries.org
SUMMARY:Watch Night Service
DESCRIPTION:
URL:https://nhcministries.org/event/watch-night-service/
END:VEVENT
BEGIN:VEVENT
DTSTART;TZID=America/New_York:20260102T070000
DTEND;TZID=America/New_York:20260102T073000
DTSTAMP:20260421T020924
CREATED:20260114T035830Z
LAST-MODIFIED:20260114T035830Z
UID:6088-1767337200-1767339000@nhcministries.org
SUMMARY:Corporate Prayer
DESCRIPTION:
URL:https://nhcministries.org/event/corporate-prayer-7/
END:VEVENT
BEGIN:VEVENT
DTSTART;TZID=America/New_York:20260102T170000
DTEND;TZID=America/New_York:20260102T180000
DTSTAMP:20260421T020924
CREATED:20260114T033846Z
LAST-MODIFIED:20260114T033846Z
UID:6048-1767373200-1767376800@nhcministries.org
SUMMARY:MIT/Elder Training
DESCRIPTION:
URL:https://nhcministries.org/event/mit-elder-training-3/
END:VEVENT
BEGIN:VEVENT
DTSTART;TZID=America/New_York:20260103T090000
DTEND;TZID=America/New_York:20260103T100000
DTSTAMP:20260421T020924
CREATED:20260114T035644Z
LAST-MODIFIED:20260114T035644Z
UID:6086-1767430800-1767434400@nhcministries.org
SUMMARY:Men's Ministry Meeting
DESCRIPTION:
URL:https://nhcministries.org/event/mens-ministry-meeting-4/
END:VEVENT
BEGIN:VEVENT
DTSTART;TZID=America/New_York:20260104T093000
DTEND;TZID=America/New_York:20260104T100000
DTSTAMP:20260421T020924
CREATED:20260114T032830Z
LAST-MODIFIED:20260114T032830Z
UID:6036-1767519000-1767520800@nhcministries.org
SUMMARY:Morning Prayer - In Person
DESCRIPTION:
URL:https://nhcministries.org/event/morning-prayer-in-person-22/
END:VEVENT
END:VCALENDAR