BEGIN:VCALENDAR
VERSION:2.0
PRODID:-//New Hope Christian Ministries - ECPv6.15.20//NONSGML v1.0//EN
CALSCALE:GREGORIAN
METHOD:PUBLISH
X-WR-CALNAME:New Hope Christian Ministries
X-ORIGINAL-URL:https://nhcministries.org
X-WR-CALDESC:Events for New Hope Christian Ministries
REFRESH-INTERVAL;VALUE=DURATION:PT1H
X-Robots-Tag:noindex
X-PUBLISHED-TTL:PT1H
BEGIN:VTIMEZONE
TZID:UTC
BEGIN:STANDARD
TZOFFSETFROM:+0000
TZOFFSETTO:+0000
TZNAME:UTC
DTSTART:20220101T000000
END:STANDARD
END:VTIMEZONE
BEGIN:VEVENT
DTSTART;TZID=UTC:20230528T100000
DTEND;TZID=UTC:20230528T120000
DTSTAMP:20260421T184046
CREATED:20230425T171716Z
LAST-MODIFIED:20230425T171716Z
UID:4199-1685268000-1685275200@nhcministries.org
SUMMARY:Worship Service 10:00 AM - In Person & Facebook
DESCRIPTION:
URL:https://nhcministries.org/event/worship-service-1000-am-in-person-facebook-79/
END:VEVENT
BEGIN:VEVENT
DTSTART;TZID=UTC:20230528T093000
DTEND;TZID=UTC:20230528T100000
DTSTAMP:20260421T184046
CREATED:20230425T172656Z
LAST-MODIFIED:20230425T172656Z
UID:4206-1685266200-1685268000@nhcministries.org
SUMMARY:Sunday Morning Prayer 9:30 AM - In Person
DESCRIPTION:
URL:https://nhcministries.org/event/sunday-morning-prayer-930-am-in-person-113/
END:VEVENT
BEGIN:VEVENT
DTSTART;TZID=UTC:20230527T140000
DTEND;TZID=UTC:20230527T143000
DTSTAMP:20260421T184046
CREATED:20230425T180455Z
LAST-MODIFIED:20230425T180531Z
UID:4255-1685196000-1685197800@nhcministries.org
SUMMARY:Farmers Market Fresh Produce  2:00 PM - 2:30 PM
DESCRIPTION:
URL:https://nhcministries.org/event/farmers-market-fresh-produce-200-pm-230-pm-2/
END:VEVENT
BEGIN:VEVENT
DTSTART;TZID=UTC:20230525T183000
DTEND;TZID=UTC:20230525T203000
DTSTAMP:20260421T184046
CREATED:20230425T173602Z
LAST-MODIFIED:20230425T173602Z
UID:4220-1685039400-1685046600@nhcministries.org
SUMMARY:Praise Team Rehearsal 6:30 PM
DESCRIPTION:
URL:https://nhcministries.org/event/praise-team-rehearsal-630-pm-113/
END:VEVENT
BEGIN:VEVENT
DTSTART;TZID=UTC:20230525T160000
DTEND;TZID=UTC:20230525T180000
DTSTAMP:20260421T184046
CREATED:20230425T173907Z
LAST-MODIFIED:20230425T173907Z
UID:4229-1685030400-1685037600@nhcministries.org
SUMMARY:Project Hope Food Pantry    4:00 PM - 6:00 PM
DESCRIPTION:
URL:https://nhcministries.org/event/project-hope-food-pantry-400-pm-600-pm-45/
END:VEVENT
BEGIN:VEVENT
DTSTART;TZID=UTC:20230524T193000
DTEND;TZID=UTC:20230524T203000
DTSTAMP:20260421T184046
CREATED:20230425T175410Z
LAST-MODIFIED:20230425T175501Z
UID:4240-1684956600-1684960200@nhcministries.org
SUMMARY:Bible Study - Google Meet 7:30 PM
DESCRIPTION:
URL:https://nhcministries.org/event/bible-study-google-meet-730-pm-12/
END:VEVENT
BEGIN:VEVENT
DTSTART;TZID=UTC:20230523T190000
DTEND;TZID=UTC:20230523T193000
DTSTAMP:20260421T184046
CREATED:20230425T180026Z
LAST-MODIFIED:20230425T180058Z
UID:4251-1684868400-1684870200@nhcministries.org
SUMMARY:Intercessory Prayer 7:00 PM   Dial In Number : 605-313-4822; Access Code: 603429
DESCRIPTION:
URL:https://nhcministries.org/event/intercessory-prayer-700-pm-dial-in-number-605-313-4822-access-code-603429-117/
END:VEVENT
BEGIN:VEVENT
DTSTART;TZID=UTC:20230521T150000
DTEND;TZID=UTC:20230521T170000
DTSTAMP:20260421T184046
CREATED:20230425T172836Z
LAST-MODIFIED:20230425T172836Z
UID:4210-1684681200-1684688400@nhcministries.org
SUMMARY:22nd Annual Women's Day Celebration
DESCRIPTION:
URL:https://nhcministries.org/event/22nd-annual-womens-day-celebration/
END:VEVENT
BEGIN:VEVENT
DTSTART;TZID=UTC:20230521T100000
DTEND;TZID=UTC:20230521T100000
DTSTAMP:20260421T184046
CREATED:20230425T171644Z
LAST-MODIFIED:20230425T171644Z
UID:4197-1684663200-1684663200@nhcministries.org
SUMMARY:Worship Service 10:00 AM - In Person & Facebook
DESCRIPTION:
URL:https://nhcministries.org/event/worship-service-1000-am-in-person-facebook-78/
END:VEVENT
BEGIN:VEVENT
DTSTART;TZID=UTC:20230521T093000
DTEND;TZID=UTC:20230521T100000
DTSTAMP:20260421T184046
CREATED:20230425T173205Z
LAST-MODIFIED:20230425T173205Z
UID:4212-1684661400-1684663200@nhcministries.org
SUMMARY:Sunday Morning Prayer 9:30 AM - In Person
DESCRIPTION:
URL:https://nhcministries.org/event/sunday-morning-prayer-930-am-in-person-114/
END:VEVENT
BEGIN:VEVENT
DTSTART;TZID=UTC:20230520T090000
DTEND;TZID=UTC:20230520T100000
DTSTAMP:20260421T184046
CREATED:20230425T180633Z
LAST-MODIFIED:20230425T181100Z
UID:4257-1684573200-1684576800@nhcministries.org
SUMMARY:Women's Department Meeting - W.I.S.D.O.M. 9:00 AM  (605) 313-4822 Access Code 603429#
DESCRIPTION:
URL:https://nhcministries.org/event/womens-department-meeting-w-i-s-d-o-m-900-am-605-313-4822-access-code-603429-19/
END:VEVENT
BEGIN:VEVENT
DTSTART;TZID=UTC:20230518T183000
DTEND;TZID=UTC:20230518T203000
DTSTAMP:20260421T184046
CREATED:20230425T173526Z
LAST-MODIFIED:20230425T173526Z
UID:4218-1684434600-1684441800@nhcministries.org
SUMMARY:Praise Team Rehearsal 6:30 PM
DESCRIPTION:
URL:https://nhcministries.org/event/praise-team-rehearsal-630-pm-112/
END:VEVENT
BEGIN:VEVENT
DTSTART;TZID=UTC:20230518T160000
DTEND;TZID=UTC:20230518T180000
DTSTAMP:20260421T184046
CREATED:20230425T173829Z
LAST-MODIFIED:20230425T173829Z
UID:4227-1684425600-1684432800@nhcministries.org
SUMMARY:Project Hope Food Pantry    4:00 PM - 6:00 PM
DESCRIPTION:
URL:https://nhcministries.org/event/project-hope-food-pantry-400-pm-600-pm-44/
END:VEVENT
BEGIN:VEVENT
DTSTART;TZID=UTC:20230517T193000
DTEND;TZID=UTC:20230517T203000
DTSTAMP:20260421T184046
CREATED:20230425T175255Z
LAST-MODIFIED:20230425T175401Z
UID:4237-1684351800-1684355400@nhcministries.org
SUMMARY:Bible Study - Google Meet 7:30 PM
DESCRIPTION:
URL:https://nhcministries.org/event/bible-study-google-meet-730-pm-11/
END:VEVENT
BEGIN:VEVENT
DTSTART;TZID=UTC:20230516T190000
DTEND;TZID=UTC:20230516T193000
DTSTAMP:20260421T184046
CREATED:20230425T175930Z
LAST-MODIFIED:20230425T180018Z
UID:4249-1684263600-1684265400@nhcministries.org
SUMMARY:Intercessory Prayer 7:00 PM   Dial In Number : 605-313-4822; Access Code: 603429
DESCRIPTION:
URL:https://nhcministries.org/event/intercessory-prayer-700-pm-dial-in-number-605-313-4822-access-code-603429-116/
END:VEVENT
BEGIN:VEVENT
DTSTART;TZID=UTC:20230514T100000
DTEND;TZID=UTC:20230514T120000
DTSTAMP:20260421T184046
CREATED:20230425T171615Z
LAST-MODIFIED:20230425T171615Z
UID:4195-1684058400-1684065600@nhcministries.org
SUMMARY:Worship Service 10:00 AM - In Person & Facebook
DESCRIPTION:
URL:https://nhcministries.org/event/worship-service-1000-am-in-person-facebook-77/
END:VEVENT
BEGIN:VEVENT
DTSTART;TZID=UTC:20230514T093000
DTEND;TZID=UTC:20230514T100000
DTSTAMP:20260421T184046
CREATED:20230425T172541Z
LAST-MODIFIED:20230425T172541Z
UID:4203-1684056600-1684058400@nhcministries.org
SUMMARY:Sunday Morning Prayer 9:30 AM - In Person
DESCRIPTION:
URL:https://nhcministries.org/event/sunday-morning-prayer-930-am-in-person-112/
END:VEVENT
BEGIN:VEVENT
DTSTART;VALUE=DATE:20230514
DTEND;VALUE=DATE:20230515
DTSTAMP:20260421T184046
CREATED:20230425T172747Z
LAST-MODIFIED:20230425T172747Z
UID:4208-1684022400-1684108799@nhcministries.org
SUMMARY:Mother's Day Treats
DESCRIPTION:
URL:https://nhcministries.org/event/mothers-day-treats/
END:VEVENT
BEGIN:VEVENT
DTSTART;TZID=UTC:20230511T183000
DTEND;TZID=UTC:20230511T203000
DTSTAMP:20260421T184046
CREATED:20230425T173447Z
LAST-MODIFIED:20230425T174946Z
UID:4216-1683829800-1683837000@nhcministries.org
SUMMARY:Praise Team Rehearsal 6:30 PM
DESCRIPTION:
URL:https://nhcministries.org/event/praise-team-rehearsal-630-pm-111/
END:VEVENT
BEGIN:VEVENT
DTSTART;TZID=UTC:20230511T160000
DTEND;TZID=UTC:20230511T180000
DTSTAMP:20260421T184046
CREATED:20230425T173749Z
LAST-MODIFIED:20230425T173749Z
UID:4225-1683820800-1683828000@nhcministries.org
SUMMARY:Project Hope Food Pantry    4:00 PM - 6:00 PM
DESCRIPTION:
URL:https://nhcministries.org/event/project-hope-food-pantry-400-pm-600-pm-43/
END:VEVENT
BEGIN:VEVENT
DTSTART;TZID=UTC:20230510T193000
DTEND;TZID=UTC:20230510T203000
DTSTAMP:20260421T184046
CREATED:20230425T175224Z
LAST-MODIFIED:20230425T175248Z
UID:4235-1683747000-1683750600@nhcministries.org
SUMMARY:Bible Study - Google Meet 7:30 PM
DESCRIPTION:
URL:https://nhcministries.org/event/bible-study-google-meet-730-pm-10/
END:VEVENT
BEGIN:VEVENT
DTSTART;TZID=UTC:20230509T190000
DTEND;TZID=UTC:20230509T193000
DTSTAMP:20260421T184046
CREATED:20230425T175856Z
LAST-MODIFIED:20230425T175923Z
UID:4247-1683658800-1683660600@nhcministries.org
SUMMARY:Intercessory Prayer 7:00 PM   Dial In Number : 605-313-4822; Access Code: 603429
DESCRIPTION:
URL:https://nhcministries.org/event/intercessory-prayer-700-pm-dial-in-number-605-313-4822-access-code-603429-115/
END:VEVENT
BEGIN:VEVENT
DTSTART;TZID=UTC:20230507T100000
DTEND;TZID=UTC:20230507T120000
DTSTAMP:20260421T184046
CREATED:20230425T171540Z
LAST-MODIFIED:20230425T171540Z
UID:4193-1683453600-1683460800@nhcministries.org
SUMMARY:Worship Service 10:00 AM - In Person & Facebook
DESCRIPTION:
URL:https://nhcministries.org/event/worship-service-1000-am-in-person-facebook-76/
END:VEVENT
BEGIN:VEVENT
DTSTART;TZID=UTC:20230507T093000
DTEND;TZID=UTC:20230507T100000
DTSTAMP:20260421T184046
CREATED:20230425T172510Z
LAST-MODIFIED:20230425T172510Z
UID:4201-1683451800-1683453600@nhcministries.org
SUMMARY:Sunday Morning Prayer 9:30 AM - In Person
DESCRIPTION:
URL:https://nhcministries.org/event/sunday-morning-prayer-930-am-in-person-111/
END:VEVENT
BEGIN:VEVENT
DTSTART;TZID=UTC:20230506T090000
DTEND;TZID=UTC:20230506T100000
DTSTAMP:20260421T184046
CREATED:20230425T180832Z
LAST-MODIFIED:20230425T180913Z
UID:4259-1683363600-1683367200@nhcministries.org
SUMMARY:Men's Ministry Meeting   9:00 AM
DESCRIPTION:
URL:https://nhcministries.org/event/mens-ministry-meeting-900-am-4/
END:VEVENT
BEGIN:VEVENT
DTSTART;TZID=UTC:20230504T183000
DTEND;TZID=UTC:20230504T203000
DTSTAMP:20260421T184046
CREATED:20230425T173410Z
LAST-MODIFIED:20230425T173410Z
UID:4214-1683225000-1683232200@nhcministries.org
SUMMARY:Praise Team Rehearsal 6:30 PM
DESCRIPTION:
URL:https://nhcministries.org/event/praise-team-rehearsal-630-pm-110/
END:VEVENT
BEGIN:VEVENT
DTSTART;TZID=UTC:20230504T160000
DTEND;TZID=UTC:20230504T180000
DTSTAMP:20260421T184046
CREATED:20230425T173714Z
LAST-MODIFIED:20230425T174422Z
UID:4222-1683216000-1683223200@nhcministries.org
SUMMARY:Project Hope Food Pantry    4:00 PM - 6:00 PM
DESCRIPTION:
URL:https://nhcministries.org/event/project-hope-food-pantry-400-pm-600-pm-42/
END:VEVENT
BEGIN:VEVENT
DTSTART;TZID=UTC:20230503T193000
DTEND;TZID=UTC:20230503T203000
DTSTAMP:20260421T184046
CREATED:20230425T175138Z
LAST-MODIFIED:20230425T175218Z
UID:4233-1683142200-1683145800@nhcministries.org
SUMMARY:Bible Study - Google Meet 7:30 PM
DESCRIPTION:
URL:https://nhcministries.org/event/bible-study-google-meet-730-pm-9/
END:VEVENT
BEGIN:VEVENT
DTSTART;TZID=UTC:20230502T190000
DTEND;TZID=UTC:20230502T193000
DTSTAMP:20260421T184046
CREATED:20230425T175815Z
LAST-MODIFIED:20230425T175845Z
UID:4244-1683054000-1683055800@nhcministries.org
SUMMARY:Intercessory Prayer 7:00 PM   Dial In Number : 605-313-4822; Access Code: 603429
DESCRIPTION:
URL:https://nhcministries.org/event/intercessory-prayer-700-pm-dial-in-number-605-313-4822-access-code-603429-114/
END:VEVENT
BEGIN:VEVENT
DTSTART;TZID=UTC:20230430T100000
DTEND;TZID=UTC:20230430T120000
DTSTAMP:20260421T184046
CREATED:20230401T224802Z
LAST-MODIFIED:20230401T224802Z
UID:4159-1682848800-1682856000@nhcministries.org
SUMMARY:Worship Service 10:00 AM - In Person & Facebook
DESCRIPTION:
URL:https://nhcministries.org/event/worship-service-1000-am-in-person-facebook-75/
END:VEVENT
END:VCALENDAR