BEGIN:VCALENDAR
VERSION:2.0
PRODID:-//New Hope Christian Ministries - ECPv6.15.20//NONSGML v1.0//EN
CALSCALE:GREGORIAN
METHOD:PUBLISH
X-ORIGINAL-URL:https://nhcministries.org
X-WR-CALDESC:Events for New Hope Christian Ministries
REFRESH-INTERVAL;VALUE=DURATION:PT1H
X-Robots-Tag:noindex
X-PUBLISHED-TTL:PT1H
BEGIN:VTIMEZONE
TZID:America/New_York
BEGIN:DAYLIGHT
TZOFFSETFROM:-0500
TZOFFSETTO:-0400
TZNAME:EDT
DTSTART:20240310T070000
END:DAYLIGHT
BEGIN:STANDARD
TZOFFSETFROM:-0400
TZOFFSETTO:-0500
TZNAME:EST
DTSTART:20241103T060000
END:STANDARD
BEGIN:DAYLIGHT
TZOFFSETFROM:-0500
TZOFFSETTO:-0400
TZNAME:EDT
DTSTART:20250309T070000
END:DAYLIGHT
BEGIN:STANDARD
TZOFFSETFROM:-0400
TZOFFSETTO:-0500
TZNAME:EST
DTSTART:20251102T060000
END:STANDARD
BEGIN:DAYLIGHT
TZOFFSETFROM:-0500
TZOFFSETTO:-0400
TZNAME:EDT
DTSTART:20260308T070000
END:DAYLIGHT
BEGIN:STANDARD
TZOFFSETFROM:-0400
TZOFFSETTO:-0500
TZNAME:EST
DTSTART:20261101T060000
END:STANDARD
END:VTIMEZONE
BEGIN:VEVENT
DTSTART;VALUE=DATE:20250608
DTEND;VALUE=DATE:20250609
DTSTAMP:20260420T160050
CREATED:20250610T153015Z
LAST-MODIFIED:20250610T153015Z
UID:5392-1749340800-1749427199@nhcministries.org
SUMMARY:Pentecost Sunday
DESCRIPTION:
URL:https://nhcministries.org/event/pentecost-sunday/
END:VEVENT
BEGIN:VEVENT
DTSTART;VALUE=DATE:20250608
DTEND;VALUE=DATE:20250609
DTSTAMP:20260420T160050
CREATED:20250610T153108Z
LAST-MODIFIED:20250610T153108Z
UID:5395-1749340800-1749427199@nhcministries.org
SUMMARY:Crochet Ministry
DESCRIPTION:
URL:https://nhcministries.org/event/crochet-ministry/
END:VEVENT
BEGIN:VEVENT
DTSTART;TZID=America/New_York:20250608T093000
DTEND;TZID=America/New_York:20250608T100000
DTSTAMP:20260420T160050
CREATED:20250610T155419Z
LAST-MODIFIED:20250610T165944Z
UID:5421-1749375000-1749376800@nhcministries.org
SUMMARY:Morning Prayer - In Person
DESCRIPTION:
URL:https://nhcministries.org/event/sunday-morning-prayer-930-am-in-person-138/
END:VEVENT
BEGIN:VEVENT
DTSTART;TZID=America/New_York:20250608T100000
DTEND;TZID=America/New_York:20250608T120000
DTSTAMP:20260420T160050
CREATED:20250610T152541Z
LAST-MODIFIED:20250610T165909Z
UID:5381-1749376800-1749384000@nhcministries.org
SUMMARY:Worship Service - In Person & Facebook
DESCRIPTION:
URL:https://nhcministries.org/event/pentecost-worship-service-1000-am-in-person-facebook/
END:VEVENT
BEGIN:VEVENT
DTSTART;TZID=America/New_York:20250610T190000
DTEND;TZID=America/New_York:20250610T193000
DTSTAMP:20260420T160050
CREATED:20250603T222607Z
LAST-MODIFIED:20250610T165824Z
UID:5348-1749582000-1749583800@nhcministries.org
SUMMARY:Intercessory Prayer   Dial In Number : 605-313-4822; Access Code: 603429
DESCRIPTION:
URL:https://nhcministries.org/event/intercessory-prayer-700-pm-dial-in-number-605-313-4822-access-code-603429-140/
END:VEVENT
BEGIN:VEVENT
DTSTART;TZID=America/New_York:20250611T183000
DTEND;TZID=America/New_York:20250611T190000
DTSTAMP:20260420T160050
CREATED:20250610T162308Z
LAST-MODIFIED:20250610T165742Z
UID:5461-1749666600-1749668400@nhcministries.org
SUMMARY:Auxiliary Meeting
DESCRIPTION:
URL:https://nhcministries.org/event/auxiliary-meeting-3/
END:VEVENT
BEGIN:VEVENT
DTSTART;TZID=America/New_York:20250611T190000
DTEND;TZID=America/New_York:20250611T200000
DTSTAMP:20260420T160050
CREATED:20250610T160650Z
LAST-MODIFIED:20250610T165711Z
UID:5447-1749668400-1749672000@nhcministries.org
SUMMARY:Bible Study - In-Person & Google Meet
DESCRIPTION:
URL:https://nhcministries.org/event/bible-study-in-person-google-meet-700-pm-2/
END:VEVENT
BEGIN:VEVENT
DTSTART;TZID=America/New_York:20250612T160000
DTEND;TZID=America/New_York:20250612T180000
DTSTAMP:20260420T160050
CREATED:20250610T160201Z
LAST-MODIFIED:20250610T165636Z
UID:5438-1749744000-1749751200@nhcministries.org
SUMMARY:Project Hope Food Pantry
DESCRIPTION:
URL:https://nhcministries.org/event/project-hope-food-pantry-400-pm-600-pm-68/
END:VEVENT
BEGIN:VEVENT
DTSTART;TZID=America/New_York:20250612T183000
DTEND;TZID=America/New_York:20250612T200000
DTSTAMP:20260420T160050
CREATED:20250610T155021Z
LAST-MODIFIED:20250610T165605Z
UID:5412-1749753000-1749758400@nhcministries.org
SUMMARY:Praise Team Rehearsal
DESCRIPTION:
URL:https://nhcministries.org/event/praise-team-rehearsal-630-pm-136/
END:VEVENT
BEGIN:VEVENT
DTSTART;VALUE=DATE:20250615
DTEND;VALUE=DATE:20250616
DTSTAMP:20260420T160050
CREATED:20250610T152843Z
LAST-MODIFIED:20250610T152843Z
UID:5388-1749945600-1750031999@nhcministries.org
SUMMARY:Father's Day
DESCRIPTION:
URL:https://nhcministries.org/event/fathers-day-3/
END:VEVENT
BEGIN:VEVENT
DTSTART;TZID=America/New_York:20250615T093000
DTEND;TZID=America/New_York:20250615T100000
DTSTAMP:20260420T160050
CREATED:20250610T155450Z
LAST-MODIFIED:20250610T165532Z
UID:5423-1749979800-1749981600@nhcministries.org
SUMMARY:Morning Prayer - In Person
DESCRIPTION:
URL:https://nhcministries.org/event/sunday-morning-prayer-930-am-in-person-139/
END:VEVENT
BEGIN:VEVENT
DTSTART;TZID=America/New_York:20250615T100000
DTEND;TZID=America/New_York:20250615T120000
DTSTAMP:20260420T160050
CREATED:20250610T152800Z
LAST-MODIFIED:20250610T165456Z
UID:5385-1749981600-1749988800@nhcministries.org
SUMMARY:Worship Service - In Person & Facebook
DESCRIPTION:
URL:https://nhcministries.org/event/worship-service-1000-am-in-person-facebook-94/
END:VEVENT
BEGIN:VEVENT
DTSTART;TZID=America/New_York:20250617T190000
DTEND;TZID=America/New_York:20250617T193000
DTSTAMP:20260420T160050
CREATED:20250603T222647Z
LAST-MODIFIED:20250610T165409Z
UID:5350-1750186800-1750188600@nhcministries.org
SUMMARY:Intercessory Prayer    Dial In Number : 605-313-4822; Access Code: 603429
DESCRIPTION:
URL:https://nhcministries.org/event/intercessory-prayer-700-pm-dial-in-number-605-313-4822-access-code-603429-141/
END:VEVENT
BEGIN:VEVENT
DTSTART;TZID=America/New_York:20250618T183000
DTEND;TZID=America/New_York:20250618T190000
DTSTAMP:20260420T160050
CREATED:20250610T162401Z
LAST-MODIFIED:20250610T165333Z
UID:5463-1750271400-1750273200@nhcministries.org
SUMMARY:Auxiliary Meeting
DESCRIPTION:
URL:https://nhcministries.org/event/auxiliary-meeting-4/
END:VEVENT
BEGIN:VEVENT
DTSTART;TZID=America/New_York:20250618T190000
DTEND;TZID=America/New_York:20250618T200000
DTSTAMP:20260420T160050
CREATED:20250610T160724Z
LAST-MODIFIED:20250610T165307Z
UID:5449-1750273200-1750276800@nhcministries.org
SUMMARY:Bible Study - In-Person & Google Meet
DESCRIPTION:
URL:https://nhcministries.org/event/bible-study-in-person-google-meet-700-pm-3/
END:VEVENT
BEGIN:VEVENT
DTSTART;TZID=America/New_York:20250619T160000
DTEND;TZID=America/New_York:20250619T180000
DTSTAMP:20260420T160050
CREATED:20250610T160237Z
LAST-MODIFIED:20250610T165238Z
UID:5440-1750348800-1750356000@nhcministries.org
SUMMARY:Project Hope Food Pantry
DESCRIPTION:
URL:https://nhcministries.org/event/project-hope-food-pantry-400-pm-600-pm-69/
END:VEVENT
BEGIN:VEVENT
DTSTART;TZID=America/New_York:20250619T183000
DTEND;TZID=America/New_York:20250619T200000
DTSTAMP:20260420T160050
CREATED:20250610T155056Z
LAST-MODIFIED:20250610T165112Z
UID:5414-1750357800-1750363200@nhcministries.org
SUMMARY:Praise Team Rehearsal
DESCRIPTION:
URL:https://nhcministries.org/event/praise-team-rehearsal-630-pm-137/
END:VEVENT
BEGIN:VEVENT
DTSTART;TZID=America/New_York:20250621T090000
DTEND;TZID=America/New_York:20250621T100000
DTSTAMP:20260420T160050
CREATED:20250610T162822Z
LAST-MODIFIED:20250610T165149Z
UID:5469-1750496400-1750500000@nhcministries.org
SUMMARY:Women's Department Meeting - W.I.S.D.O.M.   (605) 313-4822 Access Code 603429#
DESCRIPTION:
URL:https://nhcministries.org/event/womens-department-meeting-w-i-s-d-o-m-900-am-605-313-4822-access-code-603429-22/
END:VEVENT
BEGIN:VEVENT
DTSTART;TZID=America/New_York:20250622T093000
DTEND;TZID=America/New_York:20250622T100000
DTSTAMP:20260420T160050
CREATED:20250610T155522Z
LAST-MODIFIED:20250610T165019Z
UID:5426-1750584600-1750586400@nhcministries.org
SUMMARY:Morning Prayer - In Person
DESCRIPTION:
URL:https://nhcministries.org/event/sunday-morning-prayer-930-am-in-person-140/
END:VEVENT
BEGIN:VEVENT
DTSTART;TZID=America/New_York:20250622T100000
DTEND;TZID=America/New_York:20250622T120000
DTSTAMP:20260420T160050
CREATED:20250610T153537Z
LAST-MODIFIED:20250610T164942Z
UID:5401-1750586400-1750593600@nhcministries.org
SUMMARY:Worship Service - In Person & Facebook
DESCRIPTION:
URL:https://nhcministries.org/event/worship-service-1000-am-in-person-facebook-96/
END:VEVENT
BEGIN:VEVENT
DTSTART;TZID=America/New_York:20250624T190000
DTEND;TZID=America/New_York:20250624T193000
DTSTAMP:20260420T160050
CREATED:20250603T222725Z
LAST-MODIFIED:20250610T164902Z
UID:5352-1750791600-1750793400@nhcministries.org
SUMMARY:Intercessory Prayer   Dial In Number : 605-313-4822; Access Code: 603429
DESCRIPTION:
URL:https://nhcministries.org/event/intercessory-prayer-700-pm-dial-in-number-605-313-4822-access-code-603429-142/
END:VEVENT
BEGIN:VEVENT
DTSTART;TZID=America/New_York:20250625T183000
DTEND;TZID=America/New_York:20250625T190000
DTSTAMP:20260420T160050
CREATED:20250610T161325Z
LAST-MODIFIED:20250610T164445Z
UID:5455-1750876200-1750878000@nhcministries.org
SUMMARY:Auxiliary Meeting
DESCRIPTION:
URL:https://nhcministries.org/event/auxiliary-meeting/
END:VEVENT
BEGIN:VEVENT
DTSTART;TZID=America/New_York:20250625T190000
DTEND;TZID=America/New_York:20250625T200000
DTSTAMP:20260420T160050
CREATED:20250610T160802Z
LAST-MODIFIED:20250610T164808Z
UID:5451-1750878000-1750881600@nhcministries.org
SUMMARY:Bible Study - In-Person & Google Meet
DESCRIPTION:
URL:https://nhcministries.org/event/bible-study-in-person-google-meet-700-pm-4/
END:VEVENT
BEGIN:VEVENT
DTSTART;TZID=America/New_York:20250626T160000
DTEND;TZID=America/New_York:20250626T180000
DTSTAMP:20260420T160050
CREATED:20250610T160312Z
LAST-MODIFIED:20250610T164738Z
UID:5442-1750953600-1750960800@nhcministries.org
SUMMARY:Project Hope Food Pantry
DESCRIPTION:
URL:https://nhcministries.org/event/project-hope-food-pantry-400-pm-600-pm-70/
END:VEVENT
BEGIN:VEVENT
DTSTART;TZID=America/New_York:20250626T183000
DTEND;TZID=America/New_York:20250626T200000
DTSTAMP:20260420T160050
CREATED:20250610T155130Z
LAST-MODIFIED:20250610T164714Z
UID:5416-1750962600-1750968000@nhcministries.org
SUMMARY:Praise Team Rehearsal
DESCRIPTION:
URL:https://nhcministries.org/event/praise-team-rehearsal-630-pm-138/
END:VEVENT
BEGIN:VEVENT
DTSTART;TZID=America/New_York:20250627T180000
DTEND;TZID=America/New_York:20250627T203000
DTSTAMP:20260420T160050
CREATED:20250610T162631Z
LAST-MODIFIED:20250610T162631Z
UID:5467-1751047200-1751056200@nhcministries.org
SUMMARY:Vacation Bible School  (VBS)
DESCRIPTION:
URL:https://nhcministries.org/event/vacation-bible-school-vbs/
END:VEVENT
BEGIN:VEVENT
DTSTART;TZID=America/New_York:20250628T093000
DTEND;TZID=America/New_York:20250628T110000
DTSTAMP:20260420T160050
CREATED:20250610T163010Z
LAST-MODIFIED:20250610T164644Z
UID:5471-1751103000-1751108400@nhcministries.org
SUMMARY:S.A.L.T. Meeting
DESCRIPTION:
URL:https://nhcministries.org/event/s-a-l-t-meeting-930-am-1100-am/
END:VEVENT
BEGIN:VEVENT
DTSTART;TZID=America/New_York:20250628T110000
DTEND;TZID=America/New_York:20250628T120000
DTSTAMP:20260420T160050
CREATED:20250610T163110Z
LAST-MODIFIED:20250610T164620Z
UID:5473-1751108400-1751112000@nhcministries.org
SUMMARY:Ministry Team Meeting
DESCRIPTION:
URL:https://nhcministries.org/event/ministry-team-meeting-1100-am-1200-pm/
END:VEVENT
BEGIN:VEVENT
DTSTART;VALUE=DATE:20250629
DTEND;VALUE=DATE:20250630
DTSTAMP:20260420T160050
CREATED:20250610T154520Z
LAST-MODIFIED:20250610T154520Z
UID:5406-1751155200-1751241599@nhcministries.org
SUMMARY:Shepherds Care 50/50 Raffle
DESCRIPTION:
URL:https://nhcministries.org/event/shepherds-care-50-50-raffle/
END:VEVENT
BEGIN:VEVENT
DTSTART;TZID=America/New_York:20250629T093000
DTEND;TZID=America/New_York:20250629T100000
DTSTAMP:20260420T160050
CREATED:20250610T155557Z
LAST-MODIFIED:20250610T164547Z
UID:5428-1751189400-1751191200@nhcministries.org
SUMMARY:Morning Prayer - In Person
DESCRIPTION:
URL:https://nhcministries.org/event/sunday-morning-prayer-930-am-in-person-141/
END:VEVENT
END:VCALENDAR