BEGIN:VCALENDAR
VERSION:2.0
PRODID:-//New Hope Christian Ministries - ECPv6.15.20//NONSGML v1.0//EN
CALSCALE:GREGORIAN
METHOD:PUBLISH
X-WR-CALNAME:New Hope Christian Ministries
X-ORIGINAL-URL:https://nhcministries.org
X-WR-CALDESC:Events for New Hope Christian Ministries
REFRESH-INTERVAL;VALUE=DURATION:PT1H
X-Robots-Tag:noindex
X-PUBLISHED-TTL:PT1H
BEGIN:VTIMEZONE
TZID:UTC
BEGIN:STANDARD
TZOFFSETFROM:+0000
TZOFFSETTO:+0000
TZNAME:UTC
DTSTART:20220101T000000
END:STANDARD
END:VTIMEZONE
BEGIN:VEVENT
DTSTART;TZID=UTC:20230420T183000
DTEND;TZID=UTC:20230420T203000
DTSTAMP:20260421T220224
CREATED:20230401T223408Z
LAST-MODIFIED:20230401T223408Z
UID:4121-1682015400-1682022600@nhcministries.org
SUMMARY:Praise Team Rehearsal 6:30 PM
DESCRIPTION:
URL:https://nhcministries.org/event/praise-team-rehearsal-630-pm-108/
END:VEVENT
BEGIN:VEVENT
DTSTART;TZID=UTC:20230420T160000
DTEND;TZID=UTC:20230420T180000
DTSTAMP:20260421T220224
CREATED:20230401T223654Z
LAST-MODIFIED:20230401T223654Z
UID:4130-1682006400-1682013600@nhcministries.org
SUMMARY:Project Hope Food Pantry    4:00 PM - 6:00 PM
DESCRIPTION:
URL:https://nhcministries.org/event/project-hope-food-pantry-400-pm-600-pm-40/
END:VEVENT
BEGIN:VEVENT
DTSTART;TZID=UTC:20230419T193000
DTEND;TZID=UTC:20230419T203000
DTSTAMP:20260421T220224
CREATED:20230401T224107Z
LAST-MODIFIED:20230401T224107Z
UID:4139-1681932600-1681936200@nhcministries.org
SUMMARY:Bible Study - Google Meet 7:30 PM
DESCRIPTION:
URL:https://nhcministries.org/event/bible-study-google-meet-730-pm-7/
END:VEVENT
BEGIN:VEVENT
DTSTART;TZID=UTC:20230418T190000
DTEND;TZID=UTC:20230418T193000
DTSTAMP:20260421T220224
CREATED:20230401T224406Z
LAST-MODIFIED:20230401T224406Z
UID:4147-1681844400-1681846200@nhcministries.org
SUMMARY:Intercessory Prayer 7:00 PM   Dial In Number : 605-313-4822; Access Code: 603429
DESCRIPTION:
URL:https://nhcministries.org/event/intercessory-prayer-700-pm-dial-in-number-605-313-4822-access-code-603429-112/
END:VEVENT
BEGIN:VEVENT
DTSTART;TZID=UTC:20230416T100000
DTEND;TZID=UTC:20230416T120000
DTSTAMP:20260421T220224
CREATED:20230401T224706Z
LAST-MODIFIED:20230401T224706Z
UID:4155-1681639200-1681646400@nhcministries.org
SUMMARY:Worship Service 10:00 AM - In Person & Facebook
DESCRIPTION:
URL:https://nhcministries.org/event/worship-service-1000-am-in-person-facebook-73/
END:VEVENT
BEGIN:VEVENT
DTSTART;TZID=UTC:20230416T093000
DTEND;TZID=UTC:20230416T100000
DTSTAMP:20260421T220224
CREATED:20230401T225021Z
LAST-MODIFIED:20230401T225021Z
UID:4165-1681637400-1681639200@nhcministries.org
SUMMARY:Sunday Morning Prayer 9:30 AM - In Person
DESCRIPTION:
URL:https://nhcministries.org/event/sunday-morning-prayer-930-am-in-person-108/
END:VEVENT
BEGIN:VEVENT
DTSTART;TZID=UTC:20230415T090000
DTEND;TZID=UTC:20230415T220000
DTSTAMP:20260421T220224
CREATED:20230401T230316Z
LAST-MODIFIED:20230401T230343Z
UID:4181-1681549200-1681596000@nhcministries.org
SUMMARY:Women's Department Meeting - W.I.S.D.O.M. 9:00 AM  (605) 313-4822 Access Code 603429#
DESCRIPTION:
URL:https://nhcministries.org/event/womens-department-meeting-w-i-s-d-o-m-900-am-605-313-4822-access-code-603429-18/
END:VEVENT
BEGIN:VEVENT
DTSTART;TZID=UTC:20230413T183000
DTEND;TZID=UTC:20230413T203000
DTSTAMP:20260421T220224
CREATED:20230401T223335Z
LAST-MODIFIED:20230401T223335Z
UID:4118-1681410600-1681417800@nhcministries.org
SUMMARY:Praise Team Rehearsal 6:30 PM
DESCRIPTION:
URL:https://nhcministries.org/event/praise-team-rehearsal-630-pm-107/
END:VEVENT
BEGIN:VEVENT
DTSTART;TZID=UTC:20230413T160000
DTEND;TZID=UTC:20230413T180000
DTSTAMP:20260421T220224
CREATED:20230401T223612Z
LAST-MODIFIED:20230401T223612Z
UID:4128-1681401600-1681408800@nhcministries.org
SUMMARY:Project Hope Food Pantry    4:00 PM - 6:00 PM
DESCRIPTION:
URL:https://nhcministries.org/event/project-hope-food-pantry-400-pm-600-pm-39/
END:VEVENT
BEGIN:VEVENT
DTSTART;TZID=UTC:20230412T193000
DTEND;TZID=UTC:20230412T203000
DTSTAMP:20260421T220224
CREATED:20230401T224033Z
LAST-MODIFIED:20230401T224033Z
UID:4137-1681327800-1681331400@nhcministries.org
SUMMARY:Bible Study - Google Meet 7:30 PM
DESCRIPTION:
URL:https://nhcministries.org/event/bible-study-google-meet-730-pm-6/
END:VEVENT
BEGIN:VEVENT
DTSTART;TZID=UTC:20230411T190000
DTEND;TZID=UTC:20230411T193000
DTSTAMP:20260421T220224
CREATED:20230401T224319Z
LAST-MODIFIED:20230401T224319Z
UID:4145-1681239600-1681241400@nhcministries.org
SUMMARY:Intercessory Prayer 7:00 PM   Dial In Number : 605-313-4822; Access Code: 603429
DESCRIPTION:
URL:https://nhcministries.org/event/intercessory-prayer-700-pm-dial-in-number-605-313-4822-access-code-603429-111/
END:VEVENT
BEGIN:VEVENT
DTSTART;TZID=UTC:20230409T100000
DTEND;TZID=UTC:20230409T120000
DTSTAMP:20260421T220224
CREATED:20230401T224635Z
LAST-MODIFIED:20230401T224635Z
UID:4153-1681034400-1681041600@nhcministries.org
SUMMARY:Worship Service 10:00 AM - In Person & Facebook
DESCRIPTION:
URL:https://nhcministries.org/event/worship-service-1000-am-in-person-facebook-72/
END:VEVENT
BEGIN:VEVENT
DTSTART;TZID=UTC:20230409T093000
DTEND;TZID=UTC:20230409T100000
DTSTAMP:20260421T220224
CREATED:20230401T224949Z
LAST-MODIFIED:20230401T224949Z
UID:4163-1681032600-1681034400@nhcministries.org
SUMMARY:Sunday Morning Prayer 9:30 AM - In Person
DESCRIPTION:
URL:https://nhcministries.org/event/sunday-morning-prayer-930-am-in-person-107/
END:VEVENT
BEGIN:VEVENT
DTSTART;VALUE=DATE:20230409
DTEND;VALUE=DATE:20230410
DTSTAMP:20260421T220224
CREATED:20230401T225506Z
LAST-MODIFIED:20230401T225506Z
UID:4177-1680998400-1681084799@nhcministries.org
SUMMARY:Easter Sunday
DESCRIPTION:
URL:https://nhcministries.org/event/easter-sunday/
END:VEVENT
BEGIN:VEVENT
DTSTART;VALUE=DATE:20230409
DTEND;VALUE=DATE:20230410
DTSTAMP:20260421T220224
CREATED:20230401T225211Z
LAST-MODIFIED:20230401T225211Z
UID:4172-1680998400-1681084799@nhcministries.org
SUMMARY:Easter Egg Hunt
DESCRIPTION:
URL:https://nhcministries.org/event/easter-egg-hunt-2/
END:VEVENT
BEGIN:VEVENT
DTSTART;TZID=UTC:20230406T183000
DTEND;TZID=UTC:20230406T203000
DTSTAMP:20260421T220224
CREATED:20230401T223302Z
LAST-MODIFIED:20230401T223302Z
UID:4116-1680805800-1680813000@nhcministries.org
SUMMARY:Praise Team Rehearsal 6:30 PM
DESCRIPTION:
URL:https://nhcministries.org/event/praise-team-rehearsal-630-pm-106/
END:VEVENT
BEGIN:VEVENT
DTSTART;TZID=UTC:20230406T160000
DTEND;TZID=UTC:20230406T180000
DTSTAMP:20260421T220224
CREATED:20230401T223544Z
LAST-MODIFIED:20230401T223544Z
UID:4126-1680796800-1680804000@nhcministries.org
SUMMARY:Project Hope Food Pantry    4:00 PM - 6:00 PM
DESCRIPTION:
URL:https://nhcministries.org/event/project-hope-food-pantry-400-pm-600-pm-38/
END:VEVENT
BEGIN:VEVENT
DTSTART;TZID=UTC:20230405T193000
DTEND;TZID=UTC:20230405T203000
DTSTAMP:20260421T220224
CREATED:20230401T223956Z
LAST-MODIFIED:20230401T223956Z
UID:4134-1680723000-1680726600@nhcministries.org
SUMMARY:Bible Study - Google Meet 7:30 PM
DESCRIPTION:
URL:https://nhcministries.org/event/bible-study-google-meet-730-pm-5/
END:VEVENT
BEGIN:VEVENT
DTSTART;TZID=UTC:20230404T190000
DTEND;TZID=UTC:20230404T193000
DTSTAMP:20260421T220224
CREATED:20230401T224241Z
LAST-MODIFIED:20230401T224241Z
UID:4143-1680634800-1680636600@nhcministries.org
SUMMARY:Intercessory Prayer 7:00 PM   Dial In Number : 605-313-4822; Access Code: 603429
DESCRIPTION:
URL:https://nhcministries.org/event/intercessory-prayer-700-pm-dial-in-number-605-313-4822-access-code-603429-110/
END:VEVENT
BEGIN:VEVENT
DTSTART;TZID=UTC:20230402T100000
DTEND;TZID=UTC:20230402T120000
DTSTAMP:20260421T220224
CREATED:20230401T224557Z
LAST-MODIFIED:20230401T224557Z
UID:4151-1680429600-1680436800@nhcministries.org
SUMMARY:Worship Service 10:00 AM - In Person & Facebook
DESCRIPTION:
URL:https://nhcministries.org/event/worship-service-1000-am-in-person-facebook-71/
END:VEVENT
BEGIN:VEVENT
DTSTART;TZID=UTC:20230402T093000
DTEND;TZID=UTC:20230402T100000
DTSTAMP:20260421T220224
CREATED:20230401T224920Z
LAST-MODIFIED:20230401T224920Z
UID:4161-1680427800-1680429600@nhcministries.org
SUMMARY:Sunday Morning Prayer 9:30 AM - In Person
DESCRIPTION:
URL:https://nhcministries.org/event/sunday-morning-prayer-930-am-in-person-106/
END:VEVENT
BEGIN:VEVENT
DTSTART;VALUE=DATE:20230402
DTEND;VALUE=DATE:20230403
DTSTAMP:20260421T220224
CREATED:20230401T225423Z
LAST-MODIFIED:20230401T225423Z
UID:4175-1680393600-1680479999@nhcministries.org
SUMMARY:Palm Sunday
DESCRIPTION:
URL:https://nhcministries.org/event/palm-sunday-2/
END:VEVENT
BEGIN:VEVENT
DTSTART;TZID=UTC:20230401T090000
DTEND;TZID=UTC:20230401T100000
DTSTAMP:20260421T220224
CREATED:20230401T225807Z
LAST-MODIFIED:20230401T225807Z
UID:4179-1680339600-1680343200@nhcministries.org
SUMMARY:Men's Ministry Meeting   9:00 AM
DESCRIPTION:
URL:https://nhcministries.org/event/mens-ministry-meeting-900-am-3/
END:VEVENT
BEGIN:VEVENT
DTSTART;TZID=UTC:20230331T190000
DTEND;TZID=UTC:20230331T210000
DTSTAMP:20260421T220224
CREATED:20230227T231519Z
LAST-MODIFIED:20230227T231519Z
UID:4100-1680289200-1680296400@nhcministries.org
SUMMARY:REVIVAL  7:00 PM
DESCRIPTION:
URL:https://nhcministries.org/event/revival-700-pm/
END:VEVENT
BEGIN:VEVENT
DTSTART;TZID=UTC:20230330T183000
DTEND;TZID=UTC:20230330T203000
DTSTAMP:20260421T220224
CREATED:20230227T225736Z
LAST-MODIFIED:20230227T225736Z
UID:4078-1680201000-1680208200@nhcministries.org
SUMMARY:Praise Team Rehearsal 6:30 PM
DESCRIPTION:
URL:https://nhcministries.org/event/praise-team-rehearsal-630-pm-105/
END:VEVENT
BEGIN:VEVENT
DTSTART;TZID=UTC:20230330T160000
DTEND;TZID=UTC:20230330T180000
DTSTAMP:20260421T220224
CREATED:20230227T230341Z
LAST-MODIFIED:20230227T230341Z
UID:4088-1680192000-1680199200@nhcministries.org
SUMMARY:Project Hope Food Pantry    4:00 PM - 6:00 PM
DESCRIPTION:
URL:https://nhcministries.org/event/project-hope-food-pantry-400-pm-600-pm-37/
END:VEVENT
BEGIN:VEVENT
DTSTART;TZID=UTC:20230329T193000
DTEND;TZID=UTC:20230329T203000
DTSTAMP:20260421T220224
CREATED:20230227T231149Z
LAST-MODIFIED:20230227T231149Z
UID:4098-1680118200-1680121800@nhcministries.org
SUMMARY:Bible Study - Google Meet 7:30 PM
DESCRIPTION:
URL:https://nhcministries.org/event/bible-study-google-meet-730-pm-4/
END:VEVENT
BEGIN:VEVENT
DTSTART;TZID=UTC:20230328T190000
DTEND;TZID=UTC:20230328T193000
DTSTAMP:20260421T220224
CREATED:20230227T224616Z
LAST-MODIFIED:20230227T224616Z
UID:4050-1680030000-1680031800@nhcministries.org
SUMMARY:Intercessory Prayer 7:00 PM   Dial In Number : 605-313-4822; Access Code: 603429
DESCRIPTION:
URL:https://nhcministries.org/event/intercessory-prayer-700-pm-dial-in-number-605-313-4822-access-code-603429-109/
END:VEVENT
BEGIN:VEVENT
DTSTART;TZID=UTC:20230326T110000
DTEND;TZID=UTC:20230326T130000
DTSTAMP:20260421T220224
CREATED:20230227T231949Z
LAST-MODIFIED:20230227T232211Z
UID:4108-1679828400-1679835600@nhcministries.org
SUMMARY:Pastor Shirley @ God's House of Blessing
DESCRIPTION:
URL:https://nhcministries.org/event/pastor-shirley-gods-house-of-blessing/
END:VEVENT
BEGIN:VEVENT
DTSTART;TZID=UTC:20230326T100000
DTEND;TZID=UTC:20230326T120000
DTSTAMP:20260421T220224
CREATED:20230227T224925Z
LAST-MODIFIED:20230227T224925Z
UID:4058-1679824800-1679832000@nhcministries.org
SUMMARY:Worship Service 10:00 AM - In Person & Facebook
DESCRIPTION:
URL:https://nhcministries.org/event/worship-service-1000-am-in-person-facebook-70/
END:VEVENT
END:VCALENDAR