BEGIN:VCALENDAR
VERSION:2.0
PRODID:-//New Hope Christian Ministries - ECPv6.15.20//NONSGML v1.0//EN
CALSCALE:GREGORIAN
METHOD:PUBLISH
X-ORIGINAL-URL:https://nhcministries.org
X-WR-CALDESC:Events for New Hope Christian Ministries
REFRESH-INTERVAL;VALUE=DURATION:PT1H
X-Robots-Tag:noindex
X-PUBLISHED-TTL:PT1H
BEGIN:VTIMEZONE
TZID:America/New_York
BEGIN:DAYLIGHT
TZOFFSETFROM:-0500
TZOFFSETTO:-0400
TZNAME:EDT
DTSTART:20250309T070000
END:DAYLIGHT
BEGIN:STANDARD
TZOFFSETFROM:-0400
TZOFFSETTO:-0500
TZNAME:EST
DTSTART:20251102T060000
END:STANDARD
BEGIN:DAYLIGHT
TZOFFSETFROM:-0500
TZOFFSETTO:-0400
TZNAME:EDT
DTSTART:20260308T070000
END:DAYLIGHT
BEGIN:STANDARD
TZOFFSETFROM:-0400
TZOFFSETTO:-0500
TZNAME:EST
DTSTART:20261101T060000
END:STANDARD
BEGIN:DAYLIGHT
TZOFFSETFROM:-0500
TZOFFSETTO:-0400
TZNAME:EDT
DTSTART:20270314T070000
END:DAYLIGHT
BEGIN:STANDARD
TZOFFSETFROM:-0400
TZOFFSETTO:-0500
TZNAME:EST
DTSTART:20271107T060000
END:STANDARD
END:VTIMEZONE
BEGIN:VEVENT
DTSTART;TZID=America/New_York:20260107T190000
DTEND;TZID=America/New_York:20260107T200000
DTSTAMP:20260421T194243
CREATED:20260114T035240Z
LAST-MODIFIED:20260114T035240Z
UID:6078-1767812400-1767816000@nhcministries.org
SUMMARY:Bible Study - Google Meet
DESCRIPTION:
URL:https://nhcministries.org/event/bible-study-google-meet-16/
END:VEVENT
BEGIN:VEVENT
DTSTART;TZID=America/New_York:20260108T160000
DTEND;TZID=America/New_York:20260108T180000
DTSTAMP:20260421T194243
CREATED:20260114T034609Z
LAST-MODIFIED:20260114T034609Z
UID:6062-1767888000-1767895200@nhcministries.org
SUMMARY:Project Hope Food Pantry
DESCRIPTION:
URL:https://nhcministries.org/event/project-hope-food-pantry-21/
END:VEVENT
BEGIN:VEVENT
DTSTART;TZID=America/New_York:20260108T183000
DTEND;TZID=America/New_York:20260108T200000
DTSTAMP:20260421T194243
CREATED:20260114T034203Z
LAST-MODIFIED:20260114T034203Z
UID:6054-1767897000-1767902400@nhcministries.org
SUMMARY:Praise Team Rehearsal
DESCRIPTION:
URL:https://nhcministries.org/event/praise-team-rehearsal-22/
END:VEVENT
BEGIN:VEVENT
DTSTART;TZID=America/New_York:20260111T093000
DTEND;TZID=America/New_York:20260111T100000
DTSTAMP:20260421T194243
CREATED:20260114T032903Z
LAST-MODIFIED:20260114T032903Z
UID:6038-1768123800-1768125600@nhcministries.org
SUMMARY:Morning Prayer - In Person
DESCRIPTION:
URL:https://nhcministries.org/event/morning-prayer-in-person-23/
END:VEVENT
BEGIN:VEVENT
DTSTART;TZID=America/New_York:20260111T100000
DTEND;TZID=America/New_York:20260111T120000
DTSTAMP:20260421T194243
CREATED:20260114T032427Z
LAST-MODIFIED:20260114T032427Z
UID:6028-1768125600-1768132800@nhcministries.org
SUMMARY:Worship Service - In Person & Facebook
DESCRIPTION:
URL:https://nhcministries.org/event/worship-service-in-person-facebook-23/
END:VEVENT
BEGIN:VEVENT
DTSTART;TZID=America/New_York:20260113T190000
DTEND;TZID=America/New_York:20260113T193000
DTSTAMP:20260421T194243
CREATED:20260114T032031Z
LAST-MODIFIED:20260114T032031Z
UID:6020-1768330800-1768332600@nhcministries.org
SUMMARY:Intercessory Prayer   Dial In Number : 605-313-4822; Access Code: 603429
DESCRIPTION:
URL:https://nhcministries.org/event/intercessory-prayer-dial-in-number-605-313-4822-access-code-603429-25/
END:VEVENT
BEGIN:VEVENT
DTSTART;TZID=America/New_York:20260114T183000
DTEND;TZID=America/New_York:20260114T190000
DTSTAMP:20260421T194243
CREATED:20260114T035009Z
LAST-MODIFIED:20260114T035009Z
UID:6072-1768415400-1768417200@nhcministries.org
SUMMARY:Auxiliary Meeting
DESCRIPTION:
URL:https://nhcministries.org/event/auxiliary-meeting-26/
END:VEVENT
BEGIN:VEVENT
DTSTART;TZID=America/New_York:20260114T190000
DTEND;TZID=America/New_York:20260114T200000
DTSTAMP:20260421T194243
CREATED:20260114T035317Z
LAST-MODIFIED:20260114T035317Z
UID:6080-1768417200-1768420800@nhcministries.org
SUMMARY:Bible Study - Google Meet
DESCRIPTION:
URL:https://nhcministries.org/event/bible-study-google-meet-17/
END:VEVENT
BEGIN:VEVENT
DTSTART;TZID=America/New_York:20260115T160000
DTEND;TZID=America/New_York:20260115T180000
DTSTAMP:20260421T194243
CREATED:20260114T034641Z
LAST-MODIFIED:20260114T034641Z
UID:6064-1768492800-1768500000@nhcministries.org
SUMMARY:Project Hope Food Pantry
DESCRIPTION:
URL:https://nhcministries.org/event/project-hope-food-pantry-22/
END:VEVENT
BEGIN:VEVENT
DTSTART;TZID=America/New_York:20260115T183000
DTEND;TZID=America/New_York:20260115T200000
DTSTAMP:20260421T194243
CREATED:20260114T034236Z
LAST-MODIFIED:20260114T034236Z
UID:6056-1768501800-1768507200@nhcministries.org
SUMMARY:Praise Team Rehearsal
DESCRIPTION:
URL:https://nhcministries.org/event/praise-team-rehearsal-23/
END:VEVENT
BEGIN:VEVENT
DTSTART;TZID=America/New_York:20260116T170000
DTEND;TZID=America/New_York:20260116T180000
DTSTAMP:20260421T194243
CREATED:20260114T033937Z
LAST-MODIFIED:20260114T033937Z
UID:6050-1768582800-1768586400@nhcministries.org
SUMMARY:MIT/Elder Training
DESCRIPTION:
URL:https://nhcministries.org/event/mit-elder-training-4/
END:VEVENT
BEGIN:VEVENT
DTSTART;TZID=America/New_York:20260117T090000
DTEND;TZID=America/New_York:20260117T220000
DTSTAMP:20260421T194243
CREATED:20260114T040405Z
LAST-MODIFIED:20260114T040405Z
UID:6095-1768640400-1768687200@nhcministries.org
SUMMARY:Women's Department Meeting - W.I.S.D.O.M.   (605) 313-4822 Access Code 603429#
DESCRIPTION:
URL:https://nhcministries.org/event/womens-department-meeting-w-i-s-d-o-m-605-313-4822-access-code-603429-5/
END:VEVENT
BEGIN:VEVENT
DTSTART;TZID=America/New_York:20260118T093000
DTEND;TZID=America/New_York:20260118T100000
DTSTAMP:20260421T194243
CREATED:20260114T032942Z
LAST-MODIFIED:20260114T032942Z
UID:6040-1768728600-1768730400@nhcministries.org
SUMMARY:Morning Prayer - In Person
DESCRIPTION:
URL:https://nhcministries.org/event/morning-prayer-in-person-24/
END:VEVENT
BEGIN:VEVENT
DTSTART;TZID=America/New_York:20260118T100000
DTEND;TZID=America/New_York:20260118T120000
DTSTAMP:20260421T194243
CREATED:20260114T032510Z
LAST-MODIFIED:20260114T032510Z
UID:6030-1768730400-1768737600@nhcministries.org
SUMMARY:Worship Service - In Person & Facebook
DESCRIPTION:
URL:https://nhcministries.org/event/worship-service-in-person-facebook-24/
END:VEVENT
BEGIN:VEVENT
DTSTART;TZID=America/New_York:20260118T160000
DTEND;TZID=America/New_York:20260118T180000
DTSTAMP:20260421T194243
CREATED:20260114T032700Z
LAST-MODIFIED:20260114T032700Z
UID:6034-1768752000-1768759200@nhcministries.org
SUMMARY:Ordination/Licensing Service
DESCRIPTION:
URL:https://nhcministries.org/event/ordination-licensing-service/
END:VEVENT
BEGIN:VEVENT
DTSTART;TZID=America/New_York:20260120T190000
DTEND;TZID=America/New_York:20260120T193000
DTSTAMP:20260421T194243
CREATED:20260114T032107Z
LAST-MODIFIED:20260114T032107Z
UID:6022-1768935600-1768937400@nhcministries.org
SUMMARY:Intercessory Prayer   Dial In Number : 605-313-4822; Access Code: 603429
DESCRIPTION:
URL:https://nhcministries.org/event/intercessory-prayer-dial-in-number-605-313-4822-access-code-603429-26/
END:VEVENT
BEGIN:VEVENT
DTSTART;TZID=America/New_York:20260121T183000
DTEND;TZID=America/New_York:20260121T190000
DTSTAMP:20260421T194243
CREATED:20260114T035041Z
LAST-MODIFIED:20260114T035041Z
UID:6074-1769020200-1769022000@nhcministries.org
SUMMARY:Auxiliary Meeting
DESCRIPTION:
URL:https://nhcministries.org/event/auxiliary-meeting-27/
END:VEVENT
BEGIN:VEVENT
DTSTART;TZID=America/New_York:20260121T190000
DTEND;TZID=America/New_York:20260121T200000
DTSTAMP:20260421T194243
CREATED:20260114T035348Z
LAST-MODIFIED:20260114T035348Z
UID:6082-1769022000-1769025600@nhcministries.org
SUMMARY:Bible Study - Google Meet
DESCRIPTION:
URL:https://nhcministries.org/event/bible-study-google-meet-18/
END:VEVENT
BEGIN:VEVENT
DTSTART;TZID=America/New_York:20260122T160000
DTEND;TZID=America/New_York:20260122T180000
DTSTAMP:20260421T194243
CREATED:20260114T034720Z
LAST-MODIFIED:20260114T034720Z
UID:6066-1769097600-1769104800@nhcministries.org
SUMMARY:Project Hope Food Pantry
DESCRIPTION:
URL:https://nhcministries.org/event/project-hope-food-pantry-23/
END:VEVENT
BEGIN:VEVENT
DTSTART;TZID=America/New_York:20260122T183000
DTEND;TZID=America/New_York:20260122T200000
DTSTAMP:20260421T194243
CREATED:20260114T034310Z
LAST-MODIFIED:20260114T034310Z
UID:6058-1769106600-1769112000@nhcministries.org
SUMMARY:Praise Team Rehearsal
DESCRIPTION:
URL:https://nhcministries.org/event/praise-team-rehearsal-24/
END:VEVENT
BEGIN:VEVENT
DTSTART;TZID=America/New_York:20260124T093000
DTEND;TZID=America/New_York:20260124T103000
DTSTAMP:20260421T194243
CREATED:20260114T040051Z
LAST-MODIFIED:20260114T040051Z
UID:6090-1769247000-1769250600@nhcministries.org
SUMMARY:Ministry Team Meeting
DESCRIPTION:
URL:https://nhcministries.org/event/ministry-team-meeting-7/
END:VEVENT
BEGIN:VEVENT
DTSTART;TZID=America/New_York:20260124T110000
DTEND;TZID=America/New_York:20260124T120000
DTSTAMP:20260421T194243
CREATED:20260114T040226Z
LAST-MODIFIED:20260114T040226Z
UID:6092-1769252400-1769256000@nhcministries.org
SUMMARY:S.A.L.T. Meeting
DESCRIPTION:
URL:https://nhcministries.org/event/s-a-l-t-meeting-5/
END:VEVENT
BEGIN:VEVENT
DTSTART;VALUE=DATE:20260125
DTEND;VALUE=DATE:20260126
DTSTAMP:20260421T194243
CREATED:20260114T033328Z
LAST-MODIFIED:20260114T033328Z
UID:6044-1769299200-1769385599@nhcministries.org
SUMMARY:Board of Directors Meeting
DESCRIPTION:
URL:https://nhcministries.org/event/board-of-directors-meeting-12/
END:VEVENT
BEGIN:VEVENT
DTSTART;VALUE=DATE:20260125
DTEND;VALUE=DATE:20260126
DTSTAMP:20260421T194243
CREATED:20260114T033406Z
LAST-MODIFIED:20260114T033406Z
UID:6046-1769299200-1769385599@nhcministries.org
SUMMARY:Blessing of Oil
DESCRIPTION:
URL:https://nhcministries.org/event/blessing-of-oil-3/
END:VEVENT
BEGIN:VEVENT
DTSTART;TZID=America/New_York:20260125T093000
DTEND;TZID=America/New_York:20260125T220000
DTSTAMP:20260421T194243
CREATED:20260114T033016Z
LAST-MODIFIED:20260114T033016Z
UID:6042-1769333400-1769378400@nhcministries.org
SUMMARY:Morning Prayer - In Person
DESCRIPTION:
URL:https://nhcministries.org/event/morning-prayer-in-person-25/
END:VEVENT
BEGIN:VEVENT
DTSTART;TZID=America/New_York:20260125T100000
DTEND;TZID=America/New_York:20260125T120000
DTSTAMP:20260421T194243
CREATED:20260114T032553Z
LAST-MODIFIED:20260114T032553Z
UID:6032-1769335200-1769342400@nhcministries.org
SUMMARY:Worship Service - In Person & Facebook
DESCRIPTION:
URL:https://nhcministries.org/event/worship-service-in-person-facebook-25/
END:VEVENT
BEGIN:VEVENT
DTSTART;TZID=America/New_York:20260127T190000
DTEND;TZID=America/New_York:20260127T193000
DTSTAMP:20260421T194243
CREATED:20260114T032208Z
LAST-MODIFIED:20260114T032208Z
UID:6024-1769540400-1769542200@nhcministries.org
SUMMARY:Intercessory Prayer   Dial In Number : 605-313-4822; Access Code: 603429
DESCRIPTION:
URL:https://nhcministries.org/event/intercessory-prayer-dial-in-number-605-313-4822-access-code-603429-27/
END:VEVENT
BEGIN:VEVENT
DTSTART;TZID=America/New_York:20260128T160000
DTEND;TZID=America/New_York:20260128T180000
DTSTAMP:20260421T194243
CREATED:20260114T035115Z
LAST-MODIFIED:20260114T035115Z
UID:6076-1769616000-1769623200@nhcministries.org
SUMMARY:Auxiliary Meeting
DESCRIPTION:
URL:https://nhcministries.org/event/auxiliary-meeting-28/
END:VEVENT
BEGIN:VEVENT
DTSTART;TZID=America/New_York:20260128T190000
DTEND;TZID=America/New_York:20260128T200000
DTSTAMP:20260421T194243
CREATED:20260114T035422Z
LAST-MODIFIED:20260114T035422Z
UID:6084-1769626800-1769630400@nhcministries.org
SUMMARY:Bible Study - Google Meet
DESCRIPTION:
URL:https://nhcministries.org/event/bible-study-google-meet-19/
END:VEVENT
BEGIN:VEVENT
DTSTART;TZID=America/New_York:20260129T160000
DTEND;TZID=America/New_York:20260129T180000
DTSTAMP:20260421T194243
CREATED:20260114T034756Z
LAST-MODIFIED:20260114T034756Z
UID:6068-1769702400-1769709600@nhcministries.org
SUMMARY:Project Hope Food Pantry
DESCRIPTION:
URL:https://nhcministries.org/event/project-hope-food-pantry-24/
END:VEVENT
END:VCALENDAR