BEGIN:VCALENDAR
VERSION:2.0
PRODID:-//New Hope Christian Ministries - ECPv6.15.20//NONSGML v1.0//EN
CALSCALE:GREGORIAN
METHOD:PUBLISH
X-WR-CALNAME:New Hope Christian Ministries
X-ORIGINAL-URL:https://nhcministries.org
X-WR-CALDESC:Events for New Hope Christian Ministries
REFRESH-INTERVAL;VALUE=DURATION:PT1H
X-Robots-Tag:noindex
X-PUBLISHED-TTL:PT1H
BEGIN:VTIMEZONE
TZID:America/New_York
BEGIN:DAYLIGHT
TZOFFSETFROM:-0500
TZOFFSETTO:-0400
TZNAME:EDT
DTSTART:20250309T070000
END:DAYLIGHT
BEGIN:STANDARD
TZOFFSETFROM:-0400
TZOFFSETTO:-0500
TZNAME:EST
DTSTART:20251102T060000
END:STANDARD
BEGIN:DAYLIGHT
TZOFFSETFROM:-0500
TZOFFSETTO:-0400
TZNAME:EDT
DTSTART:20260308T070000
END:DAYLIGHT
BEGIN:STANDARD
TZOFFSETFROM:-0400
TZOFFSETTO:-0500
TZNAME:EST
DTSTART:20261101T060000
END:STANDARD
BEGIN:DAYLIGHT
TZOFFSETFROM:-0500
TZOFFSETTO:-0400
TZNAME:EDT
DTSTART:20270314T070000
END:DAYLIGHT
BEGIN:STANDARD
TZOFFSETFROM:-0400
TZOFFSETTO:-0500
TZNAME:EST
DTSTART:20271107T060000
END:STANDARD
END:VTIMEZONE
BEGIN:VEVENT
DTSTART;TZID=America/New_York:20260219T160000
DTEND;TZID=America/New_York:20260219T180000
DTSTAMP:20260421T115728
CREATED:20260205T122726Z
LAST-MODIFIED:20260205T122726Z
UID:6113-1771516800-1771524000@nhcministries.org
SUMMARY:Project Hope Food Pantry
DESCRIPTION:
URL:https://nhcministries.org/event/project-hope-food-pantry-27/
END:VEVENT
BEGIN:VEVENT
DTSTART;TZID=America/New_York:20260218T190000
DTEND;TZID=America/New_York:20260218T200000
DTSTAMP:20260421T115728
CREATED:20260205T123040Z
LAST-MODIFIED:20260205T123040Z
UID:6121-1771441200-1771444800@nhcministries.org
SUMMARY:Bible Study - Google Meet
DESCRIPTION:
URL:https://nhcministries.org/event/bible-study-google-meet-22/
END:VEVENT
BEGIN:VEVENT
DTSTART;TZID=America/New_York:20260218T183000
DTEND;TZID=America/New_York:20260218T190000
DTSTAMP:20260421T115728
CREATED:20260205T124511Z
LAST-MODIFIED:20260205T124511Z
UID:6129-1771439400-1771441200@nhcministries.org
SUMMARY:Auxiliary Meeting
DESCRIPTION:
URL:https://nhcministries.org/event/auxiliary-meeting-31/
END:VEVENT
BEGIN:VEVENT
DTSTART;TZID=America/New_York:20260217T190000
DTEND;TZID=America/New_York:20260217T193000
DTSTAMP:20260421T115728
CREATED:20260205T125303Z
LAST-MODIFIED:20260205T125303Z
UID:6137-1771354800-1771356600@nhcministries.org
SUMMARY:Intercessory Prayer   Dial In Number : 605-313-4822; Access Code: 603429
DESCRIPTION:
URL:https://nhcministries.org/event/intercessory-prayer-dial-in-number-605-313-4822-access-code-603429-30/
END:VEVENT
BEGIN:VEVENT
DTSTART;TZID=America/New_York:20260215T100000
DTEND;TZID=America/New_York:20260215T120000
DTSTAMP:20260421T115728
CREATED:20260205T125603Z
LAST-MODIFIED:20260205T125603Z
UID:6147-1771149600-1771156800@nhcministries.org
SUMMARY:Worship Service - In Person & Facebook
DESCRIPTION:
URL:https://nhcministries.org/event/worship-service-in-person-facebook-28/
END:VEVENT
BEGIN:VEVENT
DTSTART;TZID=America/New_York:20260215T093000
DTEND;TZID=America/New_York:20260215T100000
DTSTAMP:20260421T115728
CREATED:20260205T130221Z
LAST-MODIFIED:20260205T130221Z
UID:6159-1771147800-1771149600@nhcministries.org
SUMMARY:Morning Prayer - In Person
DESCRIPTION:
URL:https://nhcministries.org/event/morning-prayer-in-person-28/
END:VEVENT
BEGIN:VEVENT
DTSTART;TZID=America/New_York:20260213T193000
DTEND;TZID=America/New_York:20260213T213000
DTSTAMP:20260421T115728
CREATED:20260114T034024Z
LAST-MODIFIED:20260205T131709Z
UID:6052-1771011000-1771018200@nhcministries.org
SUMMARY:Evening Service 7:30 PM - The Parables
DESCRIPTION:
URL:https://nhcministries.org/event/fruit-of-the-spirit-service/
END:VEVENT
BEGIN:VEVENT
DTSTART;TZID=America/New_York:20260213T170000
DTEND;TZID=America/New_York:20260213T180000
DTSTAMP:20260421T115728
CREATED:20260205T131251Z
LAST-MODIFIED:20260205T131251Z
UID:6167-1771002000-1771005600@nhcministries.org
SUMMARY:MIT/Elder Training
DESCRIPTION:
URL:https://nhcministries.org/event/mit-elder-training-5/
END:VEVENT
BEGIN:VEVENT
DTSTART;TZID=America/New_York:20260212T183000
DTEND;TZID=America/New_York:20260212T200000
DTSTAMP:20260421T115728
CREATED:20260205T122203Z
LAST-MODIFIED:20260205T122203Z
UID:6101-1770921000-1770926400@nhcministries.org
SUMMARY:Praise Team Rehearsal
DESCRIPTION:
URL:https://nhcministries.org/event/praise-team-rehearsal-27/
END:VEVENT
BEGIN:VEVENT
DTSTART;TZID=America/New_York:20260212T160000
DTEND;TZID=America/New_York:20260212T180000
DTSTAMP:20260421T115728
CREATED:20260205T122629Z
LAST-MODIFIED:20260205T122629Z
UID:6110-1770912000-1770919200@nhcministries.org
SUMMARY:Project Hope Food Pantry
DESCRIPTION:
URL:https://nhcministries.org/event/project-hope-food-pantry-26/
END:VEVENT
BEGIN:VEVENT
DTSTART;TZID=America/New_York:20260211T190000
DTEND;TZID=America/New_York:20260211T200000
DTSTAMP:20260421T115728
CREATED:20260205T122958Z
LAST-MODIFIED:20260205T122958Z
UID:6119-1770836400-1770840000@nhcministries.org
SUMMARY:Bible Study - Google Meet
DESCRIPTION:
URL:https://nhcministries.org/event/bible-study-google-meet-21/
END:VEVENT
BEGIN:VEVENT
DTSTART;TZID=America/New_York:20260211T183000
DTEND;TZID=America/New_York:20260211T190000
DTSTAMP:20260421T115728
CREATED:20260205T124441Z
LAST-MODIFIED:20260205T124441Z
UID:6127-1770834600-1770836400@nhcministries.org
SUMMARY:Auxiliary Meeting
DESCRIPTION:
URL:https://nhcministries.org/event/auxiliary-meeting-30/
END:VEVENT
BEGIN:VEVENT
DTSTART;TZID=America/New_York:20260210T190000
DTEND;TZID=America/New_York:20260210T193000
DTSTAMP:20260421T115728
CREATED:20260205T125234Z
LAST-MODIFIED:20260205T125234Z
UID:6135-1770750000-1770751800@nhcministries.org
SUMMARY:Intercessory Prayer   Dial In Number : 605-313-4822; Access Code: 603429
DESCRIPTION:
URL:https://nhcministries.org/event/intercessory-prayer-dial-in-number-605-313-4822-access-code-603429-29/
END:VEVENT
BEGIN:VEVENT
DTSTART;TZID=America/New_York:20260208T140000
DTEND;TZID=America/New_York:20260208T150000
DTSTAMP:20260421T115728
CREATED:20260205T132451Z
LAST-MODIFIED:20260205T132451Z
UID:6176-1770559200-1770562800@nhcministries.org
SUMMARY:Nursing Home Visit to H.H. Riverhouse
DESCRIPTION:
URL:https://nhcministries.org/event/nursing-home-visit-to-h-h-riverhouse-4/
END:VEVENT
BEGIN:VEVENT
DTSTART;TZID=America/New_York:20260208T100000
DTEND;TZID=America/New_York:20260208T120000
DTSTAMP:20260421T115728
CREATED:20260205T125536Z
LAST-MODIFIED:20260205T125536Z
UID:6144-1770544800-1770552000@nhcministries.org
SUMMARY:Worship Service - In Person & Facebook
DESCRIPTION:
URL:https://nhcministries.org/event/worship-service-in-person-facebook-27/
END:VEVENT
BEGIN:VEVENT
DTSTART;TZID=America/New_York:20260208T093000
DTEND;TZID=America/New_York:20260208T100000
DTSTAMP:20260421T115728
CREATED:20260205T130146Z
LAST-MODIFIED:20260205T130146Z
UID:6157-1770543000-1770544800@nhcministries.org
SUMMARY:Morning Prayer - In Person
DESCRIPTION:
URL:https://nhcministries.org/event/morning-prayer-in-person-27/
END:VEVENT
BEGIN:VEVENT
DTSTART;TZID=America/New_York:20260207T090000
DTEND;TZID=America/New_York:20260207T100000
DTSTAMP:20260421T115728
CREATED:20260205T131523Z
LAST-MODIFIED:20260205T131523Z
UID:6171-1770454800-1770458400@nhcministries.org
SUMMARY:Men's Ministry Meeting
DESCRIPTION:
URL:https://nhcministries.org/event/mens-ministry-meeting-5/
END:VEVENT
BEGIN:VEVENT
DTSTART;TZID=America/New_York:20260206T070000
DTEND;TZID=America/New_York:20260206T073000
DTSTAMP:20260421T115728
CREATED:20260205T132115Z
LAST-MODIFIED:20260205T132115Z
UID:6174-1770361200-1770363000@nhcministries.org
SUMMARY:Corporate Prayer
DESCRIPTION:
URL:https://nhcministries.org/event/corporate-prayer-8/
END:VEVENT
BEGIN:VEVENT
DTSTART;TZID=America/New_York:20260205T183000
DTEND;TZID=America/New_York:20260205T200000
DTSTAMP:20260421T115728
CREATED:20260205T122030Z
LAST-MODIFIED:20260205T122030Z
UID:6099-1770316200-1770321600@nhcministries.org
SUMMARY:Praise Team Rehearsal
DESCRIPTION:
URL:https://nhcministries.org/event/praise-team-rehearsal-26/
END:VEVENT
BEGIN:VEVENT
DTSTART;TZID=America/New_York:20260205T160000
DTEND;TZID=America/New_York:20260205T180000
DTSTAMP:20260421T115728
CREATED:20260205T122551Z
LAST-MODIFIED:20260205T122551Z
UID:6108-1770307200-1770314400@nhcministries.org
SUMMARY:Project Hope Food Pantry
DESCRIPTION:
URL:https://nhcministries.org/event/project-hope-food-pantry-25/
END:VEVENT
BEGIN:VEVENT
DTSTART;TZID=America/New_York:20260204T190000
DTEND;TZID=America/New_York:20260204T200000
DTSTAMP:20260421T115728
CREATED:20260205T122926Z
LAST-MODIFIED:20260205T122926Z
UID:6117-1770231600-1770235200@nhcministries.org
SUMMARY:Bible Study - Google Meet
DESCRIPTION:
URL:https://nhcministries.org/event/bible-study-google-meet-20/
END:VEVENT
BEGIN:VEVENT
DTSTART;TZID=America/New_York:20260204T183000
DTEND;TZID=America/New_York:20260204T190000
DTSTAMP:20260421T115728
CREATED:20260205T124404Z
LAST-MODIFIED:20260205T124404Z
UID:6125-1770229800-1770231600@nhcministries.org
SUMMARY:Auxiliary Meeting
DESCRIPTION:
URL:https://nhcministries.org/event/auxiliary-meeting-29/
END:VEVENT
BEGIN:VEVENT
DTSTART;TZID=America/New_York:20260203T190000
DTEND;TZID=America/New_York:20260203T193000
DTSTAMP:20260421T115728
CREATED:20260205T125203Z
LAST-MODIFIED:20260205T125203Z
UID:6133-1770145200-1770147000@nhcministries.org
SUMMARY:Intercessory Prayer   Dial In Number : 605-313-4822; Access Code: 603429
DESCRIPTION:
URL:https://nhcministries.org/event/intercessory-prayer-dial-in-number-605-313-4822-access-code-603429-28/
END:VEVENT
BEGIN:VEVENT
DTSTART;TZID=America/New_York:20260201T100000
DTEND;TZID=America/New_York:20260201T120000
DTSTAMP:20260421T115728
CREATED:20260205T125500Z
LAST-MODIFIED:20260205T125500Z
UID:6142-1769940000-1769947200@nhcministries.org
SUMMARY:Worship Service - In Person & Facebook
DESCRIPTION:
URL:https://nhcministries.org/event/worship-service-in-person-facebook-26/
END:VEVENT
BEGIN:VEVENT
DTSTART;TZID=America/New_York:20260201T093000
DTEND;TZID=America/New_York:20260201T100000
DTSTAMP:20260421T115728
CREATED:20260205T130119Z
LAST-MODIFIED:20260205T130119Z
UID:6155-1769938200-1769940000@nhcministries.org
SUMMARY:Morning Prayer - In Person
DESCRIPTION:
URL:https://nhcministries.org/event/morning-prayer-in-person-26/
END:VEVENT
BEGIN:VEVENT
DTSTART;TZID=America/New_York:20260129T183000
DTEND;TZID=America/New_York:20260129T200000
DTSTAMP:20260421T115728
CREATED:20260114T034349Z
LAST-MODIFIED:20260114T034349Z
UID:6060-1769711400-1769716800@nhcministries.org
SUMMARY:Praise Team Rehearsal
DESCRIPTION:
URL:https://nhcministries.org/event/praise-team-rehearsal-25/
END:VEVENT
BEGIN:VEVENT
DTSTART;TZID=America/New_York:20260129T160000
DTEND;TZID=America/New_York:20260129T180000
DTSTAMP:20260421T115728
CREATED:20260114T034756Z
LAST-MODIFIED:20260114T034756Z
UID:6068-1769702400-1769709600@nhcministries.org
SUMMARY:Project Hope Food Pantry
DESCRIPTION:
URL:https://nhcministries.org/event/project-hope-food-pantry-24/
END:VEVENT
BEGIN:VEVENT
DTSTART;TZID=America/New_York:20260128T190000
DTEND;TZID=America/New_York:20260128T200000
DTSTAMP:20260421T115728
CREATED:20260114T035422Z
LAST-MODIFIED:20260114T035422Z
UID:6084-1769626800-1769630400@nhcministries.org
SUMMARY:Bible Study - Google Meet
DESCRIPTION:
URL:https://nhcministries.org/event/bible-study-google-meet-19/
END:VEVENT
BEGIN:VEVENT
DTSTART;TZID=America/New_York:20260128T160000
DTEND;TZID=America/New_York:20260128T180000
DTSTAMP:20260421T115728
CREATED:20260114T035115Z
LAST-MODIFIED:20260114T035115Z
UID:6076-1769616000-1769623200@nhcministries.org
SUMMARY:Auxiliary Meeting
DESCRIPTION:
URL:https://nhcministries.org/event/auxiliary-meeting-28/
END:VEVENT
BEGIN:VEVENT
DTSTART;TZID=America/New_York:20260127T190000
DTEND;TZID=America/New_York:20260127T193000
DTSTAMP:20260421T115728
CREATED:20260114T032208Z
LAST-MODIFIED:20260114T032208Z
UID:6024-1769540400-1769542200@nhcministries.org
SUMMARY:Intercessory Prayer   Dial In Number : 605-313-4822; Access Code: 603429
DESCRIPTION:
URL:https://nhcministries.org/event/intercessory-prayer-dial-in-number-605-313-4822-access-code-603429-27/
END:VEVENT
END:VCALENDAR