BEGIN:VCALENDAR
VERSION:2.0
PRODID:-//New Hope Christian Ministries - ECPv6.15.20//NONSGML v1.0//EN
CALSCALE:GREGORIAN
METHOD:PUBLISH
X-WR-CALNAME:New Hope Christian Ministries
X-ORIGINAL-URL:https://nhcministries.org
X-WR-CALDESC:Events for New Hope Christian Ministries
REFRESH-INTERVAL;VALUE=DURATION:PT1H
X-Robots-Tag:noindex
X-PUBLISHED-TTL:PT1H
BEGIN:VTIMEZONE
TZID:America/New_York
BEGIN:DAYLIGHT
TZOFFSETFROM:-0500
TZOFFSETTO:-0400
TZNAME:EDT
DTSTART:20240310T070000
END:DAYLIGHT
BEGIN:STANDARD
TZOFFSETFROM:-0400
TZOFFSETTO:-0500
TZNAME:EST
DTSTART:20241103T060000
END:STANDARD
BEGIN:DAYLIGHT
TZOFFSETFROM:-0500
TZOFFSETTO:-0400
TZNAME:EDT
DTSTART:20250309T070000
END:DAYLIGHT
BEGIN:STANDARD
TZOFFSETFROM:-0400
TZOFFSETTO:-0500
TZNAME:EST
DTSTART:20251102T060000
END:STANDARD
BEGIN:DAYLIGHT
TZOFFSETFROM:-0500
TZOFFSETTO:-0400
TZNAME:EDT
DTSTART:20260308T070000
END:DAYLIGHT
BEGIN:STANDARD
TZOFFSETFROM:-0400
TZOFFSETTO:-0500
TZNAME:EST
DTSTART:20261101T060000
END:STANDARD
END:VTIMEZONE
BEGIN:VEVENT
DTSTART;TZID=America/New_York:20250624T190000
DTEND;TZID=America/New_York:20250624T193000
DTSTAMP:20260420T202030
CREATED:20250603T222725Z
LAST-MODIFIED:20250610T164902Z
UID:5352-1750791600-1750793400@nhcministries.org
SUMMARY:Intercessory Prayer   Dial In Number : 605-313-4822; Access Code: 603429
DESCRIPTION:
URL:https://nhcministries.org/event/intercessory-prayer-700-pm-dial-in-number-605-313-4822-access-code-603429-142/
END:VEVENT
BEGIN:VEVENT
DTSTART;TZID=America/New_York:20250625T183000
DTEND;TZID=America/New_York:20250625T190000
DTSTAMP:20260420T202030
CREATED:20250610T161325Z
LAST-MODIFIED:20250610T164445Z
UID:5455-1750876200-1750878000@nhcministries.org
SUMMARY:Auxiliary Meeting
DESCRIPTION:
URL:https://nhcministries.org/event/auxiliary-meeting/
END:VEVENT
BEGIN:VEVENT
DTSTART;TZID=America/New_York:20250625T190000
DTEND;TZID=America/New_York:20250625T200000
DTSTAMP:20260420T202030
CREATED:20250610T160802Z
LAST-MODIFIED:20250610T164808Z
UID:5451-1750878000-1750881600@nhcministries.org
SUMMARY:Bible Study - In-Person & Google Meet
DESCRIPTION:
URL:https://nhcministries.org/event/bible-study-in-person-google-meet-700-pm-4/
END:VEVENT
BEGIN:VEVENT
DTSTART;TZID=America/New_York:20250626T160000
DTEND;TZID=America/New_York:20250626T180000
DTSTAMP:20260420T202030
CREATED:20250610T160312Z
LAST-MODIFIED:20250610T164738Z
UID:5442-1750953600-1750960800@nhcministries.org
SUMMARY:Project Hope Food Pantry
DESCRIPTION:
URL:https://nhcministries.org/event/project-hope-food-pantry-400-pm-600-pm-70/
END:VEVENT
BEGIN:VEVENT
DTSTART;TZID=America/New_York:20250626T183000
DTEND;TZID=America/New_York:20250626T200000
DTSTAMP:20260420T202030
CREATED:20250610T155130Z
LAST-MODIFIED:20250610T164714Z
UID:5416-1750962600-1750968000@nhcministries.org
SUMMARY:Praise Team Rehearsal
DESCRIPTION:
URL:https://nhcministries.org/event/praise-team-rehearsal-630-pm-138/
END:VEVENT
BEGIN:VEVENT
DTSTART;TZID=America/New_York:20250627T180000
DTEND;TZID=America/New_York:20250627T203000
DTSTAMP:20260420T202030
CREATED:20250610T162631Z
LAST-MODIFIED:20250610T162631Z
UID:5467-1751047200-1751056200@nhcministries.org
SUMMARY:Vacation Bible School  (VBS)
DESCRIPTION:
URL:https://nhcministries.org/event/vacation-bible-school-vbs/
END:VEVENT
BEGIN:VEVENT
DTSTART;TZID=America/New_York:20250628T093000
DTEND;TZID=America/New_York:20250628T110000
DTSTAMP:20260420T202030
CREATED:20250610T163010Z
LAST-MODIFIED:20250610T164644Z
UID:5471-1751103000-1751108400@nhcministries.org
SUMMARY:S.A.L.T. Meeting
DESCRIPTION:
URL:https://nhcministries.org/event/s-a-l-t-meeting-930-am-1100-am/
END:VEVENT
BEGIN:VEVENT
DTSTART;TZID=America/New_York:20250628T110000
DTEND;TZID=America/New_York:20250628T120000
DTSTAMP:20260420T202030
CREATED:20250610T163110Z
LAST-MODIFIED:20250610T164620Z
UID:5473-1751108400-1751112000@nhcministries.org
SUMMARY:Ministry Team Meeting
DESCRIPTION:
URL:https://nhcministries.org/event/ministry-team-meeting-1100-am-1200-pm/
END:VEVENT
BEGIN:VEVENT
DTSTART;VALUE=DATE:20250629
DTEND;VALUE=DATE:20250630
DTSTAMP:20260420T202030
CREATED:20250610T154520Z
LAST-MODIFIED:20250610T154520Z
UID:5406-1751155200-1751241599@nhcministries.org
SUMMARY:Shepherds Care 50/50 Raffle
DESCRIPTION:
URL:https://nhcministries.org/event/shepherds-care-50-50-raffle/
END:VEVENT
BEGIN:VEVENT
DTSTART;TZID=America/New_York:20250629T093000
DTEND;TZID=America/New_York:20250629T100000
DTSTAMP:20260420T202030
CREATED:20250610T155557Z
LAST-MODIFIED:20250610T164547Z
UID:5428-1751189400-1751191200@nhcministries.org
SUMMARY:Morning Prayer - In Person
DESCRIPTION:
URL:https://nhcministries.org/event/sunday-morning-prayer-930-am-in-person-141/
END:VEVENT
BEGIN:VEVENT
DTSTART;TZID=America/New_York:20250629T100000
DTEND;TZID=America/New_York:20250629T120000
DTSTAMP:20260420T202030
CREATED:20250610T153624Z
LAST-MODIFIED:20250610T164517Z
UID:5403-1751191200-1751198400@nhcministries.org
SUMMARY:Worship Service - In Person & Facebook
DESCRIPTION:
URL:https://nhcministries.org/event/worship-service-1000-am-in-person-facebook-97/
END:VEVENT
BEGIN:VEVENT
DTSTART;TZID=America/New_York:20250629T120000
DTEND;TZID=America/New_York:20250629T130000
DTSTAMP:20260420T202030
CREATED:20250610T161114Z
LAST-MODIFIED:20250610T161114Z
UID:5453-1751198400-1751202000@nhcministries.org
SUMMARY:Board of Directors Meeting
DESCRIPTION:
URL:https://nhcministries.org/event/board-of-directors-meeting-10/
END:VEVENT
BEGIN:VEVENT
DTSTART;TZID=America/New_York:20250701T190000
DTEND;TZID=America/New_York:20250701T193000
DTSTAMP:20260420T202030
CREATED:20250702T114533Z
LAST-MODIFIED:20250702T114533Z
UID:5601-1751396400-1751398200@nhcministries.org
SUMMARY:Intercessory Prayer   Dial In Number : 605-313-4822; Access Code: 603429
DESCRIPTION:
URL:https://nhcministries.org/event/intercessory-prayer-dial-in-number-605-313-4822-access-code-603429/
END:VEVENT
BEGIN:VEVENT
DTSTART;TZID=America/New_York:20250702T183000
DTEND;TZID=America/New_York:20250702T190000
DTSTAMP:20260420T202030
CREATED:20250702T114054Z
LAST-MODIFIED:20250702T114054Z
UID:5591-1751481000-1751482800@nhcministries.org
SUMMARY:Auxiliary Meeting
DESCRIPTION:
URL:https://nhcministries.org/event/auxiliary-meeting-5/
END:VEVENT
BEGIN:VEVENT
DTSTART;TZID=America/New_York:20250702T190000
DTEND;TZID=America/New_York:20250702T200000
DTSTAMP:20260420T202030
CREATED:20250702T113705Z
LAST-MODIFIED:20250702T113705Z
UID:5581-1751482800-1751486400@nhcministries.org
SUMMARY:Bible Study - In-Person & Google Meet
DESCRIPTION:
URL:https://nhcministries.org/event/bible-study-in-person-google-meet/
END:VEVENT
BEGIN:VEVENT
DTSTART;TZID=America/New_York:20250703T160000
DTEND;TZID=America/New_York:20250703T180000
DTSTAMP:20260420T202030
CREATED:20250702T113158Z
LAST-MODIFIED:20250702T113158Z
UID:5571-1751558400-1751565600@nhcministries.org
SUMMARY:Project Hope Food Pantry
DESCRIPTION:
URL:https://nhcministries.org/event/project-hope-food-pantry/
END:VEVENT
BEGIN:VEVENT
DTSTART;TZID=America/New_York:20250703T183000
DTEND;TZID=America/New_York:20250703T200000
DTSTAMP:20260420T202030
CREATED:20250702T112730Z
LAST-MODIFIED:20250702T112730Z
UID:5561-1751567400-1751572800@nhcministries.org
SUMMARY:Praise Team Rehearsal
DESCRIPTION:
URL:https://nhcministries.org/event/praise-team-rehearsal/
END:VEVENT
BEGIN:VEVENT
DTSTART;TZID=America/New_York:20250704T070000
DTEND;TZID=America/New_York:20250704T073000
DTSTAMP:20260420T202030
CREATED:20250702T115103Z
LAST-MODIFIED:20250702T115103Z
UID:5613-1751612400-1751614200@nhcministries.org
SUMMARY:Corporate Prayer
DESCRIPTION:
URL:https://nhcministries.org/event/corporate-prayer-2/
END:VEVENT
BEGIN:VEVENT
DTSTART;TZID=America/New_York:20250706T093000
DTEND;TZID=America/New_York:20250706T100000
DTSTAMP:20260420T202030
CREATED:20250702T110206Z
LAST-MODIFIED:20250702T110206Z
UID:5547-1751794200-1751796000@nhcministries.org
SUMMARY:Morning Prayer - In Person
DESCRIPTION:
URL:https://nhcministries.org/event/morning-prayer-in-person/
END:VEVENT
BEGIN:VEVENT
DTSTART;TZID=America/New_York:20250706T100000
DTEND;TZID=America/New_York:20250706T120000
DTSTAMP:20260420T202030
CREATED:20250701T172639Z
LAST-MODIFIED:20250701T172639Z
UID:5537-1751796000-1751803200@nhcministries.org
SUMMARY:Worship Service - In Person & Facebook
DESCRIPTION:
URL:https://nhcministries.org/event/worship-service-in-person-facebook/
END:VEVENT
BEGIN:VEVENT
DTSTART;TZID=America/New_York:20250708T190000
DTEND;TZID=America/New_York:20250708T193000
DTSTAMP:20260420T202030
CREATED:20250702T114606Z
LAST-MODIFIED:20250702T114606Z
UID:5603-1752001200-1752003000@nhcministries.org
SUMMARY:Intercessory Prayer   Dial In Number : 605-313-4822; Access Code: 603429
DESCRIPTION:
URL:https://nhcministries.org/event/intercessory-prayer-dial-in-number-605-313-4822-access-code-603429-2/
END:VEVENT
BEGIN:VEVENT
DTSTART;TZID=America/New_York:20250709T183000
DTEND;TZID=America/New_York:20250709T190000
DTSTAMP:20260420T202030
CREATED:20250702T114133Z
LAST-MODIFIED:20250702T114133Z
UID:5593-1752085800-1752087600@nhcministries.org
SUMMARY:Auxiliary Meeting
DESCRIPTION:
URL:https://nhcministries.org/event/auxiliary-meeting-6/
END:VEVENT
BEGIN:VEVENT
DTSTART;TZID=America/New_York:20250709T190000
DTEND;TZID=America/New_York:20250709T200000
DTSTAMP:20260420T202030
CREATED:20250702T113737Z
LAST-MODIFIED:20250702T113737Z
UID:5583-1752087600-1752091200@nhcministries.org
SUMMARY:Bible Study - In-Person & Google Meet
DESCRIPTION:
URL:https://nhcministries.org/event/bible-study-in-person-google-meet-2/
END:VEVENT
BEGIN:VEVENT
DTSTART;TZID=America/New_York:20250710T160000
DTEND;TZID=America/New_York:20250710T180000
DTSTAMP:20260420T202030
CREATED:20250702T113243Z
LAST-MODIFIED:20250702T113243Z
UID:5573-1752163200-1752170400@nhcministries.org
SUMMARY:Project Hope Food Pantry
DESCRIPTION:
URL:https://nhcministries.org/event/project-hope-food-pantry-2/
END:VEVENT
BEGIN:VEVENT
DTSTART;TZID=America/New_York:20250710T183000
DTEND;TZID=America/New_York:20250710T200000
DTSTAMP:20260420T202030
CREATED:20250702T112816Z
LAST-MODIFIED:20250702T112816Z
UID:5563-1752172200-1752177600@nhcministries.org
SUMMARY:Praise Team Rehearsal
DESCRIPTION:
URL:https://nhcministries.org/event/praise-team-rehearsal-2/
END:VEVENT
BEGIN:VEVENT
DTSTART;TZID=America/New_York:20250713T093000
DTEND;TZID=America/New_York:20250713T100000
DTSTAMP:20260420T202030
CREATED:20250702T110243Z
LAST-MODIFIED:20250702T110243Z
UID:5549-1752399000-1752400800@nhcministries.org
SUMMARY:Morning Prayer - In Person
DESCRIPTION:
URL:https://nhcministries.org/event/morning-prayer-in-person-2/
END:VEVENT
BEGIN:VEVENT
DTSTART;TZID=America/New_York:20250713T100000
DTEND;TZID=America/New_York:20250713T120000
DTSTAMP:20260420T202030
CREATED:20250701T172713Z
LAST-MODIFIED:20250701T172713Z
UID:5540-1752400800-1752408000@nhcministries.org
SUMMARY:Worship Service - In Person & Facebook
DESCRIPTION:
URL:https://nhcministries.org/event/worship-service-in-person-facebook-2/
END:VEVENT
BEGIN:VEVENT
DTSTART;TZID=America/New_York:20250715T190000
DTEND;TZID=America/New_York:20250715T193000
DTSTAMP:20260420T202030
CREATED:20250702T114644Z
LAST-MODIFIED:20250702T114644Z
UID:5605-1752606000-1752607800@nhcministries.org
SUMMARY:Intercessory Prayer   Dial In Number : 605-313-4822; Access Code: 603429
DESCRIPTION:
URL:https://nhcministries.org/event/intercessory-prayer-dial-in-number-605-313-4822-access-code-603429-3/
END:VEVENT
BEGIN:VEVENT
DTSTART;TZID=America/New_York:20250716T183000
DTEND;TZID=America/New_York:20250716T190000
DTSTAMP:20260420T202030
CREATED:20250702T114206Z
LAST-MODIFIED:20250702T114206Z
UID:5595-1752690600-1752692400@nhcministries.org
SUMMARY:Auxiliary Meeting
DESCRIPTION:
URL:https://nhcministries.org/event/auxiliary-meeting-7/
END:VEVENT
BEGIN:VEVENT
DTSTART;TZID=America/New_York:20250716T190000
DTEND;TZID=America/New_York:20250716T200000
DTSTAMP:20260420T202030
CREATED:20250702T113805Z
LAST-MODIFIED:20250702T113805Z
UID:5585-1752692400-1752696000@nhcministries.org
SUMMARY:Bible Study - In-Person & Google Meet
DESCRIPTION:
URL:https://nhcministries.org/event/bible-study-in-person-google-meet-3/
END:VEVENT
END:VCALENDAR