BEGIN:VCALENDAR
VERSION:2.0
PRODID:-//New Hope Christian Ministries - ECPv6.15.20//NONSGML v1.0//EN
CALSCALE:GREGORIAN
METHOD:PUBLISH
X-ORIGINAL-URL:https://nhcministries.org
X-WR-CALDESC:Events for New Hope Christian Ministries
REFRESH-INTERVAL;VALUE=DURATION:PT1H
X-Robots-Tag:noindex
X-PUBLISHED-TTL:PT1H
BEGIN:VTIMEZONE
TZID:America/New_York
BEGIN:DAYLIGHT
TZOFFSETFROM:-0500
TZOFFSETTO:-0400
TZNAME:EDT
DTSTART:20250309T070000
END:DAYLIGHT
BEGIN:STANDARD
TZOFFSETFROM:-0400
TZOFFSETTO:-0500
TZNAME:EST
DTSTART:20251102T060000
END:STANDARD
BEGIN:DAYLIGHT
TZOFFSETFROM:-0500
TZOFFSETTO:-0400
TZNAME:EDT
DTSTART:20260308T070000
END:DAYLIGHT
BEGIN:STANDARD
TZOFFSETFROM:-0400
TZOFFSETTO:-0500
TZNAME:EST
DTSTART:20261101T060000
END:STANDARD
BEGIN:DAYLIGHT
TZOFFSETFROM:-0500
TZOFFSETTO:-0400
TZNAME:EDT
DTSTART:20270314T070000
END:DAYLIGHT
BEGIN:STANDARD
TZOFFSETFROM:-0400
TZOFFSETTO:-0500
TZNAME:EST
DTSTART:20271107T060000
END:STANDARD
END:VTIMEZONE
BEGIN:VEVENT
DTSTART;TZID=America/New_York:20260403T190000
DTEND;TZID=America/New_York:20260403T210000
DTSTAMP:20260421T131704
CREATED:20260324T135311Z
LAST-MODIFIED:20260324T135311Z
UID:6333-1775242800-1775250000@nhcministries.org
SUMMARY:7 Last Sayings 7:00 PM
DESCRIPTION:
URL:https://nhcministries.org/event/7-last-sayings-700-pm/
END:VEVENT
BEGIN:VEVENT
DTSTART;TZID=America/New_York:20260404T090000
DTEND;TZID=America/New_York:20260404T100000
DTSTAMP:20260421T131704
CREATED:20260324T135043Z
LAST-MODIFIED:20260324T135043Z
UID:6329-1775293200-1775296800@nhcministries.org
SUMMARY:Men's Ministry Meeting
DESCRIPTION:
URL:https://nhcministries.org/event/mens-ministry-meeting-7/
END:VEVENT
BEGIN:VEVENT
DTSTART;TZID=America/New_York:20260405T093000
DTEND;TZID=America/New_York:20260405T100000
DTSTAMP:20260421T131704
CREATED:20260324T133241Z
LAST-MODIFIED:20260324T133241Z
UID:6294-1775381400-1775383200@nhcministries.org
SUMMARY:Morning Prayer - In Person
DESCRIPTION:
URL:https://nhcministries.org/event/morning-prayer-in-person-35/
END:VEVENT
BEGIN:VEVENT
DTSTART;TZID=America/New_York:20260405T100000
DTEND;TZID=America/New_York:20260405T120000
DTSTAMP:20260421T131704
CREATED:20260324T132911Z
LAST-MODIFIED:20260324T132911Z
UID:6286-1775383200-1775390400@nhcministries.org
SUMMARY:Worship Service - In Person & Facebook
DESCRIPTION:
URL:https://nhcministries.org/event/worship-service-in-person-facebook-35/
END:VEVENT
BEGIN:VEVENT
DTSTART;TZID=America/New_York:20260407T190000
DTEND;TZID=America/New_York:20260407T200000
DTSTAMP:20260421T131704
CREATED:20260324T132329Z
LAST-MODIFIED:20260324T132329Z
UID:6276-1775588400-1775592000@nhcministries.org
SUMMARY:Intercessory Prayer   Dial In Number : 605-313-4822; Access Code: 603429
DESCRIPTION:
URL:https://nhcministries.org/event/intercessory-prayer-dial-in-number-605-313-4822-access-code-603429-37/
END:VEVENT
BEGIN:VEVENT
DTSTART;TZID=America/New_York:20260408T183000
DTEND;TZID=America/New_York:20260408T190000
DTSTAMP:20260421T131704
CREATED:20260324T135633Z
LAST-MODIFIED:20260324T135633Z
UID:6337-1775673000-1775674800@nhcministries.org
SUMMARY:Auxiliary Meeting
DESCRIPTION:
URL:https://nhcministries.org/event/auxiliary-meeting-38/
END:VEVENT
BEGIN:VEVENT
DTSTART;TZID=America/New_York:20260408T190000
DTEND;TZID=America/New_York:20260408T200000
DTSTAMP:20260421T131704
CREATED:20260324T140208Z
LAST-MODIFIED:20260324T140208Z
UID:6349-1775674800-1775678400@nhcministries.org
SUMMARY:Bible Study - Google Meet
DESCRIPTION:
URL:https://nhcministries.org/event/bible-study-google-meet-30/
END:VEVENT
BEGIN:VEVENT
DTSTART;TZID=America/New_York:20260409T160000
DTEND;TZID=America/New_York:20260409T180000
DTSTAMP:20260421T131704
CREATED:20260324T134627Z
LAST-MODIFIED:20260324T134627Z
UID:6321-1775750400-1775757600@nhcministries.org
SUMMARY:Project Hope Food Pantry
DESCRIPTION:
URL:https://nhcministries.org/event/project-hope-food-pantry-34/
END:VEVENT
BEGIN:VEVENT
DTSTART;TZID=America/New_York:20260409T183000
DTEND;TZID=America/New_York:20260409T200000
DTSTAMP:20260421T131704
CREATED:20260324T134236Z
LAST-MODIFIED:20260324T134236Z
UID:6311-1775759400-1775764800@nhcministries.org
SUMMARY:Praise Team Rehearsal
DESCRIPTION:
URL:https://nhcministries.org/event/praise-team-rehearsal-35/
END:VEVENT
BEGIN:VEVENT
DTSTART;VALUE=DATE:20260412
DTEND;VALUE=DATE:20260413
DTSTAMP:20260421T131704
CREATED:20260324T141900Z
LAST-MODIFIED:20260324T141900Z
UID:6367-1775952000-1776038399@nhcministries.org
SUMMARY:Crochet Ministry Table
DESCRIPTION:
URL:https://nhcministries.org/event/crochet-ministry-table-2/
END:VEVENT
BEGIN:VEVENT
DTSTART;TZID=America/New_York:20260412T093000
DTEND;TZID=America/New_York:20260412T100000
DTSTAMP:20260421T131704
CREATED:20260324T133318Z
LAST-MODIFIED:20260324T133318Z
UID:6296-1775986200-1775988000@nhcministries.org
SUMMARY:Morning Prayer - In Person
DESCRIPTION:
URL:https://nhcministries.org/event/morning-prayer-in-person-36/
END:VEVENT
BEGIN:VEVENT
DTSTART;TZID=America/New_York:20260412T100000
DTEND;TZID=America/New_York:20260412T120000
DTSTAMP:20260421T131704
CREATED:20260324T132942Z
LAST-MODIFIED:20260324T132942Z
UID:6288-1775988000-1775995200@nhcministries.org
SUMMARY:Worship Service - In Person & Facebook
DESCRIPTION:
URL:https://nhcministries.org/event/worship-service-in-person-facebook-36/
END:VEVENT
BEGIN:VEVENT
DTSTART;TZID=America/New_York:20260412T140000
DTEND;TZID=America/New_York:20260412T150000
DTSTAMP:20260421T131704
CREATED:20260324T141652Z
LAST-MODIFIED:20260324T141652Z
UID:6365-1776002400-1776006000@nhcministries.org
SUMMARY:Visit to H.H. Riverhouse
DESCRIPTION:
URL:https://nhcministries.org/event/visit-to-h-h-riverhouse/
END:VEVENT
BEGIN:VEVENT
DTSTART;TZID=America/New_York:20260414T190000
DTEND;TZID=America/New_York:20260414T200000
DTSTAMP:20260421T131704
CREATED:20260324T132709Z
LAST-MODIFIED:20260324T132709Z
UID:6280-1776193200-1776196800@nhcministries.org
SUMMARY:Intercessory Prayer   Dial In Number : 605-313-4822; Access Code: 603429
DESCRIPTION:
URL:https://nhcministries.org/event/intercessory-prayer-dial-in-number-605-313-4822-access-code-603429-38/
END:VEVENT
BEGIN:VEVENT
DTSTART;TZID=America/New_York:20260415T183000
DTEND;TZID=America/New_York:20260415T190000
DTSTAMP:20260421T131704
CREATED:20260324T135706Z
LAST-MODIFIED:20260324T135706Z
UID:6339-1776277800-1776279600@nhcministries.org
SUMMARY:Auxiliary Meeting
DESCRIPTION:
URL:https://nhcministries.org/event/auxiliary-meeting-39/
END:VEVENT
BEGIN:VEVENT
DTSTART;TZID=America/New_York:20260415T190000
DTEND;TZID=America/New_York:20260415T200000
DTSTAMP:20260421T131704
CREATED:20260324T140237Z
LAST-MODIFIED:20260324T140237Z
UID:6351-1776279600-1776283200@nhcministries.org
SUMMARY:Bible Study - Google Meet
DESCRIPTION:
URL:https://nhcministries.org/event/bible-study-google-meet-31/
END:VEVENT
BEGIN:VEVENT
DTSTART;TZID=America/New_York:20260416T160000
DTEND;TZID=America/New_York:20260416T180000
DTSTAMP:20260421T131704
CREATED:20260324T134706Z
LAST-MODIFIED:20260324T134706Z
UID:6323-1776355200-1776362400@nhcministries.org
SUMMARY:Project Hope Food Pantry
DESCRIPTION:
URL:https://nhcministries.org/event/project-hope-food-pantry-35/
END:VEVENT
BEGIN:VEVENT
DTSTART;TZID=America/New_York:20260416T183000
DTEND;TZID=America/New_York:20260416T200000
DTSTAMP:20260421T131704
CREATED:20260324T134309Z
LAST-MODIFIED:20260324T134309Z
UID:6313-1776364200-1776369600@nhcministries.org
SUMMARY:Praise Team Rehearsal
DESCRIPTION:
URL:https://nhcministries.org/event/praise-team-rehearsal-36/
END:VEVENT
BEGIN:VEVENT
DTSTART;TZID=America/New_York:20260417T170000
DTEND;TZID=America/New_York:20260417T180000
DTSTAMP:20260421T131704
CREATED:20260324T141251Z
LAST-MODIFIED:20260324T141251Z
UID:6361-1776445200-1776448800@nhcministries.org
SUMMARY:MIT/Elder Training
DESCRIPTION:
URL:https://nhcministries.org/event/mit-elder-training-7/
END:VEVENT
BEGIN:VEVENT
DTSTART;TZID=America/New_York:20260418T090000
DTEND;TZID=America/New_York:20260418T100000
DTSTAMP:20260421T131704
CREATED:20260324T141420Z
LAST-MODIFIED:20260324T141420Z
UID:6363-1776502800-1776506400@nhcministries.org
SUMMARY:Women's Department Meeting - W.I.S.D.O.M.   (605) 313-4822 Access Code 603429#
DESCRIPTION:
URL:https://nhcministries.org/event/womens-department-meeting-w-i-s-d-o-m-605-313-4822-access-code-603429-7/
END:VEVENT
BEGIN:VEVENT
DTSTART;TZID=America/New_York:20260419T093000
DTEND;TZID=America/New_York:20260419T100000
DTSTAMP:20260421T131704
CREATED:20260324T133350Z
LAST-MODIFIED:20260324T133350Z
UID:6298-1776591000-1776592800@nhcministries.org
SUMMARY:Morning Prayer - In Person
DESCRIPTION:
URL:https://nhcministries.org/event/morning-prayer-in-person-37/
END:VEVENT
BEGIN:VEVENT
DTSTART;TZID=America/New_York:20260419T100000
DTEND;TZID=America/New_York:20260419T120000
DTSTAMP:20260421T131704
CREATED:20260324T133025Z
LAST-MODIFIED:20260324T133025Z
UID:6290-1776592800-1776600000@nhcministries.org
SUMMARY:Worship Service - In Person & Facebook
DESCRIPTION:
URL:https://nhcministries.org/event/worship-service-in-person-facebook-37/
END:VEVENT
BEGIN:VEVENT
DTSTART;TZID=America/New_York:20260421T190000
DTEND;TZID=America/New_York:20260421T200000
DTSTAMP:20260421T131704
CREATED:20260324T132741Z
LAST-MODIFIED:20260324T132741Z
UID:6282-1776798000-1776801600@nhcministries.org
SUMMARY:Intercessory Prayer   Dial In Number : 605-313-4822; Access Code: 603429
DESCRIPTION:
URL:https://nhcministries.org/event/intercessory-prayer-dial-in-number-605-313-4822-access-code-603429-39/
END:VEVENT
BEGIN:VEVENT
DTSTART;TZID=America/New_York:20260422T183000
DTEND;TZID=America/New_York:20260422T190000
DTSTAMP:20260421T131704
CREATED:20260324T135746Z
LAST-MODIFIED:20260324T135746Z
UID:6341-1776882600-1776884400@nhcministries.org
SUMMARY:Auxiliary Meeting
DESCRIPTION:
URL:https://nhcministries.org/event/auxiliary-meeting-40/
END:VEVENT
BEGIN:VEVENT
DTSTART;TZID=America/New_York:20260422T190000
DTEND;TZID=America/New_York:20260422T200000
DTSTAMP:20260421T131704
CREATED:20260324T140313Z
LAST-MODIFIED:20260324T140313Z
UID:6353-1776884400-1776888000@nhcministries.org
SUMMARY:Bible Study - Google Meet
DESCRIPTION:
URL:https://nhcministries.org/event/bible-study-google-meet-32/
END:VEVENT
BEGIN:VEVENT
DTSTART;TZID=America/New_York:20260423T160000
DTEND;TZID=America/New_York:20260423T180000
DTSTAMP:20260421T131704
CREATED:20260324T134735Z
LAST-MODIFIED:20260324T134735Z
UID:6325-1776960000-1776967200@nhcministries.org
SUMMARY:Project Hope Food Pantry
DESCRIPTION:
URL:https://nhcministries.org/event/project-hope-food-pantry-36/
END:VEVENT
BEGIN:VEVENT
DTSTART;TZID=America/New_York:20260423T183000
DTEND;TZID=America/New_York:20260423T200000
DTSTAMP:20260421T131704
CREATED:20260324T134340Z
LAST-MODIFIED:20260324T134340Z
UID:6315-1776969000-1776974400@nhcministries.org
SUMMARY:Praise Team Rehearsal
DESCRIPTION:
URL:https://nhcministries.org/event/praise-team-rehearsal-37/
END:VEVENT
BEGIN:VEVENT
DTSTART;TZID=America/New_York:20260425T093000
DTEND;TZID=America/New_York:20260425T113000
DTSTAMP:20260421T131704
CREATED:20260324T133957Z
LAST-MODIFIED:20260324T133957Z
UID:6307-1777109400-1777116600@nhcministries.org
SUMMARY:Ministry Team Meeting
DESCRIPTION:
URL:https://nhcministries.org/event/ministry-team-meeting-9/
END:VEVENT
BEGIN:VEVENT
DTSTART;TZID=America/New_York:20260425T103000
DTEND;TZID=America/New_York:20260425T113000
DTSTAMP:20260421T131704
CREATED:20260324T133656Z
LAST-MODIFIED:20260324T133656Z
UID:6304-1777113000-1777116600@nhcministries.org
SUMMARY:S.A.L.T. Meeting
DESCRIPTION:
URL:https://nhcministries.org/event/s-a-l-t-meeting-8/
END:VEVENT
BEGIN:VEVENT
DTSTART;VALUE=DATE:20260426
DTEND;VALUE=DATE:20260427
DTSTAMP:20260421T131704
CREATED:20260324T133529Z
LAST-MODIFIED:20260324T133529Z
UID:6302-1777161600-1777247999@nhcministries.org
SUMMARY:Back-to-School Supply Drive
DESCRIPTION:
URL:https://nhcministries.org/event/back-to-school-supply-drive-4/
END:VEVENT
END:VCALENDAR