BEGIN:VCALENDAR
VERSION:2.0
PRODID:-//New Hope Christian Ministries - ECPv6.15.20//NONSGML v1.0//EN
CALSCALE:GREGORIAN
METHOD:PUBLISH
X-WR-CALNAME:New Hope Christian Ministries
X-ORIGINAL-URL:https://nhcministries.org
X-WR-CALDESC:Events for New Hope Christian Ministries
REFRESH-INTERVAL;VALUE=DURATION:PT1H
X-Robots-Tag:noindex
X-PUBLISHED-TTL:PT1H
BEGIN:VTIMEZONE
TZID:UTC
BEGIN:STANDARD
TZOFFSETFROM:+0000
TZOFFSETTO:+0000
TZNAME:UTC
DTSTART:20220101T000000
END:STANDARD
END:VTIMEZONE
BEGIN:VEVENT
DTSTART;TZID=UTC:20231001T100000
DTEND;TZID=UTC:20231001T120000
DTSTAMP:20260420T200048
CREATED:20231012T205111Z
LAST-MODIFIED:20231012T205111Z
UID:4583-1696154400-1696161600@nhcministries.org
SUMMARY:Service 10:00 AM - In Person & Facebook
DESCRIPTION:
URL:https://nhcministries.org/event/service-1000-am-in-person-facebook-5/
END:VEVENT
BEGIN:VEVENT
DTSTART;TZID=UTC:20231001T093000
DTEND;TZID=UTC:20231001T100000
DTSTAMP:20260420T200048
CREATED:20231012T205600Z
LAST-MODIFIED:20231012T205600Z
UID:4596-1696152600-1696154400@nhcministries.org
SUMMARY:Sunday Morning Prayer 9:30 AM - In Person
DESCRIPTION:
URL:https://nhcministries.org/event/sunday-morning-prayer-930-am-in-person-132/
END:VEVENT
BEGIN:VEVENT
DTSTART;TZID=UTC:20230928T183000
DTEND;TZID=UTC:20230928T203000
DTSTAMP:20260420T200048
CREATED:20230830T170214Z
LAST-MODIFIED:20230830T170214Z
UID:4477-1695925800-1695933000@nhcministries.org
SUMMARY:Praise Team Rehearsal 6:30 PM
DESCRIPTION:
URL:https://nhcministries.org/event/praise-team-rehearsal-630-pm-130/
END:VEVENT
BEGIN:VEVENT
DTSTART;TZID=UTC:20230928T160000
DTEND;TZID=UTC:20230928T180000
DTSTAMP:20260420T200048
CREATED:20230830T171039Z
LAST-MODIFIED:20230830T171039Z
UID:4487-1695916800-1695924000@nhcministries.org
SUMMARY:Project Hope Food Pantry    4:00 PM - 6:00 PM
DESCRIPTION:
URL:https://nhcministries.org/event/project-hope-food-pantry-400-pm-600-pm-62/
END:VEVENT
BEGIN:VEVENT
DTSTART;TZID=UTC:20230927T193000
DTEND;TZID=UTC:20230927T203000
DTSTAMP:20260420T200048
CREATED:20230830T171523Z
LAST-MODIFIED:20230830T171523Z
UID:4496-1695843000-1695846600@nhcministries.org
SUMMARY:Bible Study - In-Person & Google Meet 7:30 PM
DESCRIPTION:
URL:https://nhcministries.org/event/bible-study-in-person-google-meet-730-pm-4/
END:VEVENT
BEGIN:VEVENT
DTSTART;TZID=UTC:20230926T190000
DTEND;TZID=UTC:20230926T193000
DTSTAMP:20260420T200048
CREATED:20230831T181029Z
LAST-MODIFIED:20230831T181029Z
UID:4516-1695754800-1695756600@nhcministries.org
SUMMARY:Intercessory Prayer 7:00 PM   Dial In Number : 605-313-4822; Access Code: 603429
DESCRIPTION:
URL:https://nhcministries.org/event/intercessory-prayer-700-pm-dial-in-number-605-313-4822-access-code-603429-133/
END:VEVENT
BEGIN:VEVENT
DTSTART;TZID=UTC:20230924T150000
DTEND;TZID=UTC:20230924T170000
DTSTAMP:20260420T200048
CREATED:20230830T173852Z
LAST-MODIFIED:20230830T174017Z
UID:4508-1695567600-1695574800@nhcministries.org
SUMMARY:Annual Men's Day Service   3:00 PM
DESCRIPTION:
URL:https://nhcministries.org/event/annual-mens-day-service-300-pm/
END:VEVENT
BEGIN:VEVENT
DTSTART;TZID=UTC:20230924T100000
DTEND;TZID=UTC:20230924T120000
DTSTAMP:20260420T200048
CREATED:20230831T181527Z
LAST-MODIFIED:20230831T181527Z
UID:4526-1695549600-1695556800@nhcministries.org
SUMMARY:Service 10:00 AM - In Person & Facebook
DESCRIPTION:
URL:https://nhcministries.org/event/service-1000-am-in-person-facebook-4/
END:VEVENT
BEGIN:VEVENT
DTSTART;TZID=UTC:20230924T093000
DTEND;TZID=UTC:20230924T100000
DTSTAMP:20260420T200048
CREATED:20230831T182312Z
LAST-MODIFIED:20230831T182312Z
UID:4537-1695547800-1695549600@nhcministries.org
SUMMARY:Sunday Morning Prayer 9:30 AM - In Person
DESCRIPTION:
URL:https://nhcministries.org/event/sunday-morning-prayer-930-am-in-person-131/
END:VEVENT
BEGIN:VEVENT
DTSTART;TZID=UTC:20230923T140000
DTEND;TZID=UTC:20230923T143000
DTSTAMP:20260420T200048
CREATED:20230830T173310Z
LAST-MODIFIED:20230830T173458Z
UID:4504-1695477600-1695479400@nhcministries.org
SUMMARY:Farmers Market Fresh Produce  2:00 PM - 2:30 PM
DESCRIPTION:
URL:https://nhcministries.org/event/farmers-market-fresh-produce-200-pm-230-pm-5/
END:VEVENT
BEGIN:VEVENT
DTSTART;TZID=UTC:20230921T183000
DTEND;TZID=UTC:20230921T203000
DTSTAMP:20260420T200048
CREATED:20230830T170140Z
LAST-MODIFIED:20230830T170140Z
UID:4475-1695321000-1695328200@nhcministries.org
SUMMARY:Praise Team Rehearsal 6:30 PM
DESCRIPTION:
URL:https://nhcministries.org/event/praise-team-rehearsal-630-pm-129/
END:VEVENT
BEGIN:VEVENT
DTSTART;TZID=UTC:20230921T160000
DTEND;TZID=UTC:20230921T180000
DTSTAMP:20260420T200048
CREATED:20230830T170953Z
LAST-MODIFIED:20230830T170953Z
UID:4484-1695312000-1695319200@nhcministries.org
SUMMARY:Project Hope Food Pantry    4:00 PM - 6:00 PM
DESCRIPTION:
URL:https://nhcministries.org/event/project-hope-food-pantry-400-pm-600-pm-61/
END:VEVENT
BEGIN:VEVENT
DTSTART;TZID=UTC:20230920T193000
DTEND;TZID=UTC:20230920T203000
DTSTAMP:20260420T200048
CREATED:20230830T171444Z
LAST-MODIFIED:20230830T171444Z
UID:4493-1695238200-1695241800@nhcministries.org
SUMMARY:Bible Study - In-Person & Google Meet 7:30 PM
DESCRIPTION:
URL:https://nhcministries.org/event/bible-study-in-person-google-meet-730-pm-3/
END:VEVENT
BEGIN:VEVENT
DTSTART;TZID=UTC:20230919T190000
DTEND;TZID=UTC:20230919T193000
DTSTAMP:20260420T200048
CREATED:20230831T180951Z
LAST-MODIFIED:20230831T180951Z
UID:4514-1695150000-1695151800@nhcministries.org
SUMMARY:Intercessory Prayer 7:00 PM   Dial In Number : 605-313-4822; Access Code: 603429
DESCRIPTION:
URL:https://nhcministries.org/event/intercessory-prayer-700-pm-dial-in-number-605-313-4822-access-code-603429-132/
END:VEVENT
BEGIN:VEVENT
DTSTART;TZID=UTC:20230917T150000
DTEND;TZID=UTC:20230917T170000
DTSTAMP:20260420T200048
CREATED:20230830T173802Z
LAST-MODIFIED:20230830T173802Z
UID:4506-1694962800-1694970000@nhcministries.org
SUMMARY:Pastor Brooks guest speaker @ St. Paul Holiness Church @ 3:00 PM
DESCRIPTION:
URL:https://nhcministries.org/event/pastor-brooks-guest-speaker-st-paul-holiness-church-300-pm/
END:VEVENT
BEGIN:VEVENT
DTSTART;TZID=UTC:20230917T100000
DTEND;TZID=UTC:20230917T120000
DTSTAMP:20260420T200048
CREATED:20230831T181443Z
LAST-MODIFIED:20230831T181443Z
UID:4524-1694944800-1694952000@nhcministries.org
SUMMARY:Service 10:00 AM - In Person & Facebook
DESCRIPTION:
URL:https://nhcministries.org/event/service-1000-am-in-person-facebook-3/
END:VEVENT
BEGIN:VEVENT
DTSTART;TZID=UTC:20230917T093000
DTEND;TZID=UTC:20230917T100000
DTSTAMP:20260420T200048
CREATED:20230831T182152Z
LAST-MODIFIED:20230831T182152Z
UID:4535-1694943000-1694944800@nhcministries.org
SUMMARY:Sunday Morning Prayer 9:30 AM - In Person
DESCRIPTION:
URL:https://nhcministries.org/event/sunday-morning-prayer-930-am-in-person-130/
END:VEVENT
BEGIN:VEVENT
DTSTART;TZID=UTC:20230916T120000
DTEND;TZID=UTC:20230916T140000
DTSTAMP:20260420T200048
CREATED:20230830T173141Z
LAST-MODIFIED:20230830T173538Z
UID:4501-1694865600-1694872800@nhcministries.org
SUMMARY:Women's Ministry Luncheon  12:00 Noon
DESCRIPTION:
URL:https://nhcministries.org/event/womens-ministry-luncheon-1200-noon/
END:VEVENT
BEGIN:VEVENT
DTSTART;TZID=UTC:20230914T183000
DTEND;TZID=UTC:20230914T203000
DTSTAMP:20260420T200048
CREATED:20230830T170057Z
LAST-MODIFIED:20230830T170548Z
UID:4472-1694716200-1694723400@nhcministries.org
SUMMARY:Praise Team Rehearsal 6:30 PM
DESCRIPTION:
URL:https://nhcministries.org/event/praise-team-rehearsal-630-pm-128/
END:VEVENT
BEGIN:VEVENT
DTSTART;TZID=UTC:20230914T160000
DTEND;TZID=UTC:20230914T180000
DTSTAMP:20260420T200048
CREATED:20230830T170922Z
LAST-MODIFIED:20230830T170922Z
UID:4482-1694707200-1694714400@nhcministries.org
SUMMARY:Project Hope Food Pantry    4:00 PM - 6:00 PM
DESCRIPTION:
URL:https://nhcministries.org/event/project-hope-food-pantry-400-pm-600-pm-60/
END:VEVENT
BEGIN:VEVENT
DTSTART;TZID=UTC:20230913T193000
DTEND;TZID=UTC:20230913T203000
DTSTAMP:20260420T200048
CREATED:20230830T171412Z
LAST-MODIFIED:20230830T171412Z
UID:4491-1694633400-1694637000@nhcministries.org
SUMMARY:Bible Study - In-Person & Google Meet 7:30 PM
DESCRIPTION:
URL:https://nhcministries.org/event/bible-study-in-person-google-meet-730-pm-2/
END:VEVENT
BEGIN:VEVENT
DTSTART;TZID=UTC:20230912T190000
DTEND;TZID=UTC:20230912T193000
DTSTAMP:20260420T200048
CREATED:20230831T180912Z
LAST-MODIFIED:20230831T180912Z
UID:4512-1694545200-1694547000@nhcministries.org
SUMMARY:Intercessory Prayer 7:00 PM   Dial In Number : 605-313-4822; Access Code: 603429
DESCRIPTION:
URL:https://nhcministries.org/event/intercessory-prayer-700-pm-dial-in-number-605-313-4822-access-code-603429-131/
END:VEVENT
BEGIN:VEVENT
DTSTART;TZID=UTC:20230910T100000
DTEND;TZID=UTC:20230910T120000
DTSTAMP:20260420T200048
CREATED:20230831T181835Z
LAST-MODIFIED:20230831T181835Z
UID:4528-1694340000-1694347200@nhcministries.org
SUMMARY:FILL YOUR ROLL FAMILY & FRIENDS
DESCRIPTION:
URL:https://nhcministries.org/event/fill-your-roll-family-friends/
END:VEVENT
BEGIN:VEVENT
DTSTART;TZID=UTC:20230910T100000
DTEND;TZID=UTC:20230910T120000
DTSTAMP:20260420T200048
CREATED:20230831T181345Z
LAST-MODIFIED:20230831T181345Z
UID:4521-1694340000-1694347200@nhcministries.org
SUMMARY:Service 10:00 AM - In Person & Facebook
DESCRIPTION:
URL:https://nhcministries.org/event/service-1000-am-in-person-facebook-2/
END:VEVENT
BEGIN:VEVENT
DTSTART;TZID=UTC:20230910T093000
DTEND;TZID=UTC:20230910T100000
DTSTAMP:20260420T200048
CREATED:20230831T182109Z
LAST-MODIFIED:20230831T182109Z
UID:4533-1694338200-1694340000@nhcministries.org
SUMMARY:Sunday Morning Prayer 9:30 AM - In Person
DESCRIPTION:
URL:https://nhcministries.org/event/sunday-morning-prayer-930-am-in-person-129/
END:VEVENT
BEGIN:VEVENT
DTSTART;TZID=UTC:20230907T183000
DTEND;TZID=UTC:20230907T203000
DTSTAMP:20260420T200048
CREATED:20230830T170017Z
LAST-MODIFIED:20230830T170631Z
UID:4469-1694111400-1694118600@nhcministries.org
SUMMARY:Praise Team Rehearsal 6:30 PM
DESCRIPTION:
URL:https://nhcministries.org/event/praise-team-rehearsal-630-pm-127/
END:VEVENT
BEGIN:VEVENT
DTSTART;TZID=UTC:20230907T160000
DTEND;TZID=UTC:20230907T180000
DTSTAMP:20260420T200048
CREATED:20230830T170848Z
LAST-MODIFIED:20230830T170848Z
UID:4479-1694102400-1694109600@nhcministries.org
SUMMARY:Project Hope Food Pantry    4:00 PM - 6:00 PM
DESCRIPTION:
URL:https://nhcministries.org/event/project-hope-food-pantry-400-pm-600-pm-59/
END:VEVENT
BEGIN:VEVENT
DTSTART;TZID=UTC:20230906T193000
DTEND;TZID=UTC:20230906T203000
DTSTAMP:20260420T200048
CREATED:20230830T171313Z
LAST-MODIFIED:20230830T171313Z
UID:4489-1694028600-1694032200@nhcministries.org
SUMMARY:Bible Study - In-Person & Google Meet 7:30 PM
DESCRIPTION:
URL:https://nhcministries.org/event/bible-study-in-person-google-meet-730-pm/
END:VEVENT
BEGIN:VEVENT
DTSTART;TZID=UTC:20230905T190000
DTEND;TZID=UTC:20230905T193000
DTSTAMP:20260420T200048
CREATED:20230831T180822Z
LAST-MODIFIED:20230831T180822Z
UID:4510-1693940400-1693942200@nhcministries.org
SUMMARY:Intercessory Prayer 7:00 PM   Dial In Number : 605-313-4822; Access Code: 603429
DESCRIPTION:
URL:https://nhcministries.org/event/intercessory-prayer-700-pm-dial-in-number-605-313-4822-access-code-603429-130/
END:VEVENT
BEGIN:VEVENT
DTSTART;TZID=UTC:20230903T100000
DTEND;TZID=UTC:20230903T120000
DTSTAMP:20260420T200048
CREATED:20230831T181301Z
LAST-MODIFIED:20230831T181725Z
UID:4519-1693735200-1693742400@nhcministries.org
SUMMARY:Service 10:00 AM - In Person & Facebook
DESCRIPTION:
URL:https://nhcministries.org/event/service-1000-am-in-person-facebook/
END:VEVENT
END:VCALENDAR