BEGIN:VCALENDAR
VERSION:2.0
PRODID:-//New Hope Christian Ministries - ECPv6.15.20//NONSGML v1.0//EN
CALSCALE:GREGORIAN
METHOD:PUBLISH
X-WR-CALNAME:New Hope Christian Ministries
X-ORIGINAL-URL:https://nhcministries.org
X-WR-CALDESC:Events for New Hope Christian Ministries
REFRESH-INTERVAL;VALUE=DURATION:PT1H
X-Robots-Tag:noindex
X-PUBLISHED-TTL:PT1H
BEGIN:VTIMEZONE
TZID:America/New_York
BEGIN:DAYLIGHT
TZOFFSETFROM:-0500
TZOFFSETTO:-0400
TZNAME:EDT
DTSTART:20250309T070000
END:DAYLIGHT
BEGIN:STANDARD
TZOFFSETFROM:-0400
TZOFFSETTO:-0500
TZNAME:EST
DTSTART:20251102T060000
END:STANDARD
BEGIN:DAYLIGHT
TZOFFSETFROM:-0500
TZOFFSETTO:-0400
TZNAME:EDT
DTSTART:20260308T070000
END:DAYLIGHT
BEGIN:STANDARD
TZOFFSETFROM:-0400
TZOFFSETTO:-0500
TZNAME:EST
DTSTART:20261101T060000
END:STANDARD
BEGIN:DAYLIGHT
TZOFFSETFROM:-0500
TZOFFSETTO:-0400
TZNAME:EDT
DTSTART:20270314T070000
END:DAYLIGHT
BEGIN:STANDARD
TZOFFSETFROM:-0400
TZOFFSETTO:-0500
TZNAME:EST
DTSTART:20271107T060000
END:STANDARD
END:VTIMEZONE
BEGIN:VEVENT
DTSTART;TZID=America/New_York:20260423T160000
DTEND;TZID=America/New_York:20260423T180000
DTSTAMP:20260421T131156
CREATED:20260324T134735Z
LAST-MODIFIED:20260324T134735Z
UID:6325-1776960000-1776967200@nhcministries.org
SUMMARY:Project Hope Food Pantry
DESCRIPTION:
URL:https://nhcministries.org/event/project-hope-food-pantry-36/
END:VEVENT
BEGIN:VEVENT
DTSTART;TZID=America/New_York:20260423T183000
DTEND;TZID=America/New_York:20260423T200000
DTSTAMP:20260421T131156
CREATED:20260324T134340Z
LAST-MODIFIED:20260324T134340Z
UID:6315-1776969000-1776974400@nhcministries.org
SUMMARY:Praise Team Rehearsal
DESCRIPTION:
URL:https://nhcministries.org/event/praise-team-rehearsal-37/
END:VEVENT
BEGIN:VEVENT
DTSTART;TZID=America/New_York:20260425T093000
DTEND;TZID=America/New_York:20260425T113000
DTSTAMP:20260421T131156
CREATED:20260324T133957Z
LAST-MODIFIED:20260324T133957Z
UID:6307-1777109400-1777116600@nhcministries.org
SUMMARY:Ministry Team Meeting
DESCRIPTION:
URL:https://nhcministries.org/event/ministry-team-meeting-9/
END:VEVENT
BEGIN:VEVENT
DTSTART;TZID=America/New_York:20260425T103000
DTEND;TZID=America/New_York:20260425T113000
DTSTAMP:20260421T131156
CREATED:20260324T133656Z
LAST-MODIFIED:20260324T133656Z
UID:6304-1777113000-1777116600@nhcministries.org
SUMMARY:S.A.L.T. Meeting
DESCRIPTION:
URL:https://nhcministries.org/event/s-a-l-t-meeting-8/
END:VEVENT
BEGIN:VEVENT
DTSTART;VALUE=DATE:20260426
DTEND;VALUE=DATE:20260427
DTSTAMP:20260421T131156
CREATED:20260324T133529Z
LAST-MODIFIED:20260324T133529Z
UID:6302-1777161600-1777247999@nhcministries.org
SUMMARY:Back-to-School Supply Drive
DESCRIPTION:
URL:https://nhcministries.org/event/back-to-school-supply-drive-4/
END:VEVENT
BEGIN:VEVENT
DTSTART;VALUE=DATE:20260426
DTEND;VALUE=DATE:20260427
DTSTAMP:20260421T131156
CREATED:20260324T141038Z
LAST-MODIFIED:20260324T141038Z
UID:6359-1777161600-1777247999@nhcministries.org
SUMMARY:Board of Directors Meeting
DESCRIPTION:
URL:https://nhcministries.org/event/board-of-directors-meeting-14/
END:VEVENT
BEGIN:VEVENT
DTSTART;TZID=America/New_York:20260426T093000
DTEND;TZID=America/New_York:20260426T100000
DTSTAMP:20260421T131156
CREATED:20260324T133420Z
LAST-MODIFIED:20260324T133420Z
UID:6300-1777195800-1777197600@nhcministries.org
SUMMARY:Morning Prayer - In Person
DESCRIPTION:
URL:https://nhcministries.org/event/morning-prayer-in-person-38/
END:VEVENT
BEGIN:VEVENT
DTSTART;TZID=America/New_York:20260426T100000
DTEND;TZID=America/New_York:20260426T120000
DTSTAMP:20260421T131156
CREATED:20260324T133057Z
LAST-MODIFIED:20260324T133057Z
UID:6292-1777197600-1777204800@nhcministries.org
SUMMARY:Worship Service - In Person & Facebook
DESCRIPTION:
URL:https://nhcministries.org/event/worship-service-in-person-facebook-38/
END:VEVENT
BEGIN:VEVENT
DTSTART;TZID=America/New_York:20260428T190000
DTEND;TZID=America/New_York:20260428T200000
DTSTAMP:20260421T131156
CREATED:20260324T132810Z
LAST-MODIFIED:20260324T132810Z
UID:6284-1777402800-1777406400@nhcministries.org
SUMMARY:Intercessory Prayer   Dial In Number : 605-313-4822; Access Code: 603429
DESCRIPTION:
URL:https://nhcministries.org/event/intercessory-prayer-dial-in-number-605-313-4822-access-code-603429-40/
END:VEVENT
BEGIN:VEVENT
DTSTART;VALUE=DATE:20260429
DTEND;VALUE=DATE:20260430
DTSTAMP:20260421T131156
CREATED:20260324T140454Z
LAST-MODIFIED:20260324T140454Z
UID:6357-1777420800-1777507199@nhcministries.org
SUMMARY:Bishop Brooks Birthday
DESCRIPTION:
URL:https://nhcministries.org/event/bishop-brooks-birthday/
END:VEVENT
BEGIN:VEVENT
DTSTART;TZID=America/New_York:20260429T183000
DTEND;TZID=America/New_York:20260429T190000
DTSTAMP:20260421T131156
CREATED:20260324T135816Z
LAST-MODIFIED:20260324T135816Z
UID:6343-1777487400-1777489200@nhcministries.org
SUMMARY:Auxiliary Meeting
DESCRIPTION:
URL:https://nhcministries.org/event/auxiliary-meeting-41/
END:VEVENT
BEGIN:VEVENT
DTSTART;TZID=America/New_York:20260429T190000
DTEND;TZID=America/New_York:20260429T200000
DTSTAMP:20260421T131156
CREATED:20260324T140403Z
LAST-MODIFIED:20260324T140403Z
UID:6355-1777489200-1777492800@nhcministries.org
SUMMARY:Bible Study - Google Meet
DESCRIPTION:
URL:https://nhcministries.org/event/bible-study-google-meet-33/
END:VEVENT
BEGIN:VEVENT
DTSTART;TZID=America/New_York:20260430T160000
DTEND;TZID=America/New_York:20260430T180000
DTSTAMP:20260421T131156
CREATED:20260324T134800Z
LAST-MODIFIED:20260324T134800Z
UID:6327-1777564800-1777572000@nhcministries.org
SUMMARY:Project Hope Food Pantry
DESCRIPTION:
URL:https://nhcministries.org/event/project-hope-food-pantry-37/
END:VEVENT
BEGIN:VEVENT
DTSTART;TZID=America/New_York:20260430T183000
DTEND;TZID=America/New_York:20260430T200000
DTSTAMP:20260421T131156
CREATED:20260324T134416Z
LAST-MODIFIED:20260324T134416Z
UID:6317-1777573800-1777579200@nhcministries.org
SUMMARY:Praise Team Rehearsal
DESCRIPTION:
URL:https://nhcministries.org/event/praise-team-rehearsal-38/
END:VEVENT
BEGIN:VEVENT
DTSTART;TZID=America/New_York:20260501T070000
DTEND;TZID=America/New_York:20260501T073000
DTSTAMP:20260421T131156
CREATED:20260324T155906Z
LAST-MODIFIED:20260324T155906Z
UID:6451-1777618800-1777620600@nhcministries.org
SUMMARY:Corporate Prayer
DESCRIPTION:
URL:https://nhcministries.org/event/corporate-prayer-11/
END:VEVENT
BEGIN:VEVENT
DTSTART;TZID=America/New_York:20260501T170000
DTEND;TZID=America/New_York:20260501T180000
DTSTAMP:20260421T131156
CREATED:20260324T155654Z
LAST-MODIFIED:20260324T155654Z
UID:6447-1777654800-1777658400@nhcministries.org
SUMMARY:MIT/Elder Training
DESCRIPTION:
URL:https://nhcministries.org/event/mit-elder-training-8/
END:VEVENT
BEGIN:VEVENT
DTSTART;TZID=America/New_York:20260502T090000
DTEND;TZID=America/New_York:20260502T100000
DTSTAMP:20260421T131156
CREATED:20260324T155345Z
LAST-MODIFIED:20260324T155345Z
UID:6443-1777712400-1777716000@nhcministries.org
SUMMARY:Men's Ministry Meeting
DESCRIPTION:
URL:https://nhcministries.org/event/mens-ministry-meeting-8/
END:VEVENT
BEGIN:VEVENT
DTSTART;TZID=America/New_York:20260503T093000
DTEND;TZID=America/New_York:20260503T100000
DTSTAMP:20260421T131156
CREATED:20260324T145347Z
LAST-MODIFIED:20260324T145347Z
UID:6419-1777800600-1777802400@nhcministries.org
SUMMARY:Morning Prayer - In Person
DESCRIPTION:
URL:https://nhcministries.org/event/morning-prayer-in-person-39/
END:VEVENT
BEGIN:VEVENT
DTSTART;TZID=America/New_York:20260503T100000
DTEND;TZID=America/New_York:20260503T120000
DTSTAMP:20260421T131156
CREATED:20260324T144832Z
LAST-MODIFIED:20260324T144832Z
UID:6409-1777802400-1777809600@nhcministries.org
SUMMARY:Worship Service - In Person & Facebook
DESCRIPTION:
URL:https://nhcministries.org/event/worship-service-in-person-facebook-39/
END:VEVENT
BEGIN:VEVENT
DTSTART;TZID=America/New_York:20260505T190000
DTEND;TZID=America/New_York:20260505T193000
DTSTAMP:20260421T131156
CREATED:20260324T144444Z
LAST-MODIFIED:20260324T144444Z
UID:6401-1778007600-1778009400@nhcministries.org
SUMMARY:Intercessory Prayer   Dial In Number : 605-313-4822; Access Code: 603429
DESCRIPTION:
URL:https://nhcministries.org/event/intercessory-prayer-dial-in-number-605-313-4822-access-code-603429-41/
END:VEVENT
BEGIN:VEVENT
DTSTART;TZID=America/New_York:20260506T183000
DTEND;TZID=America/New_York:20260506T190000
DTSTAMP:20260421T131156
CREATED:20260324T144115Z
LAST-MODIFIED:20260324T144115Z
UID:6393-1778092200-1778094000@nhcministries.org
SUMMARY:Auxiliary Meeting
DESCRIPTION:
URL:https://nhcministries.org/event/auxiliary-meeting-42/
END:VEVENT
BEGIN:VEVENT
DTSTART;TZID=America/New_York:20260506T190000
DTEND;TZID=America/New_York:20260506T200000
DTSTAMP:20260421T131156
CREATED:20260324T143839Z
LAST-MODIFIED:20260324T143839Z
UID:6385-1778094000-1778097600@nhcministries.org
SUMMARY:Bible Study - Google Meet
DESCRIPTION:
URL:https://nhcministries.org/event/bible-study-google-meet-29/
END:VEVENT
BEGIN:VEVENT
DTSTART;TZID=America/New_York:20260507T160000
DTEND;TZID=America/New_York:20260507T180000
DTSTAMP:20260421T131156
CREATED:20260324T143459Z
LAST-MODIFIED:20260324T143459Z
UID:6377-1778169600-1778176800@nhcministries.org
SUMMARY:Project Hope Food Pantry
DESCRIPTION:
URL:https://nhcministries.org/event/project-hope-food-pantry-38/
END:VEVENT
BEGIN:VEVENT
DTSTART;TZID=America/New_York:20260507T183000
DTEND;TZID=America/New_York:20260507T200000
DTSTAMP:20260421T131156
CREATED:20260324T143227Z
LAST-MODIFIED:20260324T143227Z
UID:6369-1778178600-1778184000@nhcministries.org
SUMMARY:Praise Team Rehearsal
DESCRIPTION:
URL:https://nhcministries.org/event/praise-team-rehearsal-39/
END:VEVENT
BEGIN:VEVENT
DTSTART;VALUE=DATE:20260510
DTEND;VALUE=DATE:20260511
DTSTAMP:20260421T131156
CREATED:20260324T145641Z
LAST-MODIFIED:20260324T145641Z
UID:6429-1778371200-1778457599@nhcministries.org
SUMMARY:Mother's Day Treats
DESCRIPTION:
URL:https://nhcministries.org/event/mothers-day-treats-2/
END:VEVENT
BEGIN:VEVENT
DTSTART;TZID=America/New_York:20260510T093000
DTEND;TZID=America/New_York:20260510T100000
DTSTAMP:20260421T131156
CREATED:20260324T145418Z
LAST-MODIFIED:20260324T145418Z
UID:6421-1778405400-1778407200@nhcministries.org
SUMMARY:Morning Prayer - In Person
DESCRIPTION:
URL:https://nhcministries.org/event/morning-prayer-in-person-40/
END:VEVENT
BEGIN:VEVENT
DTSTART;TZID=America/New_York:20260510T100000
DTEND;TZID=America/New_York:20260510T120000
DTSTAMP:20260421T131156
CREATED:20260324T144906Z
LAST-MODIFIED:20260324T144906Z
UID:6411-1778407200-1778414400@nhcministries.org
SUMMARY:Worship Service - In Person & Facebook
DESCRIPTION:
URL:https://nhcministries.org/event/worship-service-in-person-facebook-40/
END:VEVENT
BEGIN:VEVENT
DTSTART;TZID=America/New_York:20260512T190000
DTEND;TZID=America/New_York:20260512T193000
DTSTAMP:20260421T131156
CREATED:20260324T144520Z
LAST-MODIFIED:20260324T144520Z
UID:6403-1778612400-1778614200@nhcministries.org
SUMMARY:Intercessory Prayer   Dial In Number : 605-313-4822; Access Code: 603429
DESCRIPTION:
URL:https://nhcministries.org/event/intercessory-prayer-dial-in-number-605-313-4822-access-code-603429-42/
END:VEVENT
BEGIN:VEVENT
DTSTART;TZID=America/New_York:20260513T183000
DTEND;TZID=America/New_York:20260513T190000
DTSTAMP:20260421T131156
CREATED:20260324T144144Z
LAST-MODIFIED:20260324T144144Z
UID:6395-1778697000-1778698800@nhcministries.org
SUMMARY:Auxiliary Meeting
DESCRIPTION:
URL:https://nhcministries.org/event/auxiliary-meeting-43/
END:VEVENT
BEGIN:VEVENT
DTSTART;TZID=America/New_York:20260513T190000
DTEND;TZID=America/New_York:20260513T200000
DTSTAMP:20260421T131156
CREATED:20260324T143908Z
LAST-MODIFIED:20260324T143908Z
UID:6387-1778698800-1778702400@nhcministries.org
SUMMARY:Bible Study - Google Meet
DESCRIPTION:
URL:https://nhcministries.org/event/bible-study-google-meet-34/
END:VEVENT
END:VCALENDAR