BEGIN:VCALENDAR
VERSION:2.0
PRODID:-//New Hope Christian Ministries - ECPv6.15.20//NONSGML v1.0//EN
CALSCALE:GREGORIAN
METHOD:PUBLISH
X-WR-CALNAME:New Hope Christian Ministries
X-ORIGINAL-URL:https://nhcministries.org
X-WR-CALDESC:Events for New Hope Christian Ministries
REFRESH-INTERVAL;VALUE=DURATION:PT1H
X-Robots-Tag:noindex
X-PUBLISHED-TTL:PT1H
BEGIN:VTIMEZONE
TZID:UTC
BEGIN:STANDARD
TZOFFSETFROM:+0000
TZOFFSETTO:+0000
TZNAME:UTC
DTSTART:20220101T000000
END:STANDARD
END:VTIMEZONE
BEGIN:VEVENT
DTSTART;TZID=UTC:20230914T160000
DTEND;TZID=UTC:20230914T180000
DTSTAMP:20260420T135738
CREATED:20230830T170922Z
LAST-MODIFIED:20230830T170922Z
UID:4482-1694707200-1694714400@nhcministries.org
SUMMARY:Project Hope Food Pantry    4:00 PM - 6:00 PM
DESCRIPTION:
URL:https://nhcministries.org/event/project-hope-food-pantry-400-pm-600-pm-60/
END:VEVENT
BEGIN:VEVENT
DTSTART;TZID=UTC:20230913T193000
DTEND;TZID=UTC:20230913T203000
DTSTAMP:20260420T135738
CREATED:20230830T171412Z
LAST-MODIFIED:20230830T171412Z
UID:4491-1694633400-1694637000@nhcministries.org
SUMMARY:Bible Study - In-Person & Google Meet 7:30 PM
DESCRIPTION:
URL:https://nhcministries.org/event/bible-study-in-person-google-meet-730-pm-2/
END:VEVENT
BEGIN:VEVENT
DTSTART;TZID=UTC:20230912T190000
DTEND;TZID=UTC:20230912T193000
DTSTAMP:20260420T135738
CREATED:20230831T180912Z
LAST-MODIFIED:20230831T180912Z
UID:4512-1694545200-1694547000@nhcministries.org
SUMMARY:Intercessory Prayer 7:00 PM   Dial In Number : 605-313-4822; Access Code: 603429
DESCRIPTION:
URL:https://nhcministries.org/event/intercessory-prayer-700-pm-dial-in-number-605-313-4822-access-code-603429-131/
END:VEVENT
BEGIN:VEVENT
DTSTART;TZID=UTC:20230910T100000
DTEND;TZID=UTC:20230910T120000
DTSTAMP:20260420T135738
CREATED:20230831T181835Z
LAST-MODIFIED:20230831T181835Z
UID:4528-1694340000-1694347200@nhcministries.org
SUMMARY:FILL YOUR ROLL FAMILY & FRIENDS
DESCRIPTION:
URL:https://nhcministries.org/event/fill-your-roll-family-friends/
END:VEVENT
BEGIN:VEVENT
DTSTART;TZID=UTC:20230910T100000
DTEND;TZID=UTC:20230910T120000
DTSTAMP:20260420T135738
CREATED:20230831T181345Z
LAST-MODIFIED:20230831T181345Z
UID:4521-1694340000-1694347200@nhcministries.org
SUMMARY:Service 10:00 AM - In Person & Facebook
DESCRIPTION:
URL:https://nhcministries.org/event/service-1000-am-in-person-facebook-2/
END:VEVENT
BEGIN:VEVENT
DTSTART;TZID=UTC:20230910T093000
DTEND;TZID=UTC:20230910T100000
DTSTAMP:20260420T135738
CREATED:20230831T182109Z
LAST-MODIFIED:20230831T182109Z
UID:4533-1694338200-1694340000@nhcministries.org
SUMMARY:Sunday Morning Prayer 9:30 AM - In Person
DESCRIPTION:
URL:https://nhcministries.org/event/sunday-morning-prayer-930-am-in-person-129/
END:VEVENT
BEGIN:VEVENT
DTSTART;TZID=UTC:20230907T183000
DTEND;TZID=UTC:20230907T203000
DTSTAMP:20260420T135738
CREATED:20230830T170017Z
LAST-MODIFIED:20230830T170631Z
UID:4469-1694111400-1694118600@nhcministries.org
SUMMARY:Praise Team Rehearsal 6:30 PM
DESCRIPTION:
URL:https://nhcministries.org/event/praise-team-rehearsal-630-pm-127/
END:VEVENT
BEGIN:VEVENT
DTSTART;TZID=UTC:20230907T160000
DTEND;TZID=UTC:20230907T180000
DTSTAMP:20260420T135738
CREATED:20230830T170848Z
LAST-MODIFIED:20230830T170848Z
UID:4479-1694102400-1694109600@nhcministries.org
SUMMARY:Project Hope Food Pantry    4:00 PM - 6:00 PM
DESCRIPTION:
URL:https://nhcministries.org/event/project-hope-food-pantry-400-pm-600-pm-59/
END:VEVENT
BEGIN:VEVENT
DTSTART;TZID=UTC:20230906T193000
DTEND;TZID=UTC:20230906T203000
DTSTAMP:20260420T135738
CREATED:20230830T171313Z
LAST-MODIFIED:20230830T171313Z
UID:4489-1694028600-1694032200@nhcministries.org
SUMMARY:Bible Study - In-Person & Google Meet 7:30 PM
DESCRIPTION:
URL:https://nhcministries.org/event/bible-study-in-person-google-meet-730-pm/
END:VEVENT
BEGIN:VEVENT
DTSTART;TZID=UTC:20230905T190000
DTEND;TZID=UTC:20230905T193000
DTSTAMP:20260420T135738
CREATED:20230831T180822Z
LAST-MODIFIED:20230831T180822Z
UID:4510-1693940400-1693942200@nhcministries.org
SUMMARY:Intercessory Prayer 7:00 PM   Dial In Number : 605-313-4822; Access Code: 603429
DESCRIPTION:
URL:https://nhcministries.org/event/intercessory-prayer-700-pm-dial-in-number-605-313-4822-access-code-603429-130/
END:VEVENT
BEGIN:VEVENT
DTSTART;TZID=UTC:20230903T100000
DTEND;TZID=UTC:20230903T120000
DTSTAMP:20260420T135738
CREATED:20230831T181301Z
LAST-MODIFIED:20230831T181725Z
UID:4519-1693735200-1693742400@nhcministries.org
SUMMARY:Service 10:00 AM - In Person & Facebook
DESCRIPTION:
URL:https://nhcministries.org/event/service-1000-am-in-person-facebook/
END:VEVENT
BEGIN:VEVENT
DTSTART;TZID=UTC:20230903T093000
DTEND;TZID=UTC:20230903T100000
DTSTAMP:20260420T135738
CREATED:20230831T182024Z
LAST-MODIFIED:20230831T182024Z
UID:4531-1693733400-1693735200@nhcministries.org
SUMMARY:Sunday Morning Prayer 9:30 AM - In Person
DESCRIPTION:
URL:https://nhcministries.org/event/sunday-morning-prayer-930-am-in-person-128/
END:VEVENT
BEGIN:VEVENT
DTSTART;TZID=UTC:20230902T090000
DTEND;TZID=UTC:20230902T103000
DTSTAMP:20260420T135738
CREATED:20230830T173047Z
LAST-MODIFIED:20230830T173047Z
UID:4499-1693645200-1693650600@nhcministries.org
SUMMARY:Leadership Meeting 9:00 AM
DESCRIPTION:
URL:https://nhcministries.org/event/leadership-meeting-900-am/
END:VEVENT
BEGIN:VEVENT
DTSTART;TZID=UTC:20230831T183000
DTEND;TZID=UTC:20230831T203000
DTSTAMP:20260420T135738
CREATED:20230731T224736Z
LAST-MODIFIED:20230731T224736Z
UID:4454-1693506600-1693513800@nhcministries.org
SUMMARY:Praise Team Rehearsal 6:30 PM
DESCRIPTION:
URL:https://nhcministries.org/event/praise-team-rehearsal-630-pm-126/
END:VEVENT
BEGIN:VEVENT
DTSTART;TZID=UTC:20230831T160000
DTEND;TZID=UTC:20230831T180000
DTSTAMP:20260420T135738
CREATED:20230731T222819Z
LAST-MODIFIED:20230731T222819Z
UID:4434-1693497600-1693504800@nhcministries.org
SUMMARY:Project Hope Food Pantry    4:00 PM - 6:00 PM
DESCRIPTION:
URL:https://nhcministries.org/event/project-hope-food-pantry-400-pm-600-pm-58/
END:VEVENT
BEGIN:VEVENT
DTSTART;TZID=UTC:20230830T193000
DTEND;TZID=UTC:20230830T203000
DTSTAMP:20260420T135738
CREATED:20230731T223325Z
LAST-MODIFIED:20230731T223325Z
UID:4442-1693423800-1693427400@nhcministries.org
SUMMARY:Bible Study - Google Meet 7:30 PM
DESCRIPTION:
URL:https://nhcministries.org/event/bible-study-google-meet-730-pm-24/
END:VEVENT
BEGIN:VEVENT
DTSTART;TZID=UTC:20230829T190000
DTEND;TZID=UTC:20230829T193000
DTSTAMP:20260420T135738
CREATED:20230731T221826Z
LAST-MODIFIED:20230731T221826Z
UID:4424-1693335600-1693337400@nhcministries.org
SUMMARY:Intercessory Prayer 7:00 PM   Dial In Number : 605-313-4822; Access Code: 603429
DESCRIPTION:
URL:https://nhcministries.org/event/intercessory-prayer-700-pm-dial-in-number-605-313-4822-access-code-603429-128/
END:VEVENT
BEGIN:VEVENT
DTSTART;TZID=UTC:20230827T100000
DTEND;TZID=UTC:20230827T120000
DTSTAMP:20260420T135738
CREATED:20230731T220847Z
LAST-MODIFIED:20230731T220847Z
UID:4410-1693130400-1693137600@nhcministries.org
SUMMARY:Worship Service 10:00 AM - In Person & Facebook
DESCRIPTION:
URL:https://nhcministries.org/event/worship-service-1000-am-in-person-facebook-92/
END:VEVENT
BEGIN:VEVENT
DTSTART;TZID=UTC:20230827T093000
DTEND;TZID=UTC:20230827T100000
DTSTAMP:20260420T135738
CREATED:20230731T221224Z
LAST-MODIFIED:20230731T221224Z
UID:4418-1693128600-1693130400@nhcministries.org
SUMMARY:Sunday Morning Prayer 9:30 AM - In Person
DESCRIPTION:
URL:https://nhcministries.org/event/sunday-morning-prayer-930-am-in-person-127/
END:VEVENT
BEGIN:VEVENT
DTSTART;TZID=UTC:20230826T140000
DTEND;TZID=UTC:20230826T143000
DTSTAMP:20260420T135738
CREATED:20230629T205731Z
LAST-MODIFIED:20230731T222231Z
UID:4383-1693058400-1693060200@nhcministries.org
SUMMARY:Farmers Market Fresh Produce  2:00 PM - 2:30 PM
DESCRIPTION:
URL:https://nhcministries.org/event/farmers-market-fresh-produce-200-pm-230-pm-4/
END:VEVENT
BEGIN:VEVENT
DTSTART;TZID=UTC:20230824T183000
DTEND;TZID=UTC:20230824T200000
DTSTAMP:20260420T135738
CREATED:20230731T224701Z
LAST-MODIFIED:20230731T224701Z
UID:4452-1692901800-1692907200@nhcministries.org
SUMMARY:Praise Team Rehearsal 6:30 PM
DESCRIPTION:
URL:https://nhcministries.org/event/praise-team-rehearsal-630-pm-125/
END:VEVENT
BEGIN:VEVENT
DTSTART;TZID=UTC:20230824T160000
DTEND;TZID=UTC:20230824T180000
DTSTAMP:20260420T135738
CREATED:20230731T222736Z
LAST-MODIFIED:20230731T222736Z
UID:4432-1692892800-1692900000@nhcministries.org
SUMMARY:Project Hope Food Pantry    4:00 PM - 6:00 PM
DESCRIPTION:
URL:https://nhcministries.org/event/project-hope-food-pantry-400-pm-600-pm-57/
END:VEVENT
BEGIN:VEVENT
DTSTART;TZID=UTC:20230823T193000
DTEND;TZID=UTC:20230823T203000
DTSTAMP:20260420T135738
CREATED:20230731T223238Z
LAST-MODIFIED:20230731T223238Z
UID:4440-1692819000-1692822600@nhcministries.org
SUMMARY:Bible Study - Google Meet 7:30 PM
DESCRIPTION:
URL:https://nhcministries.org/event/bible-study-google-meet-730-pm-23/
END:VEVENT
BEGIN:VEVENT
DTSTART;TZID=UTC:20230822T190000
DTEND;TZID=UTC:20230822T193000
DTSTAMP:20260420T135738
CREATED:20230731T221727Z
LAST-MODIFIED:20230731T221727Z
UID:4422-1692730800-1692732600@nhcministries.org
SUMMARY:Intercessory Prayer 7:00 PM   Dial In Number : 605-313-4822; Access Code: 603429
DESCRIPTION:
URL:https://nhcministries.org/event/intercessory-prayer-700-pm-dial-in-number-605-313-4822-access-code-603429-127/
END:VEVENT
BEGIN:VEVENT
DTSTART;TZID=UTC:20230820T100000
DTEND;TZID=UTC:20230820T120000
DTSTAMP:20260420T135738
CREATED:20230731T220800Z
LAST-MODIFIED:20230731T220800Z
UID:4408-1692525600-1692532800@nhcministries.org
SUMMARY:Worship Service 10:00 AM - In Person & Facebook
DESCRIPTION:
URL:https://nhcministries.org/event/worship-service-1000-am-in-person-facebook-91/
END:VEVENT
BEGIN:VEVENT
DTSTART;TZID=UTC:20230820T093000
DTEND;TZID=UTC:20230820T100000
DTSTAMP:20260420T135738
CREATED:20230731T221129Z
LAST-MODIFIED:20230731T221129Z
UID:4416-1692523800-1692525600@nhcministries.org
SUMMARY:Sunday Morning Prayer 9:30 AM - In Person
DESCRIPTION:
URL:https://nhcministries.org/event/sunday-morning-prayer-930-am-in-person-126/
END:VEVENT
BEGIN:VEVENT
DTSTART;TZID=UTC:20230819T090000
DTEND;TZID=UTC:20230819T100000
DTSTAMP:20260420T135738
CREATED:20230731T225228Z
LAST-MODIFIED:20230731T225228Z
UID:4458-1692435600-1692439200@nhcministries.org
SUMMARY:Women's Department Meeting - W.I.S.D.O.M. 9:00 AM  (605) 313-4822 Access Code 603429#
DESCRIPTION:
URL:https://nhcministries.org/event/womens-department-meeting-w-i-s-d-o-m-900-am-605-313-4822-access-code-603429-20/
END:VEVENT
BEGIN:VEVENT
DTSTART;TZID=UTC:20230817T183000
DTEND;TZID=UTC:20230817T203000
DTSTAMP:20260420T135738
CREATED:20230731T224614Z
LAST-MODIFIED:20230731T224614Z
UID:4450-1692297000-1692304200@nhcministries.org
SUMMARY:Praise Team Rehearsal 6:30 PM
DESCRIPTION:
URL:https://nhcministries.org/event/praise-team-rehearsal-630-pm-124/
END:VEVENT
BEGIN:VEVENT
DTSTART;TZID=UTC:20230817T160000
DTEND;TZID=UTC:20230817T180000
DTSTAMP:20260420T135738
CREATED:20230731T222652Z
LAST-MODIFIED:20230731T222652Z
UID:4430-1692288000-1692295200@nhcministries.org
SUMMARY:Project Hope Food Pantry    4:00 PM - 6:00 PM
DESCRIPTION:
URL:https://nhcministries.org/event/project-hope-food-pantry-400-pm-600-pm-56/
END:VEVENT
BEGIN:VEVENT
DTSTART;VALUE=DATE:20230816
DTEND;VALUE=DATE:20230817
DTSTAMP:20260420T135738
CREATED:20230731T223424Z
LAST-MODIFIED:20230731T223424Z
UID:4444-1692144000-1692230399@nhcministries.org
SUMMARY:Bible Study Cancelled
DESCRIPTION:
URL:https://nhcministries.org/event/bible-study-cancelled/
END:VEVENT
END:VCALENDAR