BEGIN:VCALENDAR
VERSION:2.0
PRODID:-//New Hope Christian Ministries - ECPv6.15.20//NONSGML v1.0//EN
CALSCALE:GREGORIAN
METHOD:PUBLISH
X-WR-CALNAME:New Hope Christian Ministries
X-ORIGINAL-URL:https://nhcministries.org
X-WR-CALDESC:Events for New Hope Christian Ministries
REFRESH-INTERVAL;VALUE=DURATION:PT1H
X-Robots-Tag:noindex
X-PUBLISHED-TTL:PT1H
BEGIN:VTIMEZONE
TZID:America/New_York
BEGIN:DAYLIGHT
TZOFFSETFROM:-0500
TZOFFSETTO:-0400
TZNAME:EDT
DTSTART:20240310T070000
END:DAYLIGHT
BEGIN:STANDARD
TZOFFSETFROM:-0400
TZOFFSETTO:-0500
TZNAME:EST
DTSTART:20241103T060000
END:STANDARD
BEGIN:DAYLIGHT
TZOFFSETFROM:-0500
TZOFFSETTO:-0400
TZNAME:EDT
DTSTART:20250309T070000
END:DAYLIGHT
BEGIN:STANDARD
TZOFFSETFROM:-0400
TZOFFSETTO:-0500
TZNAME:EST
DTSTART:20251102T060000
END:STANDARD
BEGIN:DAYLIGHT
TZOFFSETFROM:-0500
TZOFFSETTO:-0400
TZNAME:EDT
DTSTART:20260308T070000
END:DAYLIGHT
BEGIN:STANDARD
TZOFFSETFROM:-0400
TZOFFSETTO:-0500
TZNAME:EST
DTSTART:20261101T060000
END:STANDARD
END:VTIMEZONE
BEGIN:VEVENT
DTSTART;TZID=America/New_York:20250910T190000
DTEND;TZID=America/New_York:20250910T200000
DTSTAMP:20260420T220354
CREATED:20250923T154321Z
LAST-MODIFIED:20250923T154321Z
UID:5678-1757530800-1757534400@nhcministries.org
SUMMARY:Bible Study - Google Meet
DESCRIPTION:
URL:https://nhcministries.org/event/bible-study-google-meet-2/
END:VEVENT
BEGIN:VEVENT
DTSTART;TZID=America/New_York:20250911T160000
DTEND;TZID=America/New_York:20250911T180000
DTSTAMP:20260420T220354
CREATED:20250923T153140Z
LAST-MODIFIED:20250923T153140Z
UID:5649-1757606400-1757613600@nhcministries.org
SUMMARY:Project Hope Food Pantry
DESCRIPTION:
URL:https://nhcministries.org/event/project-hope-food-pantry-8/
END:VEVENT
BEGIN:VEVENT
DTSTART;TZID=America/New_York:20250911T183000
DTEND;TZID=America/New_York:20250911T200000
DTSTAMP:20260420T220354
CREATED:20250923T151659Z
LAST-MODIFIED:20250923T151659Z
UID:5626-1757615400-1757620800@nhcministries.org
SUMMARY:Praise Team Rehearsal
DESCRIPTION:
URL:https://nhcministries.org/event/praise-team-rehearsal-7/
END:VEVENT
BEGIN:VEVENT
DTSTART;TZID=America/New_York:20250914T093000
DTEND;TZID=America/New_York:20250914T100000
DTSTAMP:20260420T220354
CREATED:20250923T163459Z
LAST-MODIFIED:20250923T163459Z
UID:5758-1757842200-1757844000@nhcministries.org
SUMMARY:Morning Prayer - In Person
DESCRIPTION:
URL:https://nhcministries.org/event/morning-prayer-in-person-6/
END:VEVENT
BEGIN:VEVENT
DTSTART;TZID=America/New_York:20250914T100000
DTEND;TZID=America/New_York:20250914T120000
DTSTAMP:20260420T220354
CREATED:20250923T162413Z
LAST-MODIFIED:20250923T162413Z
UID:5741-1757844000-1757851200@nhcministries.org
SUMMARY:Worship Service - In Person & Facebook
DESCRIPTION:
URL:https://nhcministries.org/event/worship-service-in-person-facebook-6/
END:VEVENT
BEGIN:VEVENT
DTSTART;TZID=America/New_York:20250914T120000
DTEND;TZID=America/New_York:20250914T123000
DTSTAMP:20260420T220354
CREATED:20250923T173246Z
LAST-MODIFIED:20250923T173246Z
UID:5793-1757851200-1757853000@nhcministries.org
SUMMARY:Crochet Ministry
DESCRIPTION:
URL:https://nhcministries.org/event/crochet-ministry-2/
END:VEVENT
BEGIN:VEVENT
DTSTART;TZID=America/New_York:20250916T190000
DTEND;TZID=America/New_York:20250916T193000
DTSTAMP:20260420T220354
CREATED:20250923T161637Z
LAST-MODIFIED:20250923T161637Z
UID:5722-1758049200-1758051000@nhcministries.org
SUMMARY:Intercessory Prayer   Dial In Number : 605-313-4822; Access Code: 603429
DESCRIPTION:
URL:https://nhcministries.org/event/intercessory-prayer-dial-in-number-605-313-4822-access-code-603429-7/
END:VEVENT
BEGIN:VEVENT
DTSTART;TZID=America/New_York:20250917T183000
DTEND;TZID=America/New_York:20250917T190000
DTSTAMP:20260420T220354
CREATED:20250923T155227Z
LAST-MODIFIED:20250923T155227Z
UID:5706-1758133800-1758135600@nhcministries.org
SUMMARY:Auxiliary Meeting
DESCRIPTION:
URL:https://nhcministries.org/event/auxiliary-meeting-12/
END:VEVENT
BEGIN:VEVENT
DTSTART;TZID=America/New_York:20250917T190000
DTEND;TZID=America/New_York:20250917T200000
DTSTAMP:20260420T220354
CREATED:20250923T154429Z
LAST-MODIFIED:20250923T154429Z
UID:5683-1758135600-1758139200@nhcministries.org
SUMMARY:Bible Study - Google Meet
DESCRIPTION:
URL:https://nhcministries.org/event/bible-study-google-meet-3/
END:VEVENT
BEGIN:VEVENT
DTSTART;TZID=America/New_York:20250918T160000
DTEND;TZID=America/New_York:20250918T180000
DTSTAMP:20260420T220354
CREATED:20250923T153225Z
LAST-MODIFIED:20250923T153225Z
UID:5652-1758211200-1758218400@nhcministries.org
SUMMARY:Project Hope Food Pantry
DESCRIPTION:
URL:https://nhcministries.org/event/project-hope-food-pantry-9/
END:VEVENT
BEGIN:VEVENT
DTSTART;TZID=America/New_York:20250918T183000
DTEND;TZID=America/New_York:20250918T200000
DTSTAMP:20260420T220354
CREATED:20250923T153954Z
LAST-MODIFIED:20250923T153954Z
UID:5672-1758220200-1758225600@nhcministries.org
SUMMARY:Praise Team Rehearsal
DESCRIPTION:
URL:https://nhcministries.org/event/praise-team-rehearsal-15/
END:VEVENT
BEGIN:VEVENT
DTSTART;VALUE=DATE:20250920
DTEND;VALUE=DATE:20250921
DTSTAMP:20260420T220354
CREATED:20250923T173658Z
LAST-MODIFIED:20250923T173658Z
UID:5802-1758326400-1758412799@nhcministries.org
SUMMARY:NHCM Young Ladies day trip to Williamsburg\, VA
DESCRIPTION:
URL:https://nhcministries.org/event/nhcm-young-ladies-day-trip-to-williamsburg-va/
END:VEVENT
BEGIN:VEVENT
DTSTART;TZID=America/New_York:20250920T090000
DTEND;TZID=America/New_York:20250920T100000
DTSTAMP:20260420T220354
CREATED:20250923T172346Z
LAST-MODIFIED:20250923T172346Z
UID:5782-1758358800-1758362400@nhcministries.org
SUMMARY:Women's Department Meeting - W.I.S.D.O.M.   (605) 313-4822 Access Code 603429#
DESCRIPTION:
URL:https://nhcministries.org/event/womens-department-meeting-w-i-s-d-o-m-605-313-4822-access-code-603429-2/
END:VEVENT
BEGIN:VEVENT
DTSTART;TZID=America/New_York:20250921T093000
DTEND;TZID=America/New_York:20250921T100000
DTSTAMP:20260420T220354
CREATED:20250923T163537Z
LAST-MODIFIED:20250923T180023Z
UID:5761-1758447000-1758448800@nhcministries.org
SUMMARY:Morning Prayer - In Person
DESCRIPTION:
URL:https://nhcministries.org/event/morning-prayer-in-person-7/
END:VEVENT
BEGIN:VEVENT
DTSTART;TZID=America/New_York:20250921T100000
DTEND;TZID=America/New_York:20250921T120000
DTSTAMP:20260420T220354
CREATED:20250923T162450Z
LAST-MODIFIED:20250923T162450Z
UID:5744-1758448800-1758456000@nhcministries.org
SUMMARY:Worship Service - In Person & Facebook
DESCRIPTION:
URL:https://nhcministries.org/event/worship-service-in-person-facebook-7/
END:VEVENT
BEGIN:VEVENT
DTSTART;TZID=America/New_York:20250921T160000
DTEND;TZID=America/New_York:20250921T180000
DTSTAMP:20260420T220354
CREATED:20250923T173552Z
LAST-MODIFIED:20250923T173552Z
UID:5800-1758470400-1758477600@nhcministries.org
SUMMARY:Annual Men's Day Celebration
DESCRIPTION:
URL:https://nhcministries.org/event/annual-mens-day-celebration/
END:VEVENT
BEGIN:VEVENT
DTSTART;TZID=America/New_York:20250923T190000
DTEND;TZID=America/New_York:20250923T193000
DTSTAMP:20260420T220354
CREATED:20250923T161713Z
LAST-MODIFIED:20250923T161713Z
UID:5725-1758654000-1758655800@nhcministries.org
SUMMARY:Intercessory Prayer   Dial In Number : 605-313-4822; Access Code: 603429
DESCRIPTION:
URL:https://nhcministries.org/event/intercessory-prayer-dial-in-number-605-313-4822-access-code-603429-8/
END:VEVENT
BEGIN:VEVENT
DTSTART;TZID=America/New_York:20250924T183000
DTEND;TZID=America/New_York:20250924T190000
DTSTAMP:20260420T220354
CREATED:20250923T155303Z
LAST-MODIFIED:20250923T155303Z
UID:5708-1758738600-1758740400@nhcministries.org
SUMMARY:Auxiliary Meeting
DESCRIPTION:
URL:https://nhcministries.org/event/auxiliary-meeting-13/
END:VEVENT
BEGIN:VEVENT
DTSTART;TZID=America/New_York:20250924T190000
DTEND;TZID=America/New_York:20250924T200000
DTSTAMP:20260420T220354
CREATED:20250923T154510Z
LAST-MODIFIED:20250923T154510Z
UID:5686-1758740400-1758744000@nhcministries.org
SUMMARY:Bible Study - Google Meet
DESCRIPTION:
URL:https://nhcministries.org/event/bible-study-google-meet-4/
END:VEVENT
BEGIN:VEVENT
DTSTART;TZID=America/New_York:20250925T160000
DTEND;TZID=America/New_York:20250925T180000
DTSTAMP:20260420T220354
CREATED:20250923T153304Z
LAST-MODIFIED:20250923T153304Z
UID:5655-1758816000-1758823200@nhcministries.org
SUMMARY:Project Hope Food Pantry
DESCRIPTION:
URL:https://nhcministries.org/event/project-hope-food-pantry-10/
END:VEVENT
BEGIN:VEVENT
DTSTART;TZID=America/New_York:20250925T183000
DTEND;TZID=America/New_York:20250925T200000
DTSTAMP:20260420T220354
CREATED:20250923T151854Z
LAST-MODIFIED:20250923T151854Z
UID:5630-1758825000-1758830400@nhcministries.org
SUMMARY:Praise Team Rehearsal
DESCRIPTION:
URL:https://nhcministries.org/event/praise-team-rehearsal-9/
END:VEVENT
BEGIN:VEVENT
DTSTART;TZID=America/New_York:20250927T093000
DTEND;TZID=America/New_York:20250927T110000
DTSTAMP:20260420T220354
CREATED:20250923T172007Z
LAST-MODIFIED:20250923T172007Z
UID:5778-1758965400-1758970800@nhcministries.org
SUMMARY:S.A.L.T. Meeting
DESCRIPTION:
URL:https://nhcministries.org/event/s-a-l-t-meeting-2/
END:VEVENT
BEGIN:VEVENT
DTSTART;TZID=America/New_York:20250927T110000
DTEND;TZID=America/New_York:20250927T120000
DTSTAMP:20260420T220354
CREATED:20250923T171756Z
LAST-MODIFIED:20250923T171756Z
UID:5774-1758970800-1758974400@nhcministries.org
SUMMARY:Ministry Team Meeting
DESCRIPTION:
URL:https://nhcministries.org/event/ministry-team-meeting-4/
END:VEVENT
BEGIN:VEVENT
DTSTART;TZID=America/New_York:20250928T093000
DTEND;TZID=America/New_York:20250928T100000
DTSTAMP:20260420T220354
CREATED:20250923T163610Z
LAST-MODIFIED:20250923T163610Z
UID:5764-1759051800-1759053600@nhcministries.org
SUMMARY:Morning Prayer - In Person
DESCRIPTION:
URL:https://nhcministries.org/event/morning-prayer-in-person-8/
END:VEVENT
BEGIN:VEVENT
DTSTART;TZID=America/New_York:20250928T100000
DTEND;TZID=America/New_York:20250928T120000
DTSTAMP:20260420T220354
CREATED:20250923T162534Z
LAST-MODIFIED:20250923T162534Z
UID:5746-1759053600-1759060800@nhcministries.org
SUMMARY:Worship Service - In Person & Facebook
DESCRIPTION:
URL:https://nhcministries.org/event/worship-service-in-person-facebook-8/
END:VEVENT
BEGIN:VEVENT
DTSTART;TZID=America/New_York:20250930T190000
DTEND;TZID=America/New_York:20250930T193000
DTSTAMP:20260420T220354
CREATED:20250923T161751Z
LAST-MODIFIED:20250923T161751Z
UID:5727-1759258800-1759260600@nhcministries.org
SUMMARY:Intercessory Prayer   Dial In Number : 605-313-4822; Access Code: 603429
DESCRIPTION:
URL:https://nhcministries.org/event/intercessory-prayer-dial-in-number-605-313-4822-access-code-603429-9/
END:VEVENT
BEGIN:VEVENT
DTSTART;TZID=America/New_York:20251001T183000
DTEND;TZID=America/New_York:20251001T190000
DTSTAMP:20260420T220354
CREATED:20250923T155338Z
LAST-MODIFIED:20250923T155338Z
UID:5710-1759343400-1759345200@nhcministries.org
SUMMARY:Auxiliary Meeting
DESCRIPTION:
URL:https://nhcministries.org/event/auxiliary-meeting-14/
END:VEVENT
BEGIN:VEVENT
DTSTART;TZID=America/New_York:20251001T190000
DTEND;TZID=America/New_York:20251001T200000
DTSTAMP:20260420T220354
CREATED:20250923T154601Z
LAST-MODIFIED:20250923T154601Z
UID:5688-1759345200-1759348800@nhcministries.org
SUMMARY:Bible Study - Google Meet
DESCRIPTION:
URL:https://nhcministries.org/event/bible-study-google-meet-5/
END:VEVENT
BEGIN:VEVENT
DTSTART;TZID=America/New_York:20251002T160000
DTEND;TZID=America/New_York:20251002T180000
DTSTAMP:20260420T220354
CREATED:20250923T153353Z
LAST-MODIFIED:20250923T153353Z
UID:5659-1759420800-1759428000@nhcministries.org
SUMMARY:Project Hope Food Pantry
DESCRIPTION:
URL:https://nhcministries.org/event/project-hope-food-pantry-11/
END:VEVENT
BEGIN:VEVENT
DTSTART;TZID=America/New_York:20251002T183000
DTEND;TZID=America/New_York:20251002T200000
DTSTAMP:20260420T220354
CREATED:20250923T151950Z
LAST-MODIFIED:20250923T151950Z
UID:5632-1759429800-1759435200@nhcministries.org
SUMMARY:Praise Team Rehearsal
DESCRIPTION:
URL:https://nhcministries.org/event/praise-team-rehearsal-10/
END:VEVENT
END:VCALENDAR