BEGIN:VCALENDAR
VERSION:2.0
PRODID:-//New Hope Christian Ministries - ECPv6.15.20//NONSGML v1.0//EN
CALSCALE:GREGORIAN
METHOD:PUBLISH
X-WR-CALNAME:New Hope Christian Ministries
X-ORIGINAL-URL:https://nhcministries.org
X-WR-CALDESC:Events for New Hope Christian Ministries
REFRESH-INTERVAL;VALUE=DURATION:PT1H
X-Robots-Tag:noindex
X-PUBLISHED-TTL:PT1H
BEGIN:VTIMEZONE
TZID:America/New_York
BEGIN:DAYLIGHT
TZOFFSETFROM:-0500
TZOFFSETTO:-0400
TZNAME:EDT
DTSTART:20240310T070000
END:DAYLIGHT
BEGIN:STANDARD
TZOFFSETFROM:-0400
TZOFFSETTO:-0500
TZNAME:EST
DTSTART:20241103T060000
END:STANDARD
BEGIN:DAYLIGHT
TZOFFSETFROM:-0500
TZOFFSETTO:-0400
TZNAME:EDT
DTSTART:20250309T070000
END:DAYLIGHT
BEGIN:STANDARD
TZOFFSETFROM:-0400
TZOFFSETTO:-0500
TZNAME:EST
DTSTART:20251102T060000
END:STANDARD
BEGIN:DAYLIGHT
TZOFFSETFROM:-0500
TZOFFSETTO:-0400
TZNAME:EDT
DTSTART:20260308T070000
END:DAYLIGHT
BEGIN:STANDARD
TZOFFSETFROM:-0400
TZOFFSETTO:-0500
TZNAME:EST
DTSTART:20261101T060000
END:STANDARD
END:VTIMEZONE
BEGIN:VEVENT
DTSTART;TZID=America/New_York:20251008T183000
DTEND;TZID=America/New_York:20251008T190000
DTSTAMP:20260420T234123
CREATED:20250923T155422Z
LAST-MODIFIED:20250923T155422Z
UID:5712-1759948200-1759950000@nhcministries.org
SUMMARY:Auxiliary Meeting
DESCRIPTION:
URL:https://nhcministries.org/event/auxiliary-meeting-15/
END:VEVENT
BEGIN:VEVENT
DTSTART;TZID=America/New_York:20251008T190000
DTEND;TZID=America/New_York:20251008T200000
DTSTAMP:20260420T234123
CREATED:20250923T154642Z
LAST-MODIFIED:20250923T154642Z
UID:5690-1759950000-1759953600@nhcministries.org
SUMMARY:Bible Study - Google Meet
DESCRIPTION:
URL:https://nhcministries.org/event/bible-study-google-meet-6/
END:VEVENT
BEGIN:VEVENT
DTSTART;TZID=America/New_York:20251009T160000
DTEND;TZID=America/New_York:20251009T180000
DTSTAMP:20260420T234123
CREATED:20250923T153036Z
LAST-MODIFIED:20250923T153036Z
UID:5647-1760025600-1760032800@nhcministries.org
SUMMARY:Project Hope Food Pantry
DESCRIPTION:
URL:https://nhcministries.org/event/project-hope-food-pantry-7/
END:VEVENT
BEGIN:VEVENT
DTSTART;TZID=America/New_York:20251009T183000
DTEND;TZID=America/New_York:20251009T200000
DTSTAMP:20260420T234123
CREATED:20250923T152028Z
LAST-MODIFIED:20250923T152028Z
UID:5634-1760034600-1760040000@nhcministries.org
SUMMARY:Praise Team Rehearsal
DESCRIPTION:
URL:https://nhcministries.org/event/praise-team-rehearsal-11/
END:VEVENT
BEGIN:VEVENT
DTSTART;TZID=America/New_York:20251010T103000
DTEND;TZID=America/New_York:20251010T113000
DTSTAMP:20260420T234123
CREATED:20250923T174043Z
LAST-MODIFIED:20250923T174043Z
UID:5806-1760092200-1760095800@nhcministries.org
SUMMARY:Nursing Home Visit to H.H. Riverhouse
DESCRIPTION:
URL:https://nhcministries.org/event/nursing-home-visit-to-h-h-riverhouse/
END:VEVENT
BEGIN:VEVENT
DTSTART;TZID=America/New_York:20251012T093000
DTEND;TZID=America/New_York:20251012T100000
DTSTAMP:20260420T234123
CREATED:20250923T163724Z
LAST-MODIFIED:20250923T163724Z
UID:5768-1760261400-1760263200@nhcministries.org
SUMMARY:Morning Prayer - In Person
DESCRIPTION:
URL:https://nhcministries.org/event/morning-prayer-in-person-10/
END:VEVENT
BEGIN:VEVENT
DTSTART;TZID=America/New_York:20251012T100000
DTEND;TZID=America/New_York:20251012T120000
DTSTAMP:20260420T234123
CREATED:20250923T162700Z
LAST-MODIFIED:20250923T162700Z
UID:5750-1760263200-1760270400@nhcministries.org
SUMMARY:Worship Service - In Person & Facebook
DESCRIPTION:
URL:https://nhcministries.org/event/worship-service-in-person-facebook-10/
END:VEVENT
BEGIN:VEVENT
DTSTART;TZID=America/New_York:20251012T160000
DTEND;TZID=America/New_York:20251012T180000
DTSTAMP:20260420T234123
CREATED:20250923T174159Z
LAST-MODIFIED:20250923T174159Z
UID:5808-1760284800-1760292000@nhcministries.org
SUMMARY:Pastor's Pre-Anniversary Service
DESCRIPTION:
URL:https://nhcministries.org/event/pastors-pre-anniversary-service/
END:VEVENT
BEGIN:VEVENT
DTSTART;TZID=America/New_York:20251014T190000
DTEND;TZID=America/New_York:20251014T193000
DTSTAMP:20260420T234123
CREATED:20250923T162029Z
LAST-MODIFIED:20250923T162029Z
UID:5733-1760468400-1760470200@nhcministries.org
SUMMARY:Intercessory Prayer   Dial In Number : 605-313-4822; Access Code: 603429
DESCRIPTION:
URL:https://nhcministries.org/event/intercessory-prayer-dial-in-number-605-313-4822-access-code-603429-12/
END:VEVENT
BEGIN:VEVENT
DTSTART;TZID=America/New_York:20251015T183000
DTEND;TZID=America/New_York:20251015T190000
DTSTAMP:20260420T234123
CREATED:20250923T155510Z
LAST-MODIFIED:20250923T155510Z
UID:5714-1760553000-1760554800@nhcministries.org
SUMMARY:Auxiliary Meeting
DESCRIPTION:
URL:https://nhcministries.org/event/auxiliary-meeting-16/
END:VEVENT
BEGIN:VEVENT
DTSTART;TZID=America/New_York:20251015T190000
DTEND;TZID=America/New_York:20251015T200000
DTSTAMP:20260420T234123
CREATED:20250923T154738Z
LAST-MODIFIED:20250923T154738Z
UID:5693-1760554800-1760558400@nhcministries.org
SUMMARY:Bible Study - Google Meet
DESCRIPTION:
URL:https://nhcministries.org/event/bible-study-google-meet-7/
END:VEVENT
BEGIN:VEVENT
DTSTART;TZID=America/New_York:20251016T160000
DTEND;TZID=America/New_York:20251016T180000
DTSTAMP:20260420T234123
CREATED:20250923T153450Z
LAST-MODIFIED:20250923T153519Z
UID:5663-1760630400-1760637600@nhcministries.org
SUMMARY:Project Hope Food Pantry
DESCRIPTION:
URL:https://nhcministries.org/event/project-hope-food-pantry-12/
END:VEVENT
BEGIN:VEVENT
DTSTART;TZID=America/New_York:20251016T183000
DTEND;TZID=America/New_York:20251016T203000
DTSTAMP:20260420T234123
CREATED:20250923T152116Z
LAST-MODIFIED:20250923T152116Z
UID:5636-1760639400-1760646600@nhcministries.org
SUMMARY:Praise Team Rehearsal
DESCRIPTION:
URL:https://nhcministries.org/event/praise-team-rehearsal-12/
END:VEVENT
BEGIN:VEVENT
DTSTART;TZID=America/New_York:20251018T090000
DTEND;TZID=America/New_York:20251018T100000
DTSTAMP:20260420T234123
CREATED:20250923T172449Z
LAST-MODIFIED:20250923T172449Z
UID:5784-1760778000-1760781600@nhcministries.org
SUMMARY:Women's Department Meeting - W.I.S.D.O.M.   (605) 313-4822 Access Code 603429#
DESCRIPTION:
URL:https://nhcministries.org/event/womens-department-meeting-w-i-s-d-o-m-605-313-4822-access-code-603429-3/
END:VEVENT
BEGIN:VEVENT
DTSTART;TZID=America/New_York:20251018T130000
DTEND;TZID=America/New_York:20251018T150000
DTSTAMP:20260420T234123
CREATED:20250923T174251Z
LAST-MODIFIED:20250923T174251Z
UID:5811-1760792400-1760799600@nhcministries.org
SUMMARY:Harvest Festival
DESCRIPTION:
URL:https://nhcministries.org/event/harvest-festival/
END:VEVENT
BEGIN:VEVENT
DTSTART;TZID=America/New_York:20251019T093000
DTEND;TZID=America/New_York:20251019T100000
DTSTAMP:20260420T234123
CREATED:20250923T163807Z
LAST-MODIFIED:20250923T163807Z
UID:5770-1760866200-1760868000@nhcministries.org
SUMMARY:Morning Prayer - In Person
DESCRIPTION:
URL:https://nhcministries.org/event/morning-prayer-in-person-11/
END:VEVENT
BEGIN:VEVENT
DTSTART;TZID=America/New_York:20251019T100000
DTEND;TZID=America/New_York:20251019T120000
DTSTAMP:20260420T234123
CREATED:20250923T162738Z
LAST-MODIFIED:20250923T163053Z
UID:5752-1760868000-1760875200@nhcministries.org
SUMMARY:Worship Service - In Person & Facebook
DESCRIPTION:
URL:https://nhcministries.org/event/worship-service-in-person-facebook-11/
END:VEVENT
BEGIN:VEVENT
DTSTART;TZID=America/New_York:20251021T190000
DTEND;TZID=America/New_York:20251021T193000
DTSTAMP:20260420T234123
CREATED:20250923T162105Z
LAST-MODIFIED:20250923T162105Z
UID:5735-1761073200-1761075000@nhcministries.org
SUMMARY:Intercessory Prayer   Dial In Number : 605-313-4822; Access Code: 603429
DESCRIPTION:
URL:https://nhcministries.org/event/intercessory-prayer-dial-in-number-605-313-4822-access-code-603429-13/
END:VEVENT
BEGIN:VEVENT
DTSTART;TZID=America/New_York:20251022T183000
DTEND;TZID=America/New_York:20251022T190000
DTSTAMP:20260420T234123
CREATED:20250923T155600Z
LAST-MODIFIED:20250923T155600Z
UID:5716-1761157800-1761159600@nhcministries.org
SUMMARY:Auxiliary Meeting
DESCRIPTION:
URL:https://nhcministries.org/event/auxiliary-meeting-17/
END:VEVENT
BEGIN:VEVENT
DTSTART;TZID=America/New_York:20251022T190000
DTEND;TZID=America/New_York:20251022T200000
DTSTAMP:20260420T234123
CREATED:20250923T154826Z
LAST-MODIFIED:20250923T154826Z
UID:5695-1761159600-1761163200@nhcministries.org
SUMMARY:Bible Study - Google Meet
DESCRIPTION:
URL:https://nhcministries.org/event/bible-study-google-meet-8/
END:VEVENT
BEGIN:VEVENT
DTSTART;TZID=America/New_York:20251023T160000
DTEND;TZID=America/New_York:20251023T180000
DTSTAMP:20260420T234123
CREATED:20250923T153600Z
LAST-MODIFIED:20250923T153600Z
UID:5665-1761235200-1761242400@nhcministries.org
SUMMARY:Project Hope Food Pantry
DESCRIPTION:
URL:https://nhcministries.org/event/project-hope-food-pantry-13/
END:VEVENT
BEGIN:VEVENT
DTSTART;TZID=America/New_York:20251023T183000
DTEND;TZID=America/New_York:20251023T200000
DTSTAMP:20260420T234123
CREATED:20250923T152156Z
LAST-MODIFIED:20250923T152156Z
UID:5639-1761244200-1761249600@nhcministries.org
SUMMARY:Praise Team Rehearsal
DESCRIPTION:
URL:https://nhcministries.org/event/praise-team-rehearsal-13/
END:VEVENT
BEGIN:VEVENT
DTSTART;TZID=America/New_York:20251025T093000
DTEND;TZID=America/New_York:20251025T110000
DTSTAMP:20260420T234123
CREATED:20250923T172045Z
LAST-MODIFIED:20250923T172045Z
UID:5780-1761384600-1761390000@nhcministries.org
SUMMARY:S.A.L.T. Meeting
DESCRIPTION:
URL:https://nhcministries.org/event/s-a-l-t-meeting-3/
END:VEVENT
BEGIN:VEVENT
DTSTART;TZID=America/New_York:20251025T110000
DTEND;TZID=America/New_York:20251025T120000
DTSTAMP:20260420T234123
CREATED:20250923T171848Z
LAST-MODIFIED:20250923T171848Z
UID:5776-1761390000-1761393600@nhcministries.org
SUMMARY:Ministry Team Meeting
DESCRIPTION:
URL:https://nhcministries.org/event/ministry-team-meeting-5/
END:VEVENT
BEGIN:VEVENT
DTSTART;TZID=America/New_York:20251026T093000
DTEND;TZID=America/New_York:20251026T100000
DTSTAMP:20260420T234123
CREATED:20250923T163842Z
LAST-MODIFIED:20250923T163842Z
UID:5772-1761471000-1761472800@nhcministries.org
SUMMARY:Morning Prayer - In Person
DESCRIPTION:
URL:https://nhcministries.org/event/morning-prayer-in-person-12/
END:VEVENT
BEGIN:VEVENT
DTSTART;TZID=America/New_York:20251026T100000
DTEND;TZID=America/New_York:20251026T120000
DTSTAMP:20260420T234123
CREATED:20250923T162818Z
LAST-MODIFIED:20250923T162818Z
UID:5754-1761472800-1761480000@nhcministries.org
SUMMARY:Worship Service - In Person & Facebook
DESCRIPTION:
URL:https://nhcministries.org/event/worship-service-in-person-facebook-12/
END:VEVENT
BEGIN:VEVENT
DTSTART;TZID=America/New_York:20251026T120000
DTEND;TZID=America/New_York:20251026T130000
DTSTAMP:20260420T234123
CREATED:20250923T173029Z
LAST-MODIFIED:20250923T173029Z
UID:5791-1761480000-1761483600@nhcministries.org
SUMMARY:Board of Directors Meeting
DESCRIPTION:
URL:https://nhcministries.org/event/board-of-directors-meeting-11/
END:VEVENT
BEGIN:VEVENT
DTSTART;TZID=America/New_York:20251028T190000
DTEND;TZID=America/New_York:20251028T193000
DTSTAMP:20260420T234123
CREATED:20250923T162140Z
LAST-MODIFIED:20250923T162140Z
UID:5737-1761678000-1761679800@nhcministries.org
SUMMARY:Intercessory Prayer   Dial In Number : 605-313-4822; Access Code: 603429
DESCRIPTION:
URL:https://nhcministries.org/event/intercessory-prayer-dial-in-number-605-313-4822-access-code-603429-14/
END:VEVENT
BEGIN:VEVENT
DTSTART;TZID=America/New_York:20251029T183000
DTEND;TZID=America/New_York:20251029T190000
DTSTAMP:20260420T234123
CREATED:20250923T155639Z
LAST-MODIFIED:20250923T155639Z
UID:5718-1761762600-1761764400@nhcministries.org
SUMMARY:Auxiliary Meeting
DESCRIPTION:
URL:https://nhcministries.org/event/auxiliary-meeting-18/
END:VEVENT
BEGIN:VEVENT
DTSTART;TZID=America/New_York:20251029T190000
DTEND;TZID=America/New_York:20251029T200000
DTSTAMP:20260420T234123
CREATED:20250923T154902Z
LAST-MODIFIED:20250923T154902Z
UID:5698-1761764400-1761768000@nhcministries.org
SUMMARY:Bible Study - Google Meet
DESCRIPTION:
URL:https://nhcministries.org/event/bible-study-google-meet-9/
END:VEVENT
END:VCALENDAR